Workbook
Name Club: 'EQUIPE A 3'!$BF$5:$BF$26
Name JourneeCD: 'Jour Match'!$B$35:$C$40
Name JourneeCN: 'Jour Match'!$B$41:$C$47
Name JourneeE4: 'Jour Match'!$B$14:$C$25
Name JourneeE6: 'Jour Match'!$B$1:$C$13
Name JourneeEJ: 'Jour Match'!#REF!
Name JourneeEJ: 'Jour Match'!$B$26:$C$34
Name Listing: 'LISTE JOUEURS'!$A$2:$G$713

Sheet EQUIPE A 3
A1: Championnat départemental par équipes de TROIS (3) SEINE et MARNE - Saison 2025 - 2026 | CA1: Résultat | CB1: 3J | CC1: =R3 -> 0 | CD1: =+D2 | CE1: =IF(ISBLANK(D3),D2,D3) | CF1: =I3 -> 0 | CG1: =N3 -> 0 | CH1: =B6&" "&F6 | CI1: contre | CJ1: =N6&" "&R6 | CL1: =L26 -> 0 | CM1: =N26 -> 0 | CO1: =AK27 -> 0 | CP1: =AK28 -> 0 | CR1: =AL27 -> 0 | CS1: =ROUND(AL28,0) -> 0
A2: Date prévue | D2: =IFERROR(VLOOKUP(R3,JourneeE6,2,FALSE),"") | AC2: NOTICE : Important toujours utiliser une feuille de match originale
A3: Date réelle : | G3: DIVISION | M3: Poule | P3: Journée | AC3: Selectionner la journée, la division et la poule et la date rélle si différente de la date prévue officiellement | AY3: V/D | AZ3: Date | BA3: Code joueur | BI3: EXTERIEUR | BJ3: =Q9
AC4: Sélectionner les équipes et et numeros | AY4: vainqueur | AZ4: ='EQUIPE A 3'!$D$2 | BA4: =IFERROR(IF('EQUIPE A 3'!L16=1,VLOOKUP('EQUIPE A 3'!B6&'EQUIPE A 3'!B9,'LISTE JOUEURS'!$P:$U,6,0),VLOOKUP('EQUIPE A 3'!N6&'EQUIPE A 3'!P9,'LISTE JOUEURS'!$P:$U,6,0)),0) -> 0 | BB4: =+_xlfn.XLOOKUP(BA4,'LISTE JOUEURS'!$U:$U,'LISTE JOUEURS'!$Q:$Q)&" "&_xlfn.XLOOKUP(BA4,'LISTE JOUEURS'!$U:$U,'LISTE JOUEURS'!$R:$R) -> #N/A | BI4: EXTERIEUR | BJ4: =Q10
B5: Equipe receveuse | N5: Equipe visiteuse | AC5: Saisir les codes de chaque joueur, utiliser la liste ci-dessous apres avoir selectionne le club | AY5: perdant | AZ5: ='EQUIPE A 3'!$D$2 | BA5: =IFERROR(IF('EQUIPE A 3'!L16=0,VLOOKUP('EQUIPE A 3'!B6&'EQUIPE A 3'!B9,'LISTE JOUEURS'!$P:$U,6,0),VLOOKUP('EQUIPE A 3'!N6&'EQUIPE A 3'!P9,'LISTE JOUEURS'!$P:$U,6,0)),0) -> 0 | BB5: =+_xlfn.XLOOKUP(BA5,'LISTE JOUEURS'!$U:$U,'LISTE JOUEURS'!$Q:$Q)&" "&_xlfn.XLOOKUP(BA5,'LISTE JOUEURS'!$U:$U,'LISTE JOUEURS'!$R:$R) -> #N/A | BF5: BUSSY | BI5: EXTERIEUR | BJ5: =Q11
W6: =+'Coupes départementales'!W6 -> Mise à jour du 24 Novembre 2025 | AC6: Si joueur inconnu ne pas mettre de code et saisir Nom prenom directement | AY6: vainqueur | AZ6: ='EQUIPE A 3'!$D$2 | BA6: =IFERROR(IF('EQUIPE A 3'!L17=1,VLOOKUP('EQUIPE A 3'!B6&'EQUIPE A 3'!B10,'LISTE JOUEURS'!$P:$U,6,0),VLOOKUP('EQUIPE A 3'!N6&'EQUIPE A 3'!P10,'LISTE JOUEURS'!$P:$U,6,0)),0) -> 0 | BB6: =+_xlfn.XLOOKUP(BA6,'LISTE JOUEURS'!$U:$U,'LISTE JOUEURS'!$Q:$Q)&" "&_xlfn.XLOOKUP(BA6,'LISTE JOUEURS'!$U:$U,'LISTE JOUEURS'!$R:$R) -> #N/A | BF6: CHAINTREAUX | BI6: RECEVEUSE | BJ6: =C9
AC7: Indiquer un score positif si c'est le joueur à domicile qui gagne le set et un score négatif si le joueur extérieur gagne le set. | AY7: perdant | AZ7: ='EQUIPE A 3'!$D$2 | BA7: =IFERROR(IF('EQUIPE A 3'!L17=0,VLOOKUP('EQUIPE A 3'!B6&'EQUIPE A 3'!B10,'LISTE JOUEURS'!$P:$U,6,0),VLOOKUP('EQUIPE A 3'!N6&'EQUIPE A 3'!P10,'LISTE JOUEURS'!$P:$U,6,0)),0) -> 0 | BB7: =+_xlfn.XLOOKUP(BA7,'LISTE JOUEURS'!$U:$U,'LISTE JOUEURS'!$Q:$Q)&" "&_xlfn.XLOOKUP(BA7,'LISTE JOUEURS'!$U:$U,'LISTE JOUEURS'!$R:$R) -> #N/A | BF7: CHAMBRY | BI7: RECEVEUSE | BJ7: =C10
C8: NOM - Prénom | I8: Clt. | J8: Licence | P8: Code | Q8: NOM - Prénom | X8: Clt. | Y8: Licence | AC8: Marquer 0,1 ou -0,1 lorsqu'un des joueurs gagne 11/0 en respectant le signe indiqué au dessus, 0 sera alors affiché | AY8: vainqueur | AZ8: ='EQUIPE A 3'!$D$2 | BA8: =IFERROR(IF('EQUIPE A 3'!L18=1,VLOOKUP('EQUIPE A 3'!B6&'EQUIPE A 3'!B11,'LISTE JOUEURS'!$P:$U,6,0),VLOOKUP('EQUIPE A 3'!N6&'EQUIPE A 3'!P11,'LISTE JOUEURS'!$P:$U,6,0)),0) -> 0 | BB8: =+_xlfn.XLOOKUP(BA8,'LISTE JOUEURS'!$U:$U,'LISTE JOUEURS'!$Q:$Q)&" "&_xlfn.XLOOKUP(BA8,'LISTE JOUEURS'!$U:$U,'LISTE JOUEURS'!$R:$R) -> #N/A | BF8: COULOMMIERS | BI8: RECEVEUSE | BJ8: =C11
A9: A | C9: =IF(B9="","",IFERROR(VLOOKUP($B$6&$B9,'LISTE JOUEURS'!$P:$S,2,0),"")) &" "& IF(B9="","",IFERROR(VLOOKUP($B$6&$B9,'LISTE JOUEURS'!$P:$S,3,0),"")) | I9: =IF(B9="","",IFERROR(VLOOKUP($B$6&$B9,'LISTE JOUEURS'!$P:$S,4,0),500)) | J9: =IF(B9="","",IFERROR(VLOOKUP($B$6&$B9,'LISTE JOUEURS'!$P:$T,5,0),"")) | O9: X | Q9: =IF(P9="","",IFERROR(VLOOKUP($N$6&$P9,'LISTE JOUEURS'!$P:$S,2,0),""))& " "&IF(P9="","",IFERROR(VLOOKUP($N$6&$P9,'LISTE JOUEURS'!$P:$S,3,0),"")) | X9: =IF(P9="","",IFERROR(VLOOKUP($N$6&$P9,'LISTE JOUEURS'!$P:$S,4,0),500)) | Y9: =IF(P9="","",IFERROR(VLOOKUP($N$6&$P9,'LISTE JOUEURS'!$P:$T,5,0),"")) | AC9: Si joueur forfait saisir 0 (zéro) pour code, pas de score à sasir, le tableau se remplira automatiqement | AY9: perdant | AZ9: ='EQUIPE A 3'!$D$2 | BA9: =IFERROR(IF('EQUIPE A 3'!L18=0,VLOOKUP('EQUIPE A 3'!B6&'EQUIPE A 3'!B11,'LISTE JOUEURS'!$P:$U,6,0),VLOOKUP('EQUIPE A 3'!N6&'EQUIPE A 3'!P11,'LISTE JOUEURS'!$P:$U,6,0)),0) -> 0 | BB9: =+_xlfn.XLOOKUP(BA9,'LISTE JOUEURS'!$U:$U,'LISTE JOUEURS'!$Q:$Q)&" "&_xlfn.XLOOKUP(BA9,'LISTE JOUEURS'!$U:$U,'LISTE JOUEURS'!$R:$R) -> #N/A | BF9: COURTOMER
A10: B | C10: =IF(B10="","",IFERROR(VLOOKUP($B$6&$B10,'LISTE JOUEURS'!$P:$S,2,0),"")) &" "& IF(B10="","",IFERROR(VLOOKUP($B$6&$B10,'LISTE JOUEURS'!$P:$S,3,0),"")) | I10: =IF(B10="","",IFERROR(VLOOKUP($B$6&$B10,'LISTE JOUEURS'!$P:$S,4,0),500)) | J10: =IF(B10="","",IFERROR(VLOOKUP($B$6&$B10,'LISTE JOUEURS'!$P:$T,5,0),"")) | O10: Y | Q10: =IF(P10="","",IFERROR(VLOOKUP($N$6&$P10,'LISTE JOUEURS'!$P:$S,2,0),""))& " "&IF(P10="","",IFERROR(VLOOKUP($N$6&$P10,'LISTE JOUEURS'!$P:$S,3,0),"")) | X10: =IF(P10="","",IFERROR(VLOOKUP($N$6&$P10,'LISTE JOUEURS'!$P:$S,4,0),500)) | Y10: =IF(P10="","",IFERROR(VLOOKUP($N$6&$P10,'LISTE JOUEURS'!$P:$T,5,0),"")) | AC10: Si abandon d'un joueur avant de commencer la partie saisir 99 (ou -99) dans la case du premier set uniquement et pour tous ses matches suivants | AY10: vainqueur | AZ10: ='EQUIPE A 3'!$D$2 | BA10: =IFERROR(IF('EQUIPE A 3'!L20=1,VLOOKUP('EQUIPE A 3'!B6&'EQUIPE A 3'!B10,'LISTE JOUEURS'!$P:$U,6,0),VLOOKUP('EQUIPE A 3'!N6&'EQUIPE A 3'!P9,'LISTE JOUEURS'!$P:$U,6,0)),0) -> 0 | BB10: =+_xlfn.XLOOKUP(BA10,'LISTE JOUEURS'!$U:$U,'LISTE JOUEURS'!$Q:$Q)&" "&_xlfn.XLOOKUP(BA10,'LISTE JOUEURS'!$U:$U,'LISTE JOUEURS'!$R:$R) -> #N/A | BF10: FAVIERES
A11: C | C11: =IF(B11="","",IFERROR(VLOOKUP($B$6&$B11,'LISTE JOUEURS'!$P:$S,2,0),"")) &" "& IF(B11="","",IFERROR(VLOOKUP($B$6&$B11,'LISTE JOUEURS'!$P:$S,3,0),"")) | I11: =IF(B11="","",IFERROR(VLOOKUP($B$6&$B11,'LISTE JOUEURS'!$P:$S,4,0),500)) | J11: =IF(B11="","",IFERROR(VLOOKUP($B$6&$B11,'LISTE JOUEURS'!$P:$T,5,0),"")) | O11: Z | Q11: =IF(P11="","",IFERROR(VLOOKUP($N$6&$P11,'LISTE JOUEURS'!$P:$S,2,0),""))& " "&IF(P11="","",IFERROR(VLOOKUP($N$6&$P11,'LISTE JOUEURS'!$P:$S,3,0),"")) | X11: =IF(P11="","",IFERROR(VLOOKUP($N$6&$P11,'LISTE JOUEURS'!$P:$S,4,0),500)) | Y11: =IF(P11="","",IFERROR(VLOOKUP($N$6&$P11,'LISTE JOUEURS'!$P:$T,5,0),"")) | AC11: Si abandon d'un joueur en cours de partie mettre 88 (ou -88) dans la case du premer set uniquement et pour tous ses matches suivants. | AY11: perdant | AZ11: ='EQUIPE A 3'!$D$2 | BA11: =IFERROR(IF('EQUIPE A 3'!L20=0,VLOOKUP('EQUIPE A 3'!B6&'EQUIPE A 3'!B10,'LISTE JOUEURS'!$P:$U,6,0),VLOOKUP('EQUIPE A 3'!N6&'EQUIPE A 3'!P9,'LISTE JOUEURS'!$P:$U,6,0)),0) -> 0 | BB11: =+_xlfn.XLOOKUP(BA11,'LISTE JOUEURS'!$U:$U,'LISTE JOUEURS'!$Q:$Q)&" "&_xlfn.XLOOKUP(BA11,'LISTE JOUEURS'!$U:$U,'LISTE JOUEURS'!$R:$R) -> #N/A | BF11: FERRIERES
A12: Double | C12: =IF(B12="","",IFERROR(VLOOKUP($B$6&$B12,'LISTE JOUEURS'!$P:$S,2,0),"")) &" "& IF(B12="","",IFERROR(VLOOKUP($B$6&$B12,'LISTE JOUEURS'!$P:$S,3,0),"")) | I12: =IF(B12="","",IFERROR(VLOOKUP($B$6&$B12,'LISTE JOUEURS'!$P:$S,4,0),500)) | J12: =IF(B12="","",IFERROR(VLOOKUP($B$6&$B12,'LISTE JOUEURS'!$P:$T,5,0),"")) | O12: Double | Q12: =IF(P12="","",IFERROR(VLOOKUP($N$6&$P12,'LISTE JOUEURS'!$P:$S,2,0),""))& " "&IF(P12="","",IFERROR(VLOOKUP($N$6&$P12,'LISTE JOUEURS'!$P:$S,3,0),"")) | X12: =IF(P12="","",IFERROR(VLOOKUP($N$6&$P12,'LISTE JOUEURS'!$P:$S,4,0),500)) | Y12: =IF(P12="","",IFERROR(VLOOKUP($N$6&$P12,'LISTE JOUEURS'!$P:$T,5,0),"")) | AC12: Un joueur déclarant forfait l'est également pour les matches suivants de la rencontre | AY12: vainqueur | AZ12: ='EQUIPE A 3'!$D$2 | BA12: =IFERROR(IF('EQUIPE A 3'!L21=1,VLOOKUP('EQUIPE A 3'!B6&'EQUIPE A 3'!B9,'LISTE JOUEURS'!$P:$U,6,0),VLOOKUP('EQUIPE A 3'!N6&'EQUIPE A 3'!P11,'LISTE JOUEURS'!$P:$U,6,0)),0) -> 0 | BB12: =+_xlfn.XLOOKUP(BA12,'LISTE JOUEURS'!$U:$U,'LISTE JOUEURS'!$Q:$Q)&" "&_xlfn.XLOOKUP(BA12,'LISTE JOUEURS'!$U:$U,'LISTE JOUEURS'!$R:$R) -> #N/A | BF12: JOUY SUR MORIN
C13: =IF(B13="","",IFERROR(VLOOKUP($B$6&$B13,'LISTE JOUEURS'!$P:$S,2,0),"")) &" "& IF(B13="","",IFERROR(VLOOKUP($B$6&$B13,'LISTE JOUEURS'!$P:$S,3,0),"")) | I13: =IF(B13="","",IFERROR(VLOOKUP($B$6&$B13,'LISTE JOUEURS'!$P:$S,4,0),500)) | J13: =IF(B13="","",IFERROR(VLOOKUP($B$6&$B13,'LISTE JOUEURS'!$P:$T,5,0),"")) | Q13: =IF(P13="","",IFERROR(VLOOKUP($N$6&$P13,'LISTE JOUEURS'!$P:$S,2,0),""))& " "&IF(P13="","",IFERROR(VLOOKUP($N$6&$P13,'LISTE JOUEURS'!$P:$S,3,0),"")) | X13: =IF(P13="","",IFERROR(VLOOKUP($N$6&$P13,'LISTE JOUEURS'!$P:$S,4,0),500)) | Y13: =IF(P13="","",IFERROR(VLOOKUP($N$6&$P13,'LISTE JOUEURS'!$P:$T,5,0),"")) | AC13: Sur les feuilles d'arbitrage fournies à titre indicatif les noms des joueurs sont ajoutés automatiquement | AY13: perdant | AZ13: ='EQUIPE A 3'!$D$2 | BA13: =IFERROR(IF('EQUIPE A 3'!L21=0,VLOOKUP('EQUIPE A 3'!B6&'EQUIPE A 3'!B9,'LISTE JOUEURS'!$P:$U,6,0),VLOOKUP('EQUIPE A 3'!N6&'EQUIPE A 3'!P11,'LISTE JOUEURS'!$P:$U,6,0)),0) -> 0 | BB13: =+_xlfn.XLOOKUP(BA13,'LISTE JOUEURS'!$U:$U,'LISTE JOUEURS'!$Q:$Q)&" "&_xlfn.XLOOKUP(BA13,'LISTE JOUEURS'!$U:$U,'LISTE JOUEURS'!$R:$R) -> #N/A | BF13: MAROLLES
A14: (victoire en simple 1 pt, en double 2 pt) | AC14: Envoyer sous format EXCEL la feuille de résultat | AY14: vainqueur | AZ14: ='EQUIPE A 3'!$D$2 | BA14: =IFERROR(IF('EQUIPE A 3'!L22=1,VLOOKUP('EQUIPE A 3'!B6&'EQUIPE A 3'!B11,'LISTE JOUEURS'!$P:$U,6,0),VLOOKUP('EQUIPE A 3'!N6&'EQUIPE A 3'!P10,'LISTE JOUEURS'!$P:$U,6,0)),0) -> 0 | BB14: =+_xlfn.XLOOKUP(BA14,'LISTE JOUEURS'!$U:$U,'LISTE JOUEURS'!$Q:$Q)&" "&_xlfn.XLOOKUP(BA14,'LISTE JOUEURS'!$U:$U,'LISTE JOUEURS'!$R:$R) -> #N/A | BF14: MELUN
A15: Set 1 | B15: Set 2 | C15: Set 3 | D15: Set 4 | E15: Set 5 | F15: =+B6&" "&F6 | L15: ABC | N15: XYZ | O15: =+N6& " "&R6 | U15: Remarque | AI15: SET1 | AJ15: SET2 | AK15: SET3 | AL15: SET4 | AM15: SET5 | AN15: SET1 | AO15: SET2 | AP15: SET3 | AQ15: SET4 | AR15: SET5 | AS15: SET1 | AT15: SET2 | AU15: SET3 | AV15: SET4 | AW15: SET5 | AY15: perdant | AZ15: ='EQUIPE A 3'!$D$2 | BA15: =IFERROR(IF('EQUIPE A 3'!L22=0,VLOOKUP('EQUIPE A 3'!B6&'EQUIPE A 3'!B11,'LISTE JOUEURS'!$P:$U,6,0),VLOOKUP('EQUIPE A 3'!N6&'EQUIPE A 3'!P10,'LISTE JOUEURS'!$P:$U,6,0)),0) -> 0 | BB15: =+_xlfn.XLOOKUP(BA15,'LISTE JOUEURS'!$U:$U,'LISTE JOUEURS'!$Q:$Q)&" "&_xlfn.XLOOKUP(BA15,'LISTE JOUEURS'!$U:$U,'LISTE JOUEURS'!$R:$R) -> #N/A | BF15: MONTHYON
F16: =C9 | L16: =IF(ISNUMBER(A16),IF(OR(COUNTIF(A16:E16,">=0")>3,COUNTIF(A16:E16,"<0")>3),"",IF((COUNTIF(A16:E16,">=0")-COUNTIF(A16:E16,"<0"))<0,0,1)),IF(OR(F16="Forfait W.O.",A16=-88,A16=-99),0,IF(OR(O16="Forfait W.O.",A16=99,A16=88),1,""))) | M16: A - X | N16: =IF(AND(ISNUMBER(A16),ISNUMBER(L16)),1-L16,IF(O16="Forfait W.O.",0,IF(F16="Forfait W.O.",1,""))) | O16: =Q9 | U16: =IF(OR(COUNTIF(A16:E16,">=0")>3,COUNTIF(A16:E16,"<0")>3),"Sets mal notés. Refaire la saisie svp",IF(ABS(A16)=99,"Abandon avant le début de la partie",IF(ABS(A16)=88,"Abandon en cours de partie"," "))) | AC16: CLUB | AD16: VENEUX | AI16: =IF(A16>0,1,IF(A16<0,-1,0)) -> 0 | AJ16: =IF(B16>0,1,IF(B16<0,-1,0)) -> 0 | AK16: =IF(C16>0,1,IF(C16<0,-1,0)) -> 0 | AL16: =IF(D16>0,1,IF(D16<0,-1,0)) -> 0 | AM16: =IF(E16>0,1,IF(E16<0,-1,0)) -> 0 | AN16: =IF(AND(A16>0,A16<10),11,IF(AND(A16>0,A16>9),A16+2,IF(AND(A16<0,A16>-10),-11,IF(AND(A16<0,A16<-9),A16-2,0)))) -> 0 | AO16: =IF(AND(B16>0,B16<10),11,IF(AND(B16>0,B16>9),B16+2,IF(AND(B16<0,B16>-10),-11,IF(AND(B16<0,B16<-9),B16-2,0)))) -> 0 | AP16: =IF(AND(C16>0,C16<10),11,IF(AND(C16>0,C16>9),C16+2,IF(AND(C16<0,C16>-10),-11,IF(AND(C16<0,C16<-9),C16-2,0)))) -> 0 | AQ16: =IF(AND(D16>0,D16<10),11,IF(AND(D16>0,D16>9),D16+2,IF(AND(D16<0,D16>-10),-11,IF(AND(D16<0,D16<-9),D16-2,0)))) -> 0 | AR16: =IF(AND(E16>0,E16<10),11,IF(AND(E16>0,E16>9),E16+2,IF(AND(E16<0,E16>-10),-11,IF(AND(E16<0,E16<-9),E16-2,0)))) -> 0 | AS16: =-A16 -> 0 | AT16: =-B16 -> 0 | AU16: =-C16 -> 0 | AV16: =-D16 -> 0 | AW16: =-E16 -> 0 | AY16: vainqueur | AZ16: ='EQUIPE A 3'!$D$2 | BA16: =IFERROR(IF('EQUIPE A 3'!L23=1,VLOOKUP('EQUIPE A 3'!B6&'EQUIPE A 3'!B10,'LISTE JOUEURS'!$P:$U,6,0),VLOOKUP('EQUIPE A 3'!N6&'EQUIPE A 3'!P11,'LISTE JOUEURS'!$P:$U,6,0)),0) -> 0 | BB16: =+_xlfn.XLOOKUP(BA16,'LISTE JOUEURS'!$U:$U,'LISTE JOUEURS'!$Q:$Q)&" "&_xlfn.XLOOKUP(BA16,'LISTE JOUEURS'!$U:$U,'LISTE JOUEURS'!$R:$R) -> #N/A | BF16: MOUSSY
F17: =C10 | L17: =IF(ISNUMBER(A17),IF(OR(COUNTIF(A17:E17,">=0")>3,COUNTIF(A17:E17,"<0")>3),"",IF((COUNTIF(A17:E17,">=0")-COUNTIF(A17:E17,"<0"))<0,0,1)),IF(OR(F17="Forfait W.O.",A17=-88,A17=-99),0,IF(OR(O17="Forfait W.O.",A17=99,A17=88),1,""))) | M17: B - Y | N17: =IF(AND(ISNUMBER(A17),ISNUMBER(L17)),1-L17,IF(O17="Forfait W.O.",0,IF(F17="Forfait W.O.",1,""))) | O17: =Q10 | U17: =IF(OR(COUNTIF(A17:E17,">=0")>3,COUNTIF(A17:E17,"<0")>3),"Sets mal notés. Refaire la saisie svp",IF(ABS(A17)=99,"Abandon avant le début de la partie",IF(ABS(A17)=88,"Abandon en cours de partie"," "))) | AI17: =IF(A17>0,1,IF(A17<0,-1,0)) -> 0 | AJ17: =IF(B17>0,1,IF(B17<0,-1,0)) -> 0 | AK17: =IF(C17>0,1,IF(C17<0,-1,0)) -> 0 | AL17: =IF(D17>0,1,IF(D17<0,-1,0)) -> 0 | AM17: =IF(E17>0,1,IF(E17<0,-1,0)) -> 0 | AN17: =IF(AND(A17>0,A17<10),11,IF(AND(A17>0,A17>9),A17+2,IF(AND(A17<0,A17>-10),-11,IF(AND(A17<0,A17<-9),A17-2,0)))) -> 0 | AO17: =IF(AND(B17>0,B17<10),11,IF(AND(B17>0,B17>9),B17+2,IF(AND(B17<0,B17>-10),-11,IF(AND(B17<0,B17<-9),B17-2,0)))) -> 0 | AP17: =IF(AND(C17>0,C17<10),11,IF(AND(C17>0,C17>9),C17+2,IF(AND(C17<0,C17>-10),-11,IF(AND(C17<0,C17<-9),C17-2,0)))) -> 0 | AQ17: =IF(AND(D17>0,D17<10),11,IF(AND(D17>0,D17>9),D17+2,IF(AND(D17<0,D17>-10),-11,IF(AND(D17<0,D17<-9),D17-2,0)))) -> 0 | AR17: =IF(AND(E17>0,E17<10),11,IF(AND(E17>0,E17>9),E17+2,IF(AND(E17<0,E17>-10),-11,IF(AND(E17<0,E17<-9),E17-2,0)))) -> 0 | AS17: =-A17 -> 0 | AT17: =-B17 -> 0 | AU17: =-C17 -> 0 | AV17: =-D17 -> 0 | AW17: =-E17 -> 0 | AY17: perdant | AZ17: ='EQUIPE A 3'!$D$2 | BA17: =IFERROR(IF('EQUIPE A 3'!L23=0,VLOOKUP('EQUIPE A 3'!B6&'EQUIPE A 3'!B10,'LISTE JOUEURS'!$P:$U,6,0),VLOOKUP('EQUIPE A 3'!N6&'EQUIPE A 3'!P11,'LISTE JOUEURS'!$P:$U,6,0)),0) -> 0 | BB17: =+_xlfn.XLOOKUP(BA17,'LISTE JOUEURS'!$U:$U,'LISTE JOUEURS'!$Q:$Q)&" "&_xlfn.XLOOKUP(BA17,'LISTE JOUEURS'!$U:$U,'LISTE JOUEURS'!$R:$R) -> #N/A | BF17: NANTOUILLET
F18: =C11 | L18: =IF(ISNUMBER(A18),IF(OR(COUNTIF(A18:E18,">=0")>3,COUNTIF(A18:E18,"<0")>3),"",IF((COUNTIF(A18:E18,">=0")-COUNTIF(A18:E18,"<0"))<0,0,1)),IF(OR(F18="Forfait W.O.",A18=-88,A18=-99),0,IF(OR(O18="Forfait W.O.",A18=99,A18=88),1,""))) | M18: C - Z | N18: =IF(AND(ISNUMBER(A18),ISNUMBER(L18)),1-L18,IF(O18="Forfait W.O.",0,IF(F18="Forfait W.O.",1,""))) | O18: =Q11 | U18: =IF(OR(COUNTIF(A18:E18,">=0")>3,COUNTIF(A18:E18,"<0")>3),"Sets mal notés. Refaire la saisie svp",IF(ABS(A18)=99,"Abandon avant le début de la partie",IF(ABS(A18)=88,"Abandon en cours de partie"," "))) | AC18: NOM | AD18: PRENOM | AE18: Code | AF18: Licence ? | AI18: =IF(A18>0,1,IF(A18<0,-1,0)) -> 0 | AJ18: =IF(B18>0,1,IF(B18<0,-1,0)) -> 0 | AK18: =IF(C18>0,1,IF(C18<0,-1,0)) -> 0 | AL18: =IF(D18>0,1,IF(D18<0,-1,0)) -> 0 | AM18: =IF(E18>0,1,IF(E18<0,-1,0)) -> 0 | AN18: =IF(AND(A18>0,A18<10),11,IF(AND(A18>0,A18>9),A18+2,IF(AND(A18<0,A18>-10),-11,IF(AND(A18<0,A18<-9),A18-2,0)))) -> 0 | AO18: =IF(AND(B18>0,B18<10),11,IF(AND(B18>0,B18>9),B18+2,IF(AND(B18<0,B18>-10),-11,IF(AND(B18<0,B18<-9),B18-2,0)))) -> 0 | AP18: =IF(AND(C18>0,C18<10),11,IF(AND(C18>0,C18>9),C18+2,IF(AND(C18<0,C18>-10),-11,IF(AND(C18<0,C18<-9),C18-2,0)))) -> 0 | AQ18: =IF(AND(D18>0,D18<10),11,IF(AND(D18>0,D18>9),D18+2,IF(AND(D18<0,D18>-10),-11,IF(AND(D18<0,D18<-9),D18-2,0)))) -> 0 | AR18: =IF(AND(E18>0,E18<10),11,IF(AND(E18>0,E18>9),E18+2,IF(AND(E18<0,E18>-10),-11,IF(AND(E18<0,E18<-9),E18-2,0)))) -> 0 | AS18: =-A18 -> 0 | AT18: =-B18 -> 0 | AU18: =-C18 -> 0 | AV18: =-D18 -> 0 | AW18: =-E18 -> 0 | AY18: vainqueur | AZ18: ='EQUIPE A 3'!$D$2 | BA18: =IFERROR(IF('EQUIPE A 3'!L24=1,VLOOKUP('EQUIPE A 3'!B6&'EQUIPE A 3'!B11,'LISTE JOUEURS'!$P:$U,6,0),VLOOKUP('EQUIPE A 3'!N6&'EQUIPE A 3'!P9,'LISTE JOUEURS'!$P:$U,6,0)),0) -> 0 | BB18: =+_xlfn.XLOOKUP(BA18,'LISTE JOUEURS'!$U:$U,'LISTE JOUEURS'!$Q:$Q)&" "&_xlfn.XLOOKUP(BA18,'LISTE JOUEURS'!$U:$U,'LISTE JOUEURS'!$R:$R) -> #N/A | BC18: Division | BD18: Excellence | BF18: PONTHIERRY
F19: =B6&" "&F6 | L19: =IF(ISNUMBER(A19),IF(OR(COUNTIF(A19:E19,">=0")>3,COUNTIF(A19:E19,"<0")>3),"XXX",IF((COUNTIF(A19:E19,">=0")-COUNTIF(A19:E19,"<0"))<0,0,IF($I$3="SuperDiv",8,2))),IF(OR(RIGHT(F19,4)="W.O.",A19=-88,A19=-99),0,IF(OR(RIGHT(O19,4)="W.O.",A19=99,A19=88),IF($I$3="SuperDiv",8,2),""))) | M19: DOUBLE | N19: =IF(AND(ISNUMBER(A19),ISNUMBER(L19)),IF($I$3="SuperDiv",2-L19,2-L19),IF(RIGHT(O19,4)="W.O.",0,IF(RIGHT(F19,4)="W.O.",IF($I$3="SuperDiv",8,2),""))) | O19: =N6&" "&R6 | AC19: AVRIL | AD19: Romain | AE19: 4 | AF19: Licence Nok | AI19: =IF(A19>0,1,IF(A19<0,-1,0)) -> 0 | AJ19: =IF(B19>0,1,IF(B19<0,-1,0)) -> 0 | AK19: =IF(C19>0,1,IF(C19<0,-1,0)) -> 0 | AL19: =IF(D19>0,1,IF(D19<0,-1,0)) -> 0 | AM19: =IF(E19>0,1,IF(E19<0,-1,0)) -> 0 | AN19: =IF(AND(A19>0,A19<10),11,IF(AND(A19>0,A19>9),A19+2,IF(AND(A19<0,A19>-10),-11,IF(AND(A19<0,A19<-9),A19-2,0)))) -> 0 | AO19: =IF(AND(B19>0,B19<10),11,IF(AND(B19>0,B19>9),B19+2,IF(AND(B19<0,B19>-10),-11,IF(AND(B19<0,B19<-9),B19-2,0)))) -> 0 | AP19: =IF(AND(C19>0,C19<10),11,IF(AND(C19>0,C19>9),C19+2,IF(AND(C19<0,C19>-10),-11,IF(AND(C19<0,C19<-9),C19-2,0)))) -> 0 | AQ19: =IF(AND(D19>0,D19<10),11,IF(AND(D19>0,D19>9),D19+2,IF(AND(D19<0,D19>-10),-11,IF(AND(D19<0,D19<-9),D19-2,0)))) -> 0 | AR19: =IF(AND(E19>0,E19<10),11,IF(AND(E19>0,E19>9),E19+2,IF(AND(E19<0,E19>-10),-11,IF(AND(E19<0,E19<-9),E19-2,0)))) -> 0 | AS19: =-A19 -> 0 | AT19: =-B19 -> 0 | AU19: =-C19 -> 0 | AV19: =-D19 -> 0 | AW19: =-E19 -> 0 | AY19: perdant | AZ19: ='EQUIPE A 3'!$D$2 | BA19: =IFERROR(IF('EQUIPE A 3'!L24=0,VLOOKUP('EQUIPE A 3'!B6&'EQUIPE A 3'!B11,'LISTE JOUEURS'!$P:$U,6,0),VLOOKUP('EQUIPE A 3'!N6&'EQUIPE A 3'!P9,'LISTE JOUEURS'!$P:$U,6,0)),0) -> 0 | BB19: =+_xlfn.XLOOKUP(BA19,'LISTE JOUEURS'!$U:$U,'LISTE JOUEURS'!$Q:$Q)&" "&_xlfn.XLOOKUP(BA19,'LISTE JOUEURS'!$U:$U,'LISTE JOUEURS'!$R:$R) -> #N/A | BD19: Honneur | BF19: PROVINS
F20: =C10 | L20: =IF(ISNUMBER(A20),IF(OR(COUNTIF(A20:E20,">=0")>3,COUNTIF(A20:E20,"<0")>3),"",IF((COUNTIF(A20:E20,">=0")-COUNTIF(A20:E20,"<0"))<0,0,1)),IF(OR(F20="Forfait W.O.",A20=-88,A20=-99),0,IF(OR(O20="Forfait W.O.",A20=99,A20=88),1,""))) | M20: B - X | N20: =IF(AND(ISNUMBER(A20),ISNUMBER(L20)),1-L20,IF(O20="Forfait W.O.",0,IF(F20="Forfait W.O.",1,""))) | O20: =Q9 | U20: =IF(OR(COUNTIF(A20:E20,">=0")>3,COUNTIF(A20:E20,"<0")>3),"Sets mal notés. Refaire la saisie svp",IF(ABS(A20)=99,"Abandon avant le début de la partie",IF(ABS(A20)=88,"Abandon en cours de partie"," "))) | AC20: AGNIER | AD20: Léo | AE20: 1 | AF20: Licence ok | AI20: =IF(A20>0,1,IF(A20<0,-1,0)) -> 0 | AJ20: =IF(B20>0,1,IF(B20<0,-1,0)) -> 0 | AK20: =IF(C20>0,1,IF(C20<0,-1,0)) -> 0 | AL20: =IF(D20>0,1,IF(D20<0,-1,0)) -> 0 | AM20: =IF(E20>0,1,IF(E20<0,-1,0)) -> 0 | AN20: =IF(AND(A20>0,A20<10),11,IF(AND(A20>0,A20>9),A20+2,IF(AND(A20<0,A20>-10),-11,IF(AND(A20<0,A20<-9),A20-2,0)))) -> 0 | AO20: =IF(AND(B20>0,B20<10),11,IF(AND(B20>0,B20>9),B20+2,IF(AND(B20<0,B20>-10),-11,IF(AND(B20<0,B20<-9),B20-2,0)))) -> 0 | AP20: =IF(AND(C20>0,C20<10),11,IF(AND(C20>0,C20>9),C20+2,IF(AND(C20<0,C20>-10),-11,IF(AND(C20<0,C20<-9),C20-2,0)))) -> 0 | AQ20: =IF(AND(D20>0,D20<10),11,IF(AND(D20>0,D20>9),D20+2,IF(AND(D20<0,D20>-10),-11,IF(AND(D20<0,D20<-9),D20-2,0)))) -> 0 | AR20: =IF(AND(E20>0,E20<10),11,IF(AND(E20>0,E20>9),E20+2,IF(AND(E20<0,E20>-10),-11,IF(AND(E20<0,E20<-9),E20-2,0)))) -> 0 | AS20: =-A20 -> 0 | AT20: =-B20 -> 0 | AU20: =-C20 -> 0 | AV20: =-D20 -> 0 | AW20: =-E20 -> 0 | AY20: vainqueur | AZ20: ='EQUIPE A 3'!$D$2 | BA20: =IFERROR(IF('EQUIPE A 3'!L25=1,VLOOKUP('EQUIPE A 3'!B6&'EQUIPE A 3'!B9,'LISTE JOUEURS'!$P:$U,6,0),VLOOKUP('EQUIPE A 3'!N6&'EQUIPE A 3'!P10,'LISTE JOUEURS'!$P:$U,6,0)),0) -> 0 | BB20: =+_xlfn.XLOOKUP(BA20,'LISTE JOUEURS'!$U:$U,'LISTE JOUEURS'!$Q:$Q)&" "&_xlfn.XLOOKUP(BA20,'LISTE JOUEURS'!$U:$U,'LISTE JOUEURS'!$R:$R) -> #N/A | BD20: Promotion Honneur | BF20: QUINCY
F21: =C9 | L21: =IF(ISNUMBER(A21),IF(OR(COUNTIF(A21:E21,">=0")>3,COUNTIF(A21:E21,"<0")>3),"",IF((COUNTIF(A21:E21,">=0")-COUNTIF(A21:E21,"<0"))<0,0,1)),IF(OR(F21="Forfait W.O.",A21=-88,A21=-99),0,IF(OR(O21="Forfait W.O.",A21=99,A21=88),1,""))) | M21: A -Z | N21: =IF(AND(ISNUMBER(A21),ISNUMBER(L21)),1-L21,IF(O21="Forfait W.O.",0,IF(F21="Forfait W.O.",1,""))) | O21: =Q11 | U21: =IF(OR(COUNTIF(A21:E21,">=0")>3,COUNTIF(A21:E21,"<0")>3),"Sets mal notés. Refaire la saisie svp",IF(ABS(A21)=99,"Abandon avant le début de la partie",IF(ABS(A21)=88,"Abandon en cours de partie"," "))) | AC21: AGRON | AD21: Patrice | AE21: 2 | AF21: Licence Nok | AI21: =IF(A21>0,1,IF(A21<0,-1,0)) -> 0 | AJ21: =IF(B21>0,1,IF(B21<0,-1,0)) -> 0 | AK21: =IF(C21>0,1,IF(C21<0,-1,0)) -> 0 | AL21: =IF(D21>0,1,IF(D21<0,-1,0)) -> 0 | AM21: =IF(E21>0,1,IF(E21<0,-1,0)) -> 0 | AN21: =IF(AND(A21>0,A21<10),11,IF(AND(A21>0,A21>9),A21+2,IF(AND(A21<0,A21>-10),-11,IF(AND(A21<0,A21<-9),A21-2,0)))) -> 0 | AO21: =IF(AND(B21>0,B21<10),11,IF(AND(B21>0,B21>9),B21+2,IF(AND(B21<0,B21>-10),-11,IF(AND(B21<0,B21<-9),B21-2,0)))) -> 0 | AP21: =IF(AND(C21>0,C21<10),11,IF(AND(C21>0,C21>9),C21+2,IF(AND(C21<0,C21>-10),-11,IF(AND(C21<0,C21<-9),C21-2,0)))) -> 0 | AQ21: =IF(AND(D21>0,D21<10),11,IF(AND(D21>0,D21>9),D21+2,IF(AND(D21<0,D21>-10),-11,IF(AND(D21<0,D21<-9),D21-2,0)))) -> 0 | AR21: =IF(AND(E21>0,E21<10),11,IF(AND(E21>0,E21>9),E21+2,IF(AND(E21<0,E21>-10),-11,IF(AND(E21<0,E21<-9),E21-2,0)))) -> 0 | AS21: =-A21 -> 0 | AT21: =-B21 -> 0 | AU21: =-C21 -> 0 | AV21: =-D21 -> 0 | AW21: =-E21 -> 0 | AY21: perdant | AZ21: ='EQUIPE A 3'!$D$2 | BA21: =IFERROR(IF('EQUIPE A 3'!L25=0,VLOOKUP('EQUIPE A 3'!B6&'EQUIPE A 3'!B9,'LISTE JOUEURS'!$P:$U,6,0),VLOOKUP('EQUIPE A 3'!N6&'EQUIPE A 3'!P10,'LISTE JOUEURS'!$P:$U,6,0)),0) -> 0 | BB21: =+_xlfn.XLOOKUP(BA21,'LISTE JOUEURS'!$U:$U,'LISTE JOUEURS'!$Q:$Q)&" "&_xlfn.XLOOKUP(BA21,'LISTE JOUEURS'!$U:$U,'LISTE JOUEURS'!$R:$R) -> #N/A | BF21: ROZAY
F22: =C11 | L22: =IF(ISNUMBER(A22),IF(OR(COUNTIF(A22:E22,">=0")>3,COUNTIF(A22:E22,"<0")>3),"",IF((COUNTIF(A22:E22,">=0")-COUNTIF(A22:E22,"<0"))<0,0,1)),IF(OR(F22="Forfait W.O.",A22=-88,A22=-99),0,IF(OR(O22="Forfait W.O.",A22=99,A22=88),1,""))) | M22: C - Y | N22: =IF(AND(ISNUMBER(A22),ISNUMBER(L22)),1-L22,IF(O22="Forfait W.O.",0,IF(F22="Forfait W.O.",1,""))) | O22: =Q10 | U22: =IF(OR(COUNTIF(A22:E22,">=0")>3,COUNTIF(A22:E22,"<0")>3),"Sets mal notés. Refaire la saisie svp",IF(ABS(A22)=99,"Abandon avant le début de la partie",IF(ABS(A22)=88,"Abandon en cours de partie"," "))) | AC22: AIRAULT | AD22: Philippe | AE22: 3 | AF22: Licence ok | AI22: =IF(A22>0,1,IF(A22<0,-1,0)) -> 0 | AJ22: =IF(B22>0,1,IF(B22<0,-1,0)) -> 0 | AK22: =IF(C22>0,1,IF(C22<0,-1,0)) -> 0 | AL22: =IF(D22>0,1,IF(D22<0,-1,0)) -> 0 | AM22: =IF(E22>0,1,IF(E22<0,-1,0)) -> 0 | AN22: =IF(AND(A22>0,A22<10),11,IF(AND(A22>0,A22>9),A22+2,IF(AND(A22<0,A22>-10),-11,IF(AND(A22<0,A22<-9),A22-2,0)))) -> 0 | AO22: =IF(AND(B22>0,B22<10),11,IF(AND(B22>0,B22>9),B22+2,IF(AND(B22<0,B22>-10),-11,IF(AND(B22<0,B22<-9),B22-2,0)))) -> 0 | AP22: =IF(AND(C22>0,C22<10),11,IF(AND(C22>0,C22>9),C22+2,IF(AND(C22<0,C22>-10),-11,IF(AND(C22<0,C22<-9),C22-2,0)))) -> 0 | AQ22: =IF(AND(D22>0,D22<10),11,IF(AND(D22>0,D22>9),D22+2,IF(AND(D22<0,D22>-10),-11,IF(AND(D22<0,D22<-9),D22-2,0)))) -> 0 | AR22: =IF(AND(E22>0,E22<10),11,IF(AND(E22>0,E22>9),E22+2,IF(AND(E22<0,E22>-10),-11,IF(AND(E22<0,E22<-9),E22-2,0)))) -> 0 | AS22: =-A22 -> 0 | AT22: =-B22 -> 0 | AU22: =-C22 -> 0 | AV22: =-D22 -> 0 | AW22: =-E22 -> 0 | BF22: VENEUX
F23: =C10 | L23: =IF(ISNUMBER(A23),IF(OR(COUNTIF(A23:E23,">=0")>3,COUNTIF(A23:E23,"<0")>3),"",IF((COUNTIF(A23:E23,">=0")-COUNTIF(A23:E23,"<0"))<0,0,1)),IF(OR(F23="Forfait W.O.",A23=-88,A23=-99),0,IF(OR(O23="Forfait W.O.",A23=99,A23=88),1,""))) | M23: B - Z | N23: =IF(AND(ISNUMBER(A23),ISNUMBER(L23)),1-L23,IF(O23="Forfait W.O.",0,IF(F23="Forfait W.O.",1,""))) | O23: =Q11 | U23: =IF(OR(COUNTIF(A23:E23,">=0")>3,COUNTIF(A23:E23,"<0")>3),"Sets mal notés. Refaire la saisie svp",IF(ABS(A23)=99,"Abandon avant le début de la partie",IF(ABS(A23)=88,"Abandon en cours de partie"," "))) | AC23: BARRAULT GUEBIN | AD23: Enzo | AE23: 5 | AF23: Licence ok | AI23: =IF(A23>0,1,IF(A23<0,-1,0)) -> 0 | AJ23: =IF(B23>0,1,IF(B23<0,-1,0)) -> 0 | AK23: =IF(C23>0,1,IF(C23<0,-1,0)) -> 0 | AL23: =IF(D23>0,1,IF(D23<0,-1,0)) -> 0 | AM23: =IF(E23>0,1,IF(E23<0,-1,0)) -> 0 | AN23: =IF(AND(A23>0,A23<10),11,IF(AND(A23>0,A23>9),A23+2,IF(AND(A23<0,A23>-10),-11,IF(AND(A23<0,A23<-9),A23-2,0)))) -> 0 | AO23: =IF(AND(B23>0,B23<10),11,IF(AND(B23>0,B23>9),B23+2,IF(AND(B23<0,B23>-10),-11,IF(AND(B23<0,B23<-9),B23-2,0)))) -> 0 | AP23: =IF(AND(C23>0,C23<10),11,IF(AND(C23>0,C23>9),C23+2,IF(AND(C23<0,C23>-10),-11,IF(AND(C23<0,C23<-9),C23-2,0)))) -> 0 | AQ23: =IF(AND(D23>0,D23<10),11,IF(AND(D23>0,D23>9),D23+2,IF(AND(D23<0,D23>-10),-11,IF(AND(D23<0,D23<-9),D23-2,0)))) -> 0 | AR23: =IF(AND(E23>0,E23<10),11,IF(AND(E23>0,E23>9),E23+2,IF(AND(E23<0,E23>-10),-11,IF(AND(E23<0,E23<-9),E23-2,0)))) -> 0 | AS23: =-A23 -> 0 | AT23: =-B23 -> 0 | AU23: =-C23 -> 0 | AV23: =-D23 -> 0 | AW23: =-E23 -> 0 | BF23: VILLEMER
F24: =C11 | L24: =IF(ISNUMBER(A24),IF(OR(COUNTIF(A24:E24,">=0")>3,COUNTIF(A24:E24,"<0")>3),"",IF((COUNTIF(A24:E24,">=0")-COUNTIF(A24:E24,"<0"))<0,0,1)),IF(OR(F24="Forfait W.O.",A24=-88,A24=-99),0,IF(OR(O24="Forfait W.O.",A24=99,A24=88),1,""))) | M24: C- X | N24: =IF(AND(ISNUMBER(A24),ISNUMBER(L24)),1-L24,IF(O24="Forfait W.O.",0,IF(F24="Forfait W.O.",1,""))) | O24: =Q9 | U24: =IF(OR(COUNTIF(A24:E24,">=0")>3,COUNTIF(A24:E24,"<0")>3),"Sets mal notés. Refaire la saisie svp",IF(ABS(A24)=99,"Abandon avant le début de la partie",IF(ABS(A24)=88,"Abandon en cours de partie"," "))) | AC24: BERNARD | AD24: Catherine | AE24: 6 | AF24: Licence ok | AI24: =IF(A24>0,1,IF(A24<0,-1,0)) -> 0 | AJ24: =IF(B24>0,1,IF(B24<0,-1,0)) -> 0 | AK24: =IF(C24>0,1,IF(C24<0,-1,0)) -> 0 | AL24: =IF(D24>0,1,IF(D24<0,-1,0)) -> 0 | AM24: =IF(E24>0,1,IF(E24<0,-1,0)) -> 0 | AN24: =IF(AND(A24>0,A24<10),11,IF(AND(A24>0,A24>9),A24+2,IF(AND(A24<0,A24>-10),-11,IF(AND(A24<0,A24<-9),A24-2,0)))) -> 0 | AO24: =IF(AND(B24>0,B24<10),11,IF(AND(B24>0,B24>9),B24+2,IF(AND(B24<0,B24>-10),-11,IF(AND(B24<0,B24<-9),B24-2,0)))) -> 0 | AP24: =IF(AND(C24>0,C24<10),11,IF(AND(C24>0,C24>9),C24+2,IF(AND(C24<0,C24>-10),-11,IF(AND(C24<0,C24<-9),C24-2,0)))) -> 0 | AQ24: =IF(AND(D24>0,D24<10),11,IF(AND(D24>0,D24>9),D24+2,IF(AND(D24<0,D24>-10),-11,IF(AND(D24<0,D24<-9),D24-2,0)))) -> 0 | AR24: =IF(AND(E24>0,E24<10),11,IF(AND(E24>0,E24>9),E24+2,IF(AND(E24<0,E24>-10),-11,IF(AND(E24<0,E24<-9),E24-2,0)))) -> 0 | AS24: =-A24 -> 0 | AT24: =-B24 -> 0 | AU24: =-C24 -> 0 | AV24: =-D24 -> 0 | AW24: =-E24 -> 0 | BF24: VOISENON
F25: =C9 | L25: =IF(ISNUMBER(A25),IF(OR(COUNTIF(A25:E25,">=0")>3,COUNTIF(A25:E25,"<0")>3),"",IF((COUNTIF(A25:E25,">=0")-COUNTIF(A25:E25,"<0"))<0,0,1)),IF(OR(F25="Forfait W.O.",A25=-88,A25=-99),0,IF(OR(O25="Forfait W.O.",A25=99,A25=88),1,""))) | M25: A - Y | N25: =IF(AND(ISNUMBER(A25),ISNUMBER(L25)),1-L25,IF(O25="Forfait W.O.",0,IF(F25="Forfait W.O.",1,""))) | O25: =Q10 | U25: =IF(OR(COUNTIF(A25:E25,">=0")>3,COUNTIF(A25:E25,"<0")>3),"Sets mal notés. Refaire la saisie svp",IF(ABS(A25)=99,"Abandon avant le début de la partie",IF(ABS(A25)=88,"Abandon en cours de partie"," "))) | AC25: BLANCHARD | AD25: Thierry | AE25: 7 | AF25: Licence Nok | AI25: =IF(A25>0,1,IF(A25<0,-1,0)) -> 0 | AJ25: =IF(B25>0,1,IF(B25<0,-1,0)) -> 0 | AK25: =IF(C25>0,1,IF(C25<0,-1,0)) -> 0 | AL25: =IF(D25>0,1,IF(D25<0,-1,0)) -> 0 | AM25: =IF(E25>0,1,IF(E25<0,-1,0)) -> 0 | AN25: =IF(AND(A25>0,A25<10),11,IF(AND(A25>0,A25>9),A25+2,IF(AND(A25<0,A25>-10),-11,IF(AND(A25<0,A25<-9),A25-2,0)))) -> 0 | AO25: =IF(AND(B25>0,B25<10),11,IF(AND(B25>0,B25>9),B25+2,IF(AND(B25<0,B25>-10),-11,IF(AND(B25<0,B25<-9),B25-2,0)))) -> 0 | AP25: =IF(AND(C25>0,C25<10),11,IF(AND(C25>0,C25>9),C25+2,IF(AND(C25<0,C25>-10),-11,IF(AND(C25<0,C25<-9),C25-2,0)))) -> 0 | AQ25: =IF(AND(D25>0,D25<10),11,IF(AND(D25>0,D25>9),D25+2,IF(AND(D25<0,D25>-10),-11,IF(AND(D25<0,D25<-9),D25-2,0)))) -> 0 | AR25: =IF(AND(E25>0,E25<10),11,IF(AND(E25>0,E25>9),E25+2,IF(AND(E25<0,E25>-10),-11,IF(AND(E25<0,E25<-9),E25-2,0)))) -> 0 | AS25: =-A25 -> 0 | AT25: =-B25 -> 0 | AU25: =-C25 -> 0 | AV25: =-D25 -> 0 | AW25: =-E25 -> 0 | BC25: Numero | BD25: 1 | BF25: VULAINES
J26: Total | L26: =SUM(L16:L25) -> 0 | N26: =SUM(N16:N25) -> 0 | AC26: BOISSOT | AD26: Arthur | AE26: 8 | AF26: Licence ok | BD26: 2
AC27: BORDAGE | AD27: Jean-Yves | AE27: 9 | AF27: Licence ok | AJ27: =B6&" "&F6 | AK27: =COUNTIF(AI16:AM25,1) -> 0 | AL27: =SUMIF(AN16:AW25,">0",AN16:AW25) -> 0 | BD27: 3
A28: RESULTAT | AC28: BOUCHER | AD28: Cyril | AE28: 10 | AF28: Licence ok | AJ28: =N6&" "&R6 | AK28: =COUNTIF(AI16:AM25,-1) -> 0 | AL28: =-SUMIF(AN16:AW25,"<0",AN16:AW25) -> 0 | BD28: 4
A29: =IF((L26 )>(N26),B6&" "&F6,N6&" "&R6) | E29: BAT | H29: =IF((L26 )<(N26),B6&" "&F6,N6&" "&R6) | J29: ="Cap. "&O15 -> Cap. | S29: Juge Arbitre | AC29: BOURASSIN | AD29: Bruno | AE29: 11 | AF29: Licence ok | BD29: 5
A30: =IF((L26)>(N26),(L26)&" points",(N26)&" points") -> 0 points | H30: =IF((L26 )>(N26),(N26)&" points",(L26)&" points") -> 0 points | J30: ="Cap. "&F15 -> Cap. | AC30: BOURGIS | AD30: Jérôme | AE30: 12 | AF30: Licence ok | BD30: 6
A31: =VLOOKUP(A29,$AJ$27:$AL$28,2,0)&" Sets à "&VLOOKUP(H29,$AJ$27:$AL$28,2,0) -> 0 Sets à 0 | AD31: Leona | AE31: 13 | AF31: Licence ok
A32: =VLOOKUP(A29,$AJ$27:$AL$28,3,0)&" points à "&VLOOKUP(H29,$AJ$27:$AL$28,3,0) -> 0 points à 0 | AC32: BREBION | AD32: Bruno | AE32: 14 | AF32: Licence ok
AD33: Stephane | AE33: 15 | AF33: Licence ok | BD33: 7
A34: IMPORTANT : Envoyer la feuille de match au responsable du Championnat à Trois : Jerôme GUIGNARD mail csctt@wanadoo.fr | AC34: CANTELOUP | AD34: Frédéric | AE34: 16 | AF34: Licence ok | BD34: 8
A35: Mettre en copie le Club visiteur : | E35: =IFERROR(VLOOKUP(N6,'LISTING CLUB'!A:C,3,0),"") | K35: SAUVER FICHIER SOUS | O35: ="3J"&R3&"-"&I3&"-"&N3&"-"&F15&"-"&O15 -> 3J--- - | AC35: CHABAUD | AD35: Severine | AE35: 17 | AF35: Licence Nok | BC35: Poule | BD35: Nord
A36: RESERVES (à faire avant la rencontre par le capitaine réclamant en présence du capitaine adverse) | AC36: CHAMOURET | AD36: Ambroise | AE36: 18 | AF36: Licence Nok | BD36: Sud
AC37: CHANTIN | AD37: Valerie | AE37: 19 | AF37: Licence Nok
AC38: CHASSEVENT | AD38: Melvin | AE38: 20 | AF38: Licence Nok
AC39: CHAUMIER | AD39: Nicole | AE39: 21 | AF39: Licence ok
AC40: CHEKIR SALCEDO | AD40: Liahm | AE40: 22 | AF40: Licence Nok
AC41: CLAUSS-COUVREUR-NEU | AD41: Tristan | AE41: 23 | AF41: Licence ok
AC42: COEVOET | AD42: Philippe | AE42: 24 | AF42: Licence ok
AC43: COSSON | AD43: Thomas | AE43: 25 | AF43: Licence ok
AD44: Valérie | AE44: 26 | AF44: Licence ok
AC45: CROCHARD | AD45: Eliot | AE45: 27 | AF45: Licence ok
AD46: Tristan | AE46: 28 | AF46: Licence ok
AC47: CROIZE | AD47: Christian | AE47: 29 | AF47: Licence ok
A48: RECLAMATIONS (à faire par le réclamant au cours de la rencontre ou après celle-ci) | AC48: CSICSO | AD48: Stephan | AE48: 30 | AF48: Licence ok
AC49: DE SMET | AD49: Didier | AE49: 31 | AF49: Licence Nok
AC50: DEMANGE | AD50: Clovis | AE50: 32 | AF50: Licence ok
AC51: DERISBOURG | AD51: Stéphane | AE51: 33 | AF51: Licence ok
AC52: DESASSIS | AD52: Noé | AE52: 34 | AF52: Licence ok
AC53: DONNOT | AD53: Véronique | AE53: 36 | AF53: Licence ok
AD54: Benoit | AE54: 35 | AF54: Licence ok
AC55: DUBOIS | AD55: Yan | AE55: 37 | AF55: Licence ok
AC56: DUDICOURT | AD56: Corentin | AE56: 38 | AF56: Licence Nok
AC57: FERMI | AD57: Jean-Pierre | AE57: 39 | AF57: Licence ok
AC58: FORESTAL | AD58: Jean | AE58: 40 | AF58: Licence Nok
AC59: FRANCOIS | AD59: Erwann | AE59: 41 | AF59: Licence Nok
A60: REGLEMENT | AC60: FREIDEL | AD60: Andreï | AE60: 42 | AF60: Licence ok
A61: - Le juge arbitre est désigné, en commun accord par les capitaines. En cas de litige, c'est le capitaine visiteur qui remplit cette fonction. | AC61: GAULE | AD61: Patrick | AE61: 43 | AF61: Licence ok
A62: - Avant la rencontre, l'attribution des lettres est faite par tirage au sort. | AC62: GIBLIN | AD62: Djulian | AE62: 44 | AF62: Licence Nok
A63: - Chaque capitaine désigne ensuite la composition de son équipe, avec présentation obligatoire des licences. | AC63: GIL--FARENC | AD63: Guilhem | AE63: 45 | AF63: Licence Nok
A64: - Lorsqu'un joueur est absent, la place vacante doit figurer dans la formation 1 | AC64: GIRSCH | AD64: Nicolas | AE64: 46 | AF64: Licence ok
A65: - Les matchs ont lieu obligatoirement dans l'ordre prévu. | AC65: GONCALVES | AD65: Hector | AE65: 47 | AF65: Licence ok
A66: - L'envoi de la feuille de rencontre au responsable du championnat, incombe à l'équipe qui reçoit, et cela au plus tard dans un délai de 48 heures | AC66: GORON | AD66: Gaetan | AE66: 48 | AF66: Licence ok
AC67: GRAUER | AD67: Christophe | AE67: 49 | AF67: Licence Nok
AD68: Liam | AE68: 50 | AF68: Licence ok
AD69: Sacha | AE69: 51 | AF69: Licence ok
AC70: GROSJEAN | AD70: Lino | AE70: 52 | AF70: Licence ok
AD71: Sohan | AE71: 53 | AF71: Licence ok
AC72: GUEDJ | AD72: Louis | AE72: 54 | AF72: Licence ok
AC73: GUEUTIN | AD73: Thierry | AE73: 56 | AF73: Licence ok
AD74: Simon | AE74: 55 | AF74: Licence Nok
AC75: GUILLERM | AD75: Marius | AE75: 58 | AF75: Licence ok
AD76: Charlie | AE76: 57 | AF76: Licence ok
AC77: GUILLIOMET | AD77: Alain | AE77: 59 | AF77: Licence ok
AC78: HERNIO-SILVA | AD78: Maya | AE78: 60 | AF78: Licence Nok
AC79: HOLIN | AD79: Scarlett | AE79: 61 | AF79: Licence ok
AC80: HOULIER | AD80: Vincent | AE80: 62 | AF80: Licence ok
AC81: HYM | AD81: Michel | AE81: 63 | AF81: Licence ok
AC82: JACQUINOT | AD82: Vincent | AE82: 65 | AF82: Licence ok
AC83: JACQUINOT FONSECA | AD83: Matteo | AE83: 64 | AF83: Licence ok
AC84: JARDINET | AD84: Célia | AE84: 66 | AF84: Licence ok
AC85: LACHAISE | AD85: Noha | AE85: 68 | AF85: Licence ok
AD86: Eden | AE86: 67 | AF86: Licence ok
AC87: LALARME | AD87: Guillaume | AE87: 69 | AF87: Licence ok
AC88: LAPENDRY | AD88: Stephan | AE88: 70 | AF88: Licence Nok
AC89: LE TOUCHE | AD89: Jules | AE89: 71 | AF89: Licence ok
AC90: LECERF | AD90: Valentin | AE90: 72 | AF90: Licence Nok
AC91: LECOQ | AD91: Jensen | AE91: 73 | AF91: Licence ok
AD92: Rubens | AE92: 74 | AF92: Licence ok
AC93: LEHMANN HANNOUN | AD93: Lucie | AE93: 75 | AF93: Licence ok
AC94: LESAGE | AD94: Christophe | AE94: 76 | AF94: Licence ok
AC95: LESCOT | AD95: Sören | AE95: 77 | AF95: Licence ok
AC96: LESEIGNEUR | AD96: Philippe | AE96: 78 | AF96: Licence ok
AC97: LIGER | AD97: Pascal | AE97: 79 | AF97: Licence ok
AD98: Déborah | AE98: 80 | AF98: Licence ok
AC99: LOQUET | AD99: Marion | AE99: 81 | AF99: Licence Nok
AC100: LOTZ | AD100: Dominique | AE100: 82 | AF100: Licence Nok
...

Sheet arbitrage 3
A1: UFOLEP 77 – Championnat départemental à 3 - 2025 - 2026 | M1: =A1 -> UFOLEP 77 – Championnat départemental à 3 - 2025 - 2026 | Y1: =A1 -> UFOLEP 77 – Championnat départemental à 3 - 2025 - 2026
B2: =+'EQUIPE A 3'!$I$3 -> 0 | G2: Poule | H2: =+'EQUIPE A 3'!$N$3 -> 0 | I2: Jour | J2: =+'EQUIPE A 3'!$R$3 -> 0 | N2: =+B2 -> 0 | S2: Poule | T2: =+H2 -> 0 | U2: Jour | V2: =+J2 -> 0 | Z2: =+B2 -> 0 | AE2: Poule | AF2: =+H2 -> 0 | AG2: Jour | AH2: =+J2 -> 0
A3: =+'EQUIPE A 3'!B6& " "&'EQUIPE A 3'!F6 | G3: reçoit | H3: =+'EQUIPE A 3'!N6&" "&'EQUIPE A 3'!R6 | M3: =+A3 | S3: reçoit | T3: =+H3 | Y3: =+A3 | AE3: reçoit | AF3: =+H3
A4: Date | B4: =IF(ISBLANK(+'EQUIPE A 3'!D3),+'EQUIPE A 3'!D2,+'EQUIPE A 3'!D3) | C4: =IF(ISBLANK(' EQUIPE A 4'!#REF!),' EQUIPE A 4'!#REF!,#REF!) -> #REF! | D4: =IF(ISBLANK(' EQUIPE A 4'!#REF!),' EQUIPE A 4'!#REF!,#REF!) -> #REF! | E4: =IF(ISBLANK(' EQUIPE A 4'!#REF!),' EQUIPE A 4'!#REF!,#REF!) -> #REF! | F4: =IF(ISBLANK(' EQUIPE A 4'!#REF!),' EQUIPE A 4'!#REF!,#REF!) -> #REF! | H4: Table n° | M4: Date | N4: =+B4 | T4: Table n° | Y4: Date | Z4: =+B4 | AC4: 43382 | AF4: Table n°
G5: 1er Service : Gauche-Droite | S5: 1er Service : Gauche-Droite | AE5: 1er Service : Gauche-Droite
A6: Partie | B6: 01 : A – X | G6: Set 1 | H6: Set 2 | I6: Set 3 | J6: Set 4 | K6: Set 5 | M6: Partie | N6: 02 : B – Y | S6: Set 1 | T6: Set 2 | U6: Set 3 | V6: Set 4 | W6: Set 5 | Y6: Partie | Z6: 03 : C - Z | AE6: Set 1 | AF6: Set 2 | AG6: Set 3 | AH6: Set 4 | AI6: Set 5
A7: =+'EQUIPE A 3'!C9 | M7: =+'EQUIPE A 3'!C10 | Y7: =+'EQUIPE A 3'!C11
A8: =+'EQUIPE A 3'!I9 | M8: =+'EQUIPE A 3'!I10 | Y8: =+'EQUIPE A 3'!I11
A9: contre | M9: contre | Y9: contre
A10: =+'EQUIPE A 3'!Q9 | M10: =+'EQUIPE A 3'!Q10 | Y10: =+'EQUIPE A 3'!Q11
A11: =+'EQUIPE A 3'!X9 | M11: =+'EQUIPE A 3'!X10 | Y11: =+'EQUIPE A 3'!X11
A12: Arbitre | M12: Arbitre | Y12: Arbitre
A15: =A1 -> UFOLEP 77 – Championnat départemental à 3 - 2025 - 2026 | M15: =A1 -> UFOLEP 77 – Championnat départemental à 3 - 2025 - 2026 | Y15: =A1 -> UFOLEP 77 – Championnat départemental à 3 - 2025 - 2026
B16: =+B2 -> 0 | G16: Poule | H16: =+H2 -> 0 | I16: Jour | J16: =+J2 -> 0 | N16: =+B2 -> 0 | S16: Poule | T16: =+' EQUIPE A 4'!$N$3 -> 0 | U16: Jour | V16: =+J2 -> 0 | Z16: =+B2 -> 0 | AC16: =+B2 -> 0 | AE16: Poule | AF16: =+' EQUIPE A 4'!$N$3 -> 0 | AG16: Jour | AH16: =+J2 -> 0
A17: =+A3 | G17: reçoit | H17: =+H3 | M17: =+A3 | S17: reçoit | T17: =+H3 | Y17: =+A3 | AE17: reçoit | AF17: =+H3
A18: Date | B18: =+B4 | H18: Table n° | M18: Date | N18: =+B4 | T18: Table n° | Y18: Date | Z18: =+B4 | AC18: 43382 | AF18: Table n°
G19: 1er Service : Gauche-Droite | S19: 1er Service : Gauche-Droite | AE19: 1er Service : Gauche-Droite
A20: Partie | B20: 04 : DOUBLE | G20: Set 1 | H20: Set 2 | I20: Set 3 | J20: Set 4 | K20: Set 5 | M20: Partie | N20: 05 : B - X | S20: Set 1 | T20: Set 2 | U20: Set 3 | V20: Set 4 | W20: Set 5 | Y20: Partie | Z20: 06 : A - Z | AE20: Set 1 | AF20: Set 2 | AG20: Set 3 | AH20: Set 4 | AI20: Set 5
A21: =+A3 | M21: =+'EQUIPE A 3'!C10 | Y21: =+'EQUIPE A 3'!C9
M22: =+'EQUIPE A 3'!I10 | Y22: =+'EQUIPE A 3'!I9
A23: contre | M23: contre | Y23: contre
A24: =+H3 | M24: =+'EQUIPE A 3'!Q9 | Y24: =+'EQUIPE A 3'!Q11
M25: =+'EQUIPE A 3'!X9 | Y25: =+'EQUIPE A 3'!X11
A26: Arbitre | M26: Arbitre | Y26: Arbitre
A29: =A1 -> UFOLEP 77 – Championnat départemental à 3 - 2025 - 2026 | M29: =A1 -> UFOLEP 77 – Championnat départemental à 3 - 2025 - 2026 | Y29: =A1 -> UFOLEP 77 – Championnat départemental à 3 - 2025 - 2026
B30: =+B2 -> 0 | G30: Poule | H30: =+H2 -> 0 | I30: Jour | J30: =+J2 -> 0 | N30: =+B2 -> 0 | S30: Poule | T30: =+' EQUIPE A 4'!$N$3 -> 0 | U30: Jour | V30: =+J2 -> 0 | Z30: =+B2 -> 0 | AE30: Poule | AF30: =+H2 -> 0 | AG30: Jour | AH30: =+J2 -> 0
A31: =+A3 | G31: reçoit | H31: =+' EQUIPE A 4'!$N$6&" "&' EQUIPE A 4'!$R$6 | M31: =+A3 | S31: reçoit | T31: =+H3 | Y31: =+A3 | AE31: reçoit | AF31: =+H3
A32: Date | B32: =+B4 | H32: Table n° | M32: Date | N32: =+B4 | T32: Table n° | Y32: Date | Z32: =+B4 | AC32: 43382 | AF32: Table n°
G33: 1er Service : Gauche-Droite | S33: 1er Service : Gauche-Droite | AE33: 1er Service : Gauche-Droite
A34: Partie | B34: 07 : C - Y | G34: Set 1 | H34: Set 2 | I34: Set 3 | J34: Set 4 | K34: Set 5 | M34: Partie | N34: 08 : B - Z | S34: Set 1 | T34: Set 2 | U34: Set 3 | V34: Set 4 | W34: Set 5 | Y34: Partie | Z34: 09 : C - X | AE34: Set 1 | AF34: Set 2 | AG34: Set 3 | AH34: Set 4 | AI34: Set 5
A35: =+'EQUIPE A 3'!C11 | M35: =+'EQUIPE A 3'!C10 | Y35: =+'EQUIPE A 3'!C11
A36: =+'EQUIPE A 3'!I11 | M36: =+'EQUIPE A 3'!I10 | Y36: =+'EQUIPE A 3'!I11
A37: contre | M37: contre | Y37: contre
A38: =+'EQUIPE A 3'!Q10 | M38: =+'EQUIPE A 3'!Q11 | Y38: =+'EQUIPE A 3'!Q9
A39: =+'EQUIPE A 3'!X10 | M39: =+'EQUIPE A 3'!X11 | Y39: =+'EQUIPE A 3'!X9
A40: Arbitre | M40: Arbitre | Y40: Arbitre
A43: =A1 -> UFOLEP 77 – Championnat départemental à 3 - 2025 - 2026
B44: =+B2 -> 0 | G44: Poule | H44: =+H2 -> 0 | I44: Jour | J44: =+J2 -> 0 | K44: =+' EQUIPE A 4'!$R$3 -> 0 | S44: Poule | U44: Jour | AE44: Poule | AG44: Jour
A45: =+A3 | G45: reçoit | H45: =+' EQUIPE A 4'!$N$6&" "&' EQUIPE A 4'!$R$6 | S45: reçoit | AE45: reçoit
A46: Date | B46: =+B4 | H46: Table n° | M46: Date | T46: Table n° | Y46: Date | AF46: Table n°
G47: 1er Service : Gauche-Droite | S47: 1er Service : Gauche-Droite | AE47: 1er Service : Gauche-Droite
A48: Partie | B48: 10 : A - Y | G48: Set 1 | H48: Set 2 | I48: Set 3 | J48: Set 4 | K48: Set 5 | M48: Partie | S48: Set 1 | T48: Set 2 | U48: Set 3 | V48: Set 4 | W48: Set 5 | Y48: Partie | AE48: Set 1 | AF48: Set 2 | AG48: Set 3 | AH48: Set 4 | AI48: Set 5
A49: =+Y21
A50: =Y22
A51: contre | M51: contre | Y51: contre
A52: =+A38
A53: =+A39
A54: Arbitre | M54: Arbitre | Y54: Arbitre
G58: Poule | I58: journée | S58: Poule | U58: journée | AE58: Poule | AG58: journée
G59: reçoit | S59: reçoit | AE59: reçoit
A60: Date | H60: Table n° | M60: Date | N60: 43382 | Q60: 43382 | T60: Table n° | Y60: Date | AC60: 43382 | AF60: Table n°
G61: 1er Service : Gauche-Droite | S61: 1er Service : Gauche-Droite | AE61: 1er Service : Gauche-Droite
A62: Partie | G62: Set 1 | H62: Set 2 | I62: Set 3 | J62: Set 4 | K62: Set 5 | M62: Partie | S62: Set 1 | T62: Set 2 | U62: Set 3 | V62: Set 4 | W62: Set 5 | Y62: Partie | AE62: Set 1 | AF62: Set 2 | AG62: Set 3 | AH62: Set 4 | AI62: Set 5
A65: contre | M65: contre | Y65: contre
A68: Arbitre | M68: Arbitre | Y68: Arbitre

Sheet  EQUIPE A 4
A1: Championnat départemental par équipes de QUATRE (4) SEINE et MARNE - Saison 2025 - 2026 | CA1: Résultat | CB1: 4J | CC1: =R3 -> 0 | CD1: =+D2 | CE1: =IF(ISBLANK(D3),D2,D3) | CF1: =I3 -> 0 | CG1: =N3 -> 0 | CH1: =B6&" "&F6 | CI1: contre | CJ1: =N6&" "&R6 | CL1: =L23 + L33 -> 0 | CM1: =N23 +N33 -> 0 | CO1: =AK33 -> 0 | CP1: =AK34 -> 0 | CR1: =AL33 -> 0 | CS1: =AL34 -> 0
A2: Date prévue | D2: =IFERROR(VLOOKUP(R3,JourneeE4,2,FALSE),"") | AC2: NOTICE : Important toujours utiliser une feuille de match originale
A3: Date réelle : | G3: DIVISION | M3: Poule | P3: Journée | AC3: Selectionner la journée, la division et la poule et la date rélle si différente de la date prévue officiellemnt
AC4: Sélectionner les équipes et et numeros
B5: Equipe receveuse | N5: Equipe visiteuse | AC5: Saisir les codes de chaque joueur, utiliser la liste ci-dessous apres avoir selectionne le club
W6: ='EQUIPE A 3'!W6 -> Mise à jour du 24 Novembre 2025 | AC6: Si joueur inconnu ne pas mettre de code et saisir Nom prenom directement
AC7: Indiquer un score positif si c'est le joueur à domicile qui gagne le set et un score négatif si le joueur extérieur gagne le set.
AC8: Marquer 0,1 ou -0,1 lorsqu'un des joueurs gagne 11/0 en respectant le signe indiqué au dessus, 0 sera alors affiché
B9: Code | C9: NOM - Prénom | I9: Clt. | J9: Licence | P9: Code | Q9: NOM - Prénom | X9: Clt. | Y9: Licence | AC9: Si joueur forfait saisir 0 (zéro) pour code, pas de score à sasir, le tableau se remplira automatiqement
A10: A | C10: =IF(B10="","",IFERROR(VLOOKUP($B$6&$B10,'LISTE JOUEURS'!$P:$S,2,0),"")) &" "& IF(B10="","",IFERROR(VLOOKUP($B$6&$B10,'LISTE JOUEURS'!$P:$S,3,0),"")) | I10: =IF(B10="","",IFERROR(VLOOKUP($B$6&$B10,'LISTE JOUEURS'!$P:$U,4,0),500)) | J10: =IF(B10="","",IFERROR(VLOOKUP($B$6&$B10,'LISTE JOUEURS'!$P:$U,5,0),"")) | O10: X | Q10: =IF(P10="","",IFERROR(VLOOKUP($N$6&$P10,'LISTE JOUEURS'!$P:$S,2,0),""))& " "&IF(P10="","",IFERROR(VLOOKUP($N$6&$P10,'LISTE JOUEURS'!$P:$S,3,0),"")) | X10: =IF(P10="","",IFERROR(VLOOKUP($N$6&$P10,'LISTE JOUEURS'!$P:$U,4,0),500)) | Y10: =IF(P10="","",IFERROR(VLOOKUP($N$6&$P10,'LISTE JOUEURS'!$P:$U,5,0),"")) | AC10: Si abandon d'un joueur avant de commencer la partie saisir 99 (ou -99) dans la case du premier set uniquement et pour tous ses matches suivants | AY10: max | AZ10: =+MAX(I10:I13) -> 0 | BA10: =+MAX(X10:X13) -> 0 | BE10: V/D | BF10: Date | BG10: Code joueur
A11: B | C11: =IF(B11="","",IFERROR(VLOOKUP($B$6&$B11,'LISTE JOUEURS'!$P:$S,2,0),"")) &" "& IF(B11="","",IFERROR(VLOOKUP($B$6&$B11,'LISTE JOUEURS'!$P:$S,3,0),"")) | I11: =IF(B11="","",IFERROR(VLOOKUP($B$6&$B11,'LISTE JOUEURS'!$P:$U,4,0),500)) | J11: =IF(B11="","",IFERROR(VLOOKUP($B$6&$B11,'LISTE JOUEURS'!$P:$U,5,0),"")) | O11: Y | Q11: =IF(P11="","",IFERROR(VLOOKUP($N$6&$P11,'LISTE JOUEURS'!$P:$S,2,0),""))& " "&IF(P11="","",IFERROR(VLOOKUP($N$6&$P11,'LISTE JOUEURS'!$P:$S,3,0),"")) | X11: =IF(P11="","",IFERROR(VLOOKUP($N$6&$P11,'LISTE JOUEURS'!$P:$U,4,0),500)) | Y11: =IF(P11="","",IFERROR(VLOOKUP($N$6&$P11,'LISTE JOUEURS'!$P:$U,5,0),"")) | AC11: Si abandon d'un joueur en cours de partie mettre 88 (ou -88) dans la case du premer set uniquement et pour tous ses matches suivants. | AY11: min | AZ11: =+MIN(I10:I13) -> 0 | BA11: =+MIN(X10:X13) -> 0 | BE11: vainqueur | BF11: =' EQUIPE A 4'!$D$2 | BG11: =IF(I3="SuperDiv",IFERROR(IF(' EQUIPE A 4'!L17=1,VLOOKUP(' EQUIPE A 4'!B6&' EQUIPE A 4'!B10,'LISTE JOUEURS'!$P:$U,6,0),VLOOKUP(' EQUIPE A 4'!N6&' EQUIPE A 4'!P10,'LISTE JOUEURS'!$P:$U,6,0)),0),IFERROR(IF(' EQUIPE A 4'!L17=4,VLOOKUP(' EQUIPE A 4'!B6&' EQUIPE A 4'!B10,'LISTE JOUEURS'!$P:$U,6,0),VLOOKUP(' EQUIPE A 4'!N6&' EQUIPE A 4'!P10,'LISTE JOUEURS'!$P:$U,6,0)),0)) -> 0 | BH11: =+_xlfn.XLOOKUP(BG11,'LISTE JOUEURS'!$U:$U,'LISTE JOUEURS'!$Q:$Q)&" "&_xlfn.XLOOKUP(BG11,'LISTE JOUEURS'!$U:$U,'LISTE JOUEURS'!$R:$R) -> #N/A
A12: C | C12: =IF(B12="","",IFERROR(VLOOKUP($B$6&$B12,'LISTE JOUEURS'!$P:$S,2,0),"")) &" "& IF(B12="","",IFERROR(VLOOKUP($B$6&$B12,'LISTE JOUEURS'!$P:$S,3,0),"")) | I12: =IF(B12="","",IFERROR(VLOOKUP($B$6&$B12,'LISTE JOUEURS'!$P:$U,4,0),500)) | J12: =IF(B12="","",IFERROR(VLOOKUP($B$6&$B12,'LISTE JOUEURS'!$P:$U,5,0),"")) | O12: Z | Q12: =IF(P12="","",IFERROR(VLOOKUP($N$6&$P12,'LISTE JOUEURS'!$P:$S,2,0),""))& " "&IF(P12="","",IFERROR(VLOOKUP($N$6&$P12,'LISTE JOUEURS'!$P:$S,3,0),"")) | X12: =IF(P12="","",IFERROR(VLOOKUP($N$6&$P12,'LISTE JOUEURS'!$P:$U,4,0),500)) | Y12: =IF(P12="","",IFERROR(VLOOKUP($N$6&$P12,'LISTE JOUEURS'!$P:$U,5,0),"")) | AC12: Un joueur déclarant forfait l'est également pour les matches suivants de la rencontre | BE12: perdant | BF12: =' EQUIPE A 4'!$D$2 | BG12: =IFERROR(IF(' EQUIPE A 4'!L17=0,VLOOKUP(' EQUIPE A 4'!B6&' EQUIPE A 4'!B10,'LISTE JOUEURS'!$P:$U,6,0),VLOOKUP(' EQUIPE A 4'!N6&' EQUIPE A 4'!P10,'LISTE JOUEURS'!$P:$U,6,0)),0) -> 0 | BH12: =+_xlfn.XLOOKUP(BG12,'LISTE JOUEURS'!$U:$U,'LISTE JOUEURS'!$Q:$Q)&" "&_xlfn.XLOOKUP(BG12,'LISTE JOUEURS'!$U:$U,'LISTE JOUEURS'!$R:$R) -> #N/A
A13: D | C13: =IF(B13="","",IFERROR(VLOOKUP($B$6&$B13,'LISTE JOUEURS'!$P:$S,2,0),"")) &" "& IF(B13="","",IFERROR(VLOOKUP($B$6&$B13,'LISTE JOUEURS'!$P:$S,3,0),"")) | I13: =IF(B13="","",IFERROR(VLOOKUP($B$6&$B13,'LISTE JOUEURS'!$P:$U,4,0),500)) | J13: =IF(B13="","",IFERROR(VLOOKUP($B$6&$B13,'LISTE JOUEURS'!$P:$U,5,0),"")) | O13: W | Q13: =IF(P13="","",IFERROR(VLOOKUP($N$6&$P13,'LISTE JOUEURS'!$P:$S,2,0),""))& " "&IF(P13="","",IFERROR(VLOOKUP($N$6&$P13,'LISTE JOUEURS'!$P:$S,3,0),"")) | X13: =IF(P13="","",IFERROR(VLOOKUP($N$6&$P13,'LISTE JOUEURS'!$P:$U,4,0),500)) | Y13: =IF(P13="","",IFERROR(VLOOKUP($N$6&$P13,'LISTE JOUEURS'!$P:$U,5,0),"")) | AC13: Sur les feuilles d'arbitrage fournies à titre indicatif les noms des joueurs sont ajoutés automatiquement | AZ13: =IF(OR(I10=AZ10,I11=AZ10),"ok","pas ok") -> pas ok | BA13: =IF(OR(X10=BA10,X11=BA10),"ok","pas ok") -> pas ok | BE13: vainqueur | BF13: =' EQUIPE A 4'!$D$2 | BG13: =IF(I3="SuperDiv",IFERROR(IF(' EQUIPE A 4'!L18=1,VLOOKUP(' EQUIPE A 4'!B6&' EQUIPE A 4'!B11,'LISTE JOUEURS'!$P:$U,6,0),VLOOKUP(' EQUIPE A 4'!N6&' EQUIPE A 4'!P11,'LISTE JOUEURS'!$P:$U,6,0)),0),IFERROR(IF(' EQUIPE A 4'!L18=4,VLOOKUP(' EQUIPE A 4'!B6&' EQUIPE A 4'!B11,'LISTE JOUEURS'!$P:$U,6,0),VLOOKUP(' EQUIPE A 4'!N6&' EQUIPE A 4'!P11,'LISTE JOUEURS'!$P:$U,6,0)),0)) -> 0 | BH13: =+_xlfn.XLOOKUP(BG13,'LISTE JOUEURS'!$U:$U,'LISTE JOUEURS'!$Q:$Q)&" "&_xlfn.XLOOKUP(BG13,'LISTE JOUEURS'!$U:$U,'LISTE JOUEURS'!$R:$R) -> #N/A
AC14: Envoyer sous format EXCEL la feuille de résultat | AZ14: =IF(OR(I12=AZ11,I13=AZ11),"ok","pas ok") -> pas ok | BA14: =IF(OR(X12=BA11,X13=BA11),"ok","pas ok") -> pas ok | BE14: perdant | BF14: =' EQUIPE A 4'!$D$2 | BG14: =IFERROR(IF(' EQUIPE A 4'!L18=0,VLOOKUP(' EQUIPE A 4'!B6&' EQUIPE A 4'!B11,'LISTE JOUEURS'!$P:$U,6,0),VLOOKUP(' EQUIPE A 4'!N6&' EQUIPE A 4'!P11,'LISTE JOUEURS'!$P:$U,6,0)),0) -> 0 | BH14: =+_xlfn.XLOOKUP(BG14,'LISTE JOUEURS'!$U:$U,'LISTE JOUEURS'!$Q:$Q)&" "&_xlfn.XLOOKUP(BG14,'LISTE JOUEURS'!$U:$U,'LISTE JOUEURS'!$R:$R) -> #N/A
J15: PARTIE A (victoire en Simple 4 pts, en double 6 pts / en Super Div victoire en Simple 1pt, en double 2 pts) | AZ15: =COUNTIF(AZ13:BA14,"pas ok") -> 4 | BE15: vainqueur | BF15: =' EQUIPE A 4'!$D$2 | BG15: =IF(I3="SuperDiv",IFERROR(IF(' EQUIPE A 4'!L19=1,VLOOKUP(' EQUIPE A 4'!B6&' EQUIPE A 4'!B11,'LISTE JOUEURS'!$P:$U,6,0),VLOOKUP(' EQUIPE A 4'!N6&' EQUIPE A 4'!P10,'LISTE JOUEURS'!$P:$U,6,0)),0),IFERROR(IF(' EQUIPE A 4'!L19=4,VLOOKUP(' EQUIPE A 4'!B6&' EQUIPE A 4'!B11,'LISTE JOUEURS'!$P:$U,6,0),VLOOKUP(' EQUIPE A 4'!N6&' EQUIPE A 4'!P10,'LISTE JOUEURS'!$P:$U,6,0)),0)) -> 0 | BH15: =+_xlfn.XLOOKUP(BG15,'LISTE JOUEURS'!$U:$U,'LISTE JOUEURS'!$Q:$Q)&" "&_xlfn.XLOOKUP(BG15,'LISTE JOUEURS'!$U:$U,'LISTE JOUEURS'!$R:$R) -> #N/A
A16: Set 1 | B16: Set 2 | C16: Set 3 | D16: Set 4 | E16: Set 5 | F16: =B6&" "&F6 | L16: A B | N16: XY | O16: =N6&" "&R6 | U16: Remarque | AC16: CLUB | AD16: BUSSY | AI16: SET1 | AJ16: SET2 | AK16: SET3 | AL16: SET4 | AM16: SET5 | AN16: SET1 | AO16: SET2 | AP16: SET3 | AQ16: SET4 | AR16: SET5 | AS16: SET1 | AT16: SET2 | AU16: SET3 | AV16: SET4 | AW16: SET5 | BE16: perdant | BF16: =' EQUIPE A 4'!$D$2 | BG16: =IFERROR(IF(' EQUIPE A 4'!L19=0,VLOOKUP(' EQUIPE A 4'!B6&' EQUIPE A 4'!B11,'LISTE JOUEURS'!$P:$U,6,0),VLOOKUP(' EQUIPE A 4'!N6&' EQUIPE A 4'!P10,'LISTE JOUEURS'!$P:$U,6,0)),0) -> 0 | BH16: =+_xlfn.XLOOKUP(BG16,'LISTE JOUEURS'!$U:$U,'LISTE JOUEURS'!$Q:$Q)&" "&_xlfn.XLOOKUP(BG16,'LISTE JOUEURS'!$U:$U,'LISTE JOUEURS'!$R:$R) -> #N/A
F17: =C10 | L17: =IF(ISNUMBER(A17),IF(OR(COUNTIF(A17:E17,">=0")>3,COUNTIF(A17:E17,"<0")>3),"XXX",IF((COUNTIF(A17:E17,">=0")-COUNTIF(A17:E17,"<0"))<0,0,IF($I$3="SuperDiv",1,4))),IF(OR(RIGHT(F17,4)="W.O.",A17=-88,A17=-99),0,IF(OR(RIGHT(O17,4)="W.O.",A17=99,A17=88),IF($I$3="SuperDiv",1,4),""))) | M17: A - X | N17: =IF(AND(ISNUMBER(A17),ISNUMBER(L17)),IF($I$3="SuperDiv",1-L17,4-L17),IF(O17="Forfait W.O.",0,IF(F17="Forfait W.O.",IF($I$3="SuperDiv",1,4),""))) | O17: =+Q10 | U17: =IF(OR(COUNTIF(A17:E17,">=0")>3,COUNTIF(A17:E17,"<0")>3),"Sets mal notés. Refaire la saisie svp",IF(ABS(A17)=99,"Abandon avant le début de la partie",IF(ABS(A17)=88,"Abandon en cours de partie"," "))) | AI17: =IF(A17>0,1,IF(A17<0,-1,0)) -> 0 | AJ17: =IF(B17>0,1,IF(B17<0,-1,0)) -> 0 | AK17: =IF(C17>0,1,IF(C17<0,-1,0)) -> 0 | AL17: =IF(D17>0,1,IF(D17<0,-1,0)) -> 0 | AM17: =IF(E17>0,1,IF(E17<0,-1,0)) -> 0 | AN17: =IF(AND(A17>0,A17<10),11,IF(AND(A17>0,A17>9),A17+2,IF(AND(A17<0,A17>-10),-11,IF(AND(A17<0,A17<-9),A17-2,0)))) -> 0 | AO17: =IF(AND(B17>0,B17<10),11,IF(AND(B17>0,B17>9),B17+2,IF(AND(B17<0,B17>-10),-11,IF(AND(B17<0,B17<-9),B17-2,0)))) -> 0 | AP17: =IF(AND(C17>0,C17<10),11,IF(AND(C17>0,C17>9),C17+2,IF(AND(C17<0,C17>-10),-11,IF(AND(C17<0,C17<-9),C17-2,0)))) -> 0 | AQ17: =IF(AND(D17>0,D17<10),11,IF(AND(D17>0,D17>9),D17+2,IF(AND(D17<0,D17>-10),-11,IF(AND(D17<0,D17<-9),D17-2,0)))) -> 0 | AR17: =IF(AND(E17>0,E17<10),11,IF(AND(E17>0,E17>9),E17+2,IF(AND(E17<0,E17>-10),-11,IF(AND(E17<0,E17<-9),E17-2,0)))) -> 0 | AS17: =-A17 -> 0 | AT17: =-B17 -> 0 | AU17: =-C17 -> 0 | AV17: =-D17 -> 0 | AW17: =-E17 -> 0 | BE17: vainqueur | BF17: =' EQUIPE A 4'!$D$2 | BG17: =IF(I3="SuperDiv",IFERROR(IF(' EQUIPE A 4'!L20=1,VLOOKUP(' EQUIPE A 4'!B6&' EQUIPE A 4'!B10,'LISTE JOUEURS'!$P:$U,6,0),VLOOKUP(' EQUIPE A 4'!N6&' EQUIPE A 4'!P11,'LISTE JOUEURS'!$P:$U,6,0)),0),IFERROR(IF(' EQUIPE A 4'!L20=4,VLOOKUP(' EQUIPE A 4'!B6&' EQUIPE A 4'!B10,'LISTE JOUEURS'!$P:$U,6,0),VLOOKUP(' EQUIPE A 4'!N6&' EQUIPE A 4'!P11,'LISTE JOUEURS'!$P:$U,6,0)),0)) -> 0 | BH17: =+_xlfn.XLOOKUP(BG17,'LISTE JOUEURS'!$U:$U,'LISTE JOUEURS'!$Q:$Q)&" "&_xlfn.XLOOKUP(BG17,'LISTE JOUEURS'!$U:$U,'LISTE JOUEURS'!$R:$R) -> #N/A
F18: =C11 | L18: =IF(ISNUMBER(A18),IF(OR(COUNTIF(A18:E18,">=0")>3,COUNTIF(A18:E18,"<0")>3),"XXX",IF((COUNTIF(A18:E18,">=0")-COUNTIF(A18:E18,"<0"))<0,0,IF($I$3="SuperDiv",1,4))),IF(OR(RIGHT(F18,4)="W.O.",A18=-88,A18=-99),0,IF(OR(RIGHT(O18,4)="W.O.",A18=99,A18=88),IF($I$3="SuperDiv",1,4),""))) | M18: B - Y | N18: =IF(AND(ISNUMBER(A18),ISNUMBER(L18)),IF($I$3="SuperDiv",1-L18,4-L18),IF(O18="Forfait W.O.",0,IF(F18="Forfait W.O.",IF($I$3="SuperDiv",1,4),""))) | O18: =+Q11 | U18: =IF(OR(COUNTIF(A18:E18,">=0")>3,COUNTIF(A18:E18,"<0")>3),"Sets mal notés. Refaire la saisie svp",IF(ABS(A18)=99,"Abandon avant le début de la partie",IF(ABS(A18)=88,"Abandon en cours de partie"," "))) | AC18: NOM | AD18: PRENOM | AE18: Code | AF18: Licence ? | AI18: =IF(A18>0,1,IF(A18<0,-1,0)) -> 0 | AJ18: =IF(B18>0,1,IF(B18<0,-1,0)) -> 0 | AK18: =IF(C18>0,1,IF(C18<0,-1,0)) -> 0 | AL18: =IF(D18>0,1,IF(D18<0,-1,0)) -> 0 | AM18: =IF(E18>0,1,IF(E18<0,-1,0)) -> 0 | AN18: =IF(AND(A18>0,A18<10),11,IF(AND(A18>0,A18>9),A18+2,IF(AND(A18<0,A18>-10),-11,IF(AND(A18<0,A18<-9),A18-2,0)))) -> 0 | AO18: =IF(AND(B18>0,B18<10),11,IF(AND(B18>0,B18>9),B18+2,IF(AND(B18<0,B18>-10),-11,IF(AND(B18<0,B18<-9),B18-2,0)))) -> 0 | AP18: =IF(AND(C18>0,C18<10),11,IF(AND(C18>0,C18>9),C18+2,IF(AND(C18<0,C18>-10),-11,IF(AND(C18<0,C18<-9),C18-2,0)))) -> 0 | AQ18: =IF(AND(D18>0,D18<10),11,IF(AND(D18>0,D18>9),D18+2,IF(AND(D18<0,D18>-10),-11,IF(AND(D18<0,D18<-9),D18-2,0)))) -> 0 | AR18: =IF(AND(E18>0,E18<10),11,IF(AND(E18>0,E18>9),E18+2,IF(AND(E18<0,E18>-10),-11,IF(AND(E18<0,E18<-9),E18-2,0)))) -> 0 | AS18: =-A18 -> 0 | AT18: =-B18 -> 0 | AU18: =-C18 -> 0 | AV18: =-D18 -> 0 | AW18: =-E18 -> 0 | BE18: perdant | BF18: =' EQUIPE A 4'!$D$2 | BG18: =IFERROR(IF(' EQUIPE A 4'!L20=0,VLOOKUP(' EQUIPE A 4'!B6&' EQUIPE A 4'!B10,'LISTE JOUEURS'!$P:$U,6,0),VLOOKUP(' EQUIPE A 4'!N6&' EQUIPE A 4'!P11,'LISTE JOUEURS'!$P:$U,6,0)),0) -> 0 | BH18: =+_xlfn.XLOOKUP(BG18,'LISTE JOUEURS'!$U:$U,'LISTE JOUEURS'!$Q:$Q)&" "&_xlfn.XLOOKUP(BG18,'LISTE JOUEURS'!$U:$U,'LISTE JOUEURS'!$R:$R) -> #N/A
F19: =C11 | L19: =IF(ISNUMBER(A19),IF(OR(COUNTIF(A19:E19,">=0")>3,COUNTIF(A19:E19,"<0")>3),"XXX",IF((COUNTIF(A19:E19,">=0")-COUNTIF(A19:E19,"<0"))<0,0,IF($I$3="SuperDiv",1,4))),IF(OR(RIGHT(F19,4)="W.O.",A19=-88,A19=-99),0,IF(OR(RIGHT(O19,4)="W.O.",A19=99,A19=88),IF($I$3="SuperDiv",1,4),""))) | M19: B - X | N19: =IF(AND(ISNUMBER(A19),ISNUMBER(L19)),IF($I$3="SuperDiv",1-L19,4-L19),IF(O19="Forfait W.O.",0,IF(F19="Forfait W.O.",IF($I$3="SuperDiv",1,4),""))) | O19: =+Q10 | U19: =IF(OR(COUNTIF(A19:E19,">=0")>3,COUNTIF(A19:E19,"<0")>3),"Sets mal notés. Refaire la saisie svp",IF(ABS(A19)=99,"Abandon avant le début de la partie",IF(ABS(A19)=88,"Abandon en cours de partie"," "))) | AC19: ATRIDE | AD19: Edwin | AE19: 1 | AF19: Licence Nok | AI19: =IF(A19>0,1,IF(A19<0,-1,0)) -> 0 | AJ19: =IF(B19>0,1,IF(B19<0,-1,0)) -> 0 | AK19: =IF(C19>0,1,IF(C19<0,-1,0)) -> 0 | AL19: =IF(D19>0,1,IF(D19<0,-1,0)) -> 0 | AM19: =IF(E19>0,1,IF(E19<0,-1,0)) -> 0 | AN19: =IF(AND(A19>0,A19<10),11,IF(AND(A19>0,A19>9),A19+2,IF(AND(A19<0,A19>-10),-11,IF(AND(A19<0,A19<-9),A19-2,0)))) -> 0 | AO19: =IF(AND(B19>0,B19<10),11,IF(AND(B19>0,B19>9),B19+2,IF(AND(B19<0,B19>-10),-11,IF(AND(B19<0,B19<-9),B19-2,0)))) -> 0 | AP19: =IF(AND(C19>0,C19<10),11,IF(AND(C19>0,C19>9),C19+2,IF(AND(C19<0,C19>-10),-11,IF(AND(C19<0,C19<-9),C19-2,0)))) -> 0 | AQ19: =IF(AND(D19>0,D19<10),11,IF(AND(D19>0,D19>9),D19+2,IF(AND(D19<0,D19>-10),-11,IF(AND(D19<0,D19<-9),D19-2,0)))) -> 0 | AR19: =IF(AND(E19>0,E19<10),11,IF(AND(E19>0,E19>9),E19+2,IF(AND(E19<0,E19>-10),-11,IF(AND(E19<0,E19<-9),E19-2,0)))) -> 0 | AS19: =-A19 -> 0 | AT19: =-B19 -> 0 | AU19: =-C19 -> 0 | AV19: =-D19 -> 0 | AW19: =-E19 -> 0 | BE19: vainqueur | BF19: =' EQUIPE A 4'!$D$2 | BG19: =IF(I3="SuperDiv",IFERROR(IF(' EQUIPE A 4'!L27=1,VLOOKUP(' EQUIPE A 4'!B6&' EQUIPE A 4'!B12,'LISTE JOUEURS'!$P:$U,6,0),VLOOKUP(' EQUIPE A 4'!N6&' EQUIPE A 4'!P12,'LISTE JOUEURS'!$P:$U,6,0)),0),IFERROR(IF(' EQUIPE A 4'!L27=3,VLOOKUP(' EQUIPE A 4'!B6&' EQUIPE A 4'!B12,'LISTE JOUEURS'!$P:$U,6,0),VLOOKUP(' EQUIPE A 4'!N6&' EQUIPE A 4'!P12,'LISTE JOUEURS'!$P:$U,6,0)),0)) -> 0 | BH19: =+_xlfn.XLOOKUP(BG19,'LISTE JOUEURS'!$U:$U,'LISTE JOUEURS'!$Q:$Q)&" "&_xlfn.XLOOKUP(BG19,'LISTE JOUEURS'!$U:$U,'LISTE JOUEURS'!$R:$R) -> #N/A
F20: =C10 | L20: =IF(ISNUMBER(A20),IF(OR(COUNTIF(A20:E20,">=0")>3,COUNTIF(A20:E20,"<0")>3),"XXX",IF((COUNTIF(A20:E20,">=0")-COUNTIF(A20:E20,"<0"))<0,0,IF($I$3="SuperDiv",1,4))),IF(OR(RIGHT(F20,4)="W.O.",A20=-88,A20=-99),0,IF(OR(RIGHT(O20,4)="W.O.",A20=99,A20=88),IF($I$3="SuperDiv",1,4),""))) | M20: A - Y | N20: =IF(AND(ISNUMBER(A20),ISNUMBER(L20)),IF($I$3="SuperDiv",1-L20,4-L20),IF(O20="Forfait W.O.",0,IF(F20="Forfait W.O.",IF($I$3="SuperDiv",1,4),""))) | O20: =+Q11 | U20: =IF(OR(COUNTIF(A20:E20,">=0")>3,COUNTIF(A20:E20,"<0")>3),"Sets mal notés. Refaire la saisie svp",IF(ABS(A20)=99,"Abandon avant le début de la partie",IF(ABS(A20)=88,"Abandon en cours de partie"," "))) | AC20: BARNIER | AD20: Stephane | AE20: 2 | AF20: Licence ok | AI20: =IF(A20>0,1,IF(A20<0,-1,0)) -> 0 | AJ20: =IF(B20>0,1,IF(B20<0,-1,0)) -> 0 | AK20: =IF(C20>0,1,IF(C20<0,-1,0)) -> 0 | AL20: =IF(D20>0,1,IF(D20<0,-1,0)) -> 0 | AM20: =IF(E20>0,1,IF(E20<0,-1,0)) -> 0 | AN20: =IF(AND(A20>0,A20<10),11,IF(AND(A20>0,A20>9),A20+2,IF(AND(A20<0,A20>-10),-11,IF(AND(A20<0,A20<-9),A20-2,0)))) -> 0 | AO20: =IF(AND(B20>0,B20<10),11,IF(AND(B20>0,B20>9),B20+2,IF(AND(B20<0,B20>-10),-11,IF(AND(B20<0,B20<-9),B20-2,0)))) -> 0 | AP20: =IF(AND(C20>0,C20<10),11,IF(AND(C20>0,C20>9),C20+2,IF(AND(C20<0,C20>-10),-11,IF(AND(C20<0,C20<-9),C20-2,0)))) -> 0 | AQ20: =IF(AND(D20>0,D20<10),11,IF(AND(D20>0,D20>9),D20+2,IF(AND(D20<0,D20>-10),-11,IF(AND(D20<0,D20<-9),D20-2,0)))) -> 0 | AR20: =IF(AND(E20>0,E20<10),11,IF(AND(E20>0,E20>9),E20+2,IF(AND(E20<0,E20>-10),-11,IF(AND(E20<0,E20<-9),E20-2,0)))) -> 0 | AS20: =-A20 -> 0 | AT20: =-B20 -> 0 | AU20: =-C20 -> 0 | AV20: =-D20 -> 0 | AW20: =-E20 -> 0 | BE20: perdant | BF20: =' EQUIPE A 4'!$D$2 | BG20: =IFERROR(IF(' EQUIPE A 4'!L27=0,VLOOKUP(' EQUIPE A 4'!B6&' EQUIPE A 4'!B12,'LISTE JOUEURS'!$P:$U,6,0),VLOOKUP(' EQUIPE A 4'!N6&' EQUIPE A 4'!P12,'LISTE JOUEURS'!$P:$U,6,0)),0) -> 0 | BH20: =+_xlfn.XLOOKUP(BG20,'LISTE JOUEURS'!$U:$U,'LISTE JOUEURS'!$Q:$Q)&" "&_xlfn.XLOOKUP(BG20,'LISTE JOUEURS'!$U:$U,'LISTE JOUEURS'!$R:$R) -> #N/A
F21: =IF(OR(F17="Forfait W.O.",F18="Forfait W.O."),B6&" "&F6&" W.O.",B6&" "&F6) | L21: =IF(ISNUMBER(A21),IF(OR(COUNTIF(A21:E21,">=0")>3,COUNTIF(A21:E21,"<0")>3),"XXX",IF((COUNTIF(A21:E21,">=0")-COUNTIF(A21:E21,"<0"))<0,0,IF($I$3="SuperDiv",2,6))),IF(OR(RIGHT(F21,4)="W.O.",A21=-88,A21=-99),0,IF(OR(RIGHT(O21,4)="W.O.",A21=99,A21=88),IF($I$3="SuperDiv",2,6),""))) | M21: DOUBLE A | N21: =IF(AND(ISNUMBER(A21),ISNUMBER(L21)),IF($I$3="SuperDiv",2-L21,6-L21),IF(RIGHT(O21,4)="W.O.",0,IF(RIGHT(F21,4)="W.O.",IF($I$3="SuperDiv",2,6),""))) | O21: =IF(OR(O17="Forfait W.O.",O18="Forfait W.O."),N6&" "&R6&" W.O.",N6&" "&R6) | U21: =IF(OR(COUNTIF(A21:E21,">=0")>3,COUNTIF(A21:E21,"<0")>3),"Sets mal notés. Refaire la saisie svp",IF(ABS(A21)=99,"Abandon avant le début de la partie",IF(ABS(A21)=88,"Abandon en cours de partie"," "))) | AC21: BONNEVIALE | AD21: Dominique | AE21: 3 | AF21: Licence ok | AI21: =IF(A21>0,1,IF(A21<0,-1,0)) -> 0 | AJ21: =IF(B21>0,1,IF(B21<0,-1,0)) -> 0 | AK21: =IF(C21>0,1,IF(C21<0,-1,0)) -> 0 | AL21: =IF(D21>0,1,IF(D21<0,-1,0)) -> 0 | AM21: =IF(E21>0,1,IF(E21<0,-1,0)) -> 0 | AN21: =IF(AND(A21>0,A21<10),11,IF(AND(A21>0,A21>9),A21+2,IF(AND(A21<0,A21>-10),-11,IF(AND(A21<0,A21<-9),A21-2,0)))) -> 0 | AO21: =IF(AND(B21>0,B21<10),11,IF(AND(B21>0,B21>9),B21+2,IF(AND(B21<0,B21>-10),-11,IF(AND(B21<0,B21<-9),B21-2,0)))) -> 0 | AP21: =IF(AND(C21>0,C21<10),11,IF(AND(C21>0,C21>9),C21+2,IF(AND(C21<0,C21>-10),-11,IF(AND(C21<0,C21<-9),C21-2,0)))) -> 0 | AQ21: =IF(AND(D21>0,D21<10),11,IF(AND(D21>0,D21>9),D21+2,IF(AND(D21<0,D21>-10),-11,IF(AND(D21<0,D21<-9),D21-2,0)))) -> 0 | AR21: =IF(AND(E21>0,E21<10),11,IF(AND(E21>0,E21>9),E21+2,IF(AND(E21<0,E21>-10),-11,IF(AND(E21<0,E21<-9),E21-2,0)))) -> 0 | AS21: =-A21 -> 0 | AT21: =-B21 -> 0 | AU21: =-C21 -> 0 | AV21: =-D21 -> 0 | AW21: =-E21 -> 0 | BC21: Division | BD21: SuperDiv | BE21: vainqueur | BF21: =' EQUIPE A 4'!$D$2 | BG21: =IF(I3="SuperDiv",IFERROR(IF(' EQUIPE A 4'!L28=1,VLOOKUP(' EQUIPE A 4'!B6&' EQUIPE A 4'!B13,'LISTE JOUEURS'!$P:$U,6,0),VLOOKUP(' EQUIPE A 4'!N6&' EQUIPE A 4'!P13,'LISTE JOUEURS'!$P:$U,6,0)),0),IFERROR(IF(' EQUIPE A 4'!L28=3,VLOOKUP(' EQUIPE A 4'!B6&' EQUIPE A 4'!B13,'LISTE JOUEURS'!$P:$U,6,0),VLOOKUP(' EQUIPE A 4'!N6&' EQUIPE A 4'!P13,'LISTE JOUEURS'!$P:$U,6,0)),0)) -> 0 | BH21: =+_xlfn.XLOOKUP(BG21,'LISTE JOUEURS'!$U:$U,'LISTE JOUEURS'!$Q:$Q)&" "&_xlfn.XLOOKUP(BG21,'LISTE JOUEURS'!$U:$U,'LISTE JOUEURS'!$R:$R) -> #N/A
AC22: CAUSSANEL | AD22: Christophe | AE22: 4 | AF22: Licence ok | BD22: Div 1 | BE22: perdant | BF22: =' EQUIPE A 4'!$D$2 | BG22: =IFERROR(IF(' EQUIPE A 4'!L28=0,VLOOKUP(' EQUIPE A 4'!B6&' EQUIPE A 4'!B13,'LISTE JOUEURS'!$P:$U,6,0),VLOOKUP(' EQUIPE A 4'!N6&' EQUIPE A 4'!P13,'LISTE JOUEURS'!$P:$U,6,0)),0) -> 0 | BH22: =+_xlfn.XLOOKUP(BG22,'LISTE JOUEURS'!$U:$U,'LISTE JOUEURS'!$Q:$Q)&" "&_xlfn.XLOOKUP(BG22,'LISTE JOUEURS'!$U:$U,'LISTE JOUEURS'!$R:$R) -> #N/A
I23: Total partie A | L23: =SUM(L17:L21) -> 0 | N23: =SUM(N17:N21) -> 0 | P23: =IF(OR(SUM(I10:I13)=0,SUM(X10:X13)=0),"",IF(AZ15=0,"","ATTENTION IL Y A UNE ERREUR DE PLACEMENT DE JOUEUR")) | AC23: CHANG | AD23: Bour | AE23: 5 | AF23: Licence Nok | BD23: Div 2 | BE23: vainqueur | BF23: =' EQUIPE A 4'!$D$2 | BG23: =IF(I3="SuperDiv",IFERROR(IF(' EQUIPE A 4'!L30=1,VLOOKUP(' EQUIPE A 4'!B6&' EQUIPE A 4'!B13,'LISTE JOUEURS'!$P:$U,6,0),VLOOKUP(' EQUIPE A 4'!N6&' EQUIPE A 4'!P12,'LISTE JOUEURS'!$P:$U,6,0)),0),IFERROR(IF(' EQUIPE A 4'!L30=3,VLOOKUP(' EQUIPE A 4'!B6&' EQUIPE A 4'!B13,'LISTE JOUEURS'!$P:$U,6,0),VLOOKUP(' EQUIPE A 4'!N6&' EQUIPE A 4'!P12,'LISTE JOUEURS'!$P:$U,6,0)),0)) -> 0 | BH23: =+_xlfn.XLOOKUP(BG23,'LISTE JOUEURS'!$U:$U,'LISTE JOUEURS'!$Q:$Q)&" "&_xlfn.XLOOKUP(BG23,'LISTE JOUEURS'!$U:$U,'LISTE JOUEURS'!$R:$R) -> #N/A
AD24: Pratsanee | AE24: 6 | AF24: Licence Nok | BD24: Div 3 | BE24: perdant | BF24: =' EQUIPE A 4'!$D$2 | BG24: =IFERROR(IF(' EQUIPE A 4'!L30=0,VLOOKUP(' EQUIPE A 4'!B6&' EQUIPE A 4'!B13,'LISTE JOUEURS'!$P:$U,6,0),VLOOKUP(' EQUIPE A 4'!N6&' EQUIPE A 4'!P12,'LISTE JOUEURS'!$P:$U,6,0)),0) -> 0 | BH24: =+_xlfn.XLOOKUP(BG24,'LISTE JOUEURS'!$U:$U,'LISTE JOUEURS'!$Q:$Q)&" "&_xlfn.XLOOKUP(BG24,'LISTE JOUEURS'!$U:$U,'LISTE JOUEURS'!$R:$R) -> #N/A
J25: PARTIE B (victoire en Simple 3 pts, en double 5 pts / en Super Div victoire en Simple 1pt, en double 2 pts) | AC25: DAUBY | AD25: Jean | AE25: 7 | AF25: Licence Nok | BE25: vainqueur | BF25: =' EQUIPE A 4'!$D$2 | BG25: =IF(I3="SuperDiv",IFERROR(IF(' EQUIPE A 4'!L31=1,VLOOKUP(' EQUIPE A 4'!B6&' EQUIPE A 4'!B12,'LISTE JOUEURS'!$P:$U,6,0),VLOOKUP(' EQUIPE A 4'!N6&' EQUIPE A 4'!P13,'LISTE JOUEURS'!$P:$U,6,0)),0),IFERROR(IF(' EQUIPE A 4'!L31=3,VLOOKUP(' EQUIPE A 4'!B6&' EQUIPE A 4'!B12,'LISTE JOUEURS'!$P:$U,6,0),VLOOKUP(' EQUIPE A 4'!N6&' EQUIPE A 4'!P13,'LISTE JOUEURS'!$P:$U,6,0)),0)) -> 0 | BH25: =+_xlfn.XLOOKUP(BG25,'LISTE JOUEURS'!$U:$U,'LISTE JOUEURS'!$Q:$Q)&" "&_xlfn.XLOOKUP(BG25,'LISTE JOUEURS'!$U:$U,'LISTE JOUEURS'!$R:$R) -> #N/A
A26: Set 1 | B26: Set 2 | C26: Set 3 | D26: Set 4 | E26: Set 5 | F26: =+F16 | L26: C D | N26: Z W | O26: =+O16 | AC26: DENY | AD26: Franck | AE26: 8 | AF26: Licence ok | AI26: SET1 | AJ26: SET2 | AK26: SET3 | AL26: SET4 | AM26: SET5 | AN26: SET1 | AO26: SET2 | AP26: SET3 | AQ26: SET4 | AR26: SET5 | AS26: SET1 | AT26: SET2 | AU26: SET3 | AV26: SET4 | AW26: SET5 | BE26: perdant | BF26: =' EQUIPE A 4'!$D$2 | BG26: =IFERROR(IF(' EQUIPE A 4'!L31=0,VLOOKUP(' EQUIPE A 4'!B6&' EQUIPE A 4'!B12,'LISTE JOUEURS'!$P:$U,6,0),VLOOKUP(' EQUIPE A 4'!N6&' EQUIPE A 4'!P13,'LISTE JOUEURS'!$P:$U,6,0)),0) -> 0 | BH26: =+_xlfn.XLOOKUP(BG26,'LISTE JOUEURS'!$U:$U,'LISTE JOUEURS'!$Q:$Q)&" "&_xlfn.XLOOKUP(BG26,'LISTE JOUEURS'!$U:$U,'LISTE JOUEURS'!$R:$R) -> #N/A
F27: =C12 | L27: =IF(ISNUMBER(A27),IF(OR(COUNTIF(A27:E27,">=0")>3,COUNTIF(A27:E27,"<0")>3),"XXX",IF((COUNTIF(A27:E27,">=0")-COUNTIF(A27:E27,"<0"))<0,0,IF($I$3="SuperDiv",1,3))),IF(OR(RIGHT(F27,4)="W.O.",A27=-88,A27=-99),0,IF(OR(RIGHT(O27,4)="W.O.",A27=99,A27=88),IF($I$3="SuperDiv",1,3),""))) | M27: C - Z | N27: =IF(AND(ISNUMBER(A27),ISNUMBER(L27)),IF($I$3="SuperDiv",1-L27,3-L27),IF(O27="Forfait W.O.",0,IF(F27="Forfait W.O.",IF($I$3="SuperDiv",1,3),""))) | O27: =Q12 | U27: =IF(OR(COUNTIF(A27:E27,">=0")>3,COUNTIF(A27:E27,"<0")>3),"Sets mal notés. Refaire la saisie svp",IF(ABS(A27)=99,"Abandon avant le début de la partie",IF(ABS(A27)=88,"Abandon en cours de partie"," "))) | AC27: DUPONT | AD27: Laurent | AE27: 9 | AF27: Licence ok | AI27: =IF(A27>0,1,IF(A27<0,-1,0)) -> 0 | AJ27: =IF(B27>0,1,IF(B27<0,-1,0)) -> 0 | AK27: =IF(C27>0,1,IF(C27<0,-1,0)) -> 0 | AL27: =IF(D27>0,1,IF(D27<0,-1,0)) -> 0 | AM27: =IF(E27>0,1,IF(E27<0,-1,0)) -> 0 | AN27: =IF(AND(A27>0,A27<10),11,IF(AND(A27>0,A27>9),A27+2,IF(AND(A27<0,A27>-10),-11,IF(AND(A27<0,A27<-9),A27-2,0)))) -> 0 | AO27: =IF(AND(B27>0,B27<10),11,IF(AND(B27>0,B27>9),B27+2,IF(AND(B27<0,B27>-10),-11,IF(AND(B27<0,B27<-9),B27-2,0)))) -> 0 | AP27: =IF(AND(C27>0,C27<10),11,IF(AND(C27>0,C27>9),C27+2,IF(AND(C27<0,C27>-10),-11,IF(AND(C27<0,C27<-9),C27-2,0)))) -> 0 | AQ27: =IF(AND(D27>0,D27<10),11,IF(AND(D27>0,D27>9),D27+2,IF(AND(D27<0,D27>-10),-11,IF(AND(D27<0,D27<-9),D27-2,0)))) -> 0 | AR27: =IF(AND(E27>0,E27<10),11,IF(AND(E27>0,E27>9),E27+2,IF(AND(E27<0,E27>-10),-11,IF(AND(E27<0,E27<-9),E27-2,0)))) -> 0 | AS27: =-A27 -> 0 | AT27: =-B27 -> 0 | AU27: =-C27 -> 0 | AV27: =-D27 -> 0 | AW27: =-E27 -> 0
F28: =C13 | L28: =IF(ISNUMBER(A28),IF(OR(COUNTIF(A28:E28,">=0")>3,COUNTIF(A28:E28,"<0")>3),"XXX",IF((COUNTIF(A28:E28,">=0")-COUNTIF(A28:E28,"<0"))<0,0,IF($I$3="SuperDiv",1,3))),IF(OR(RIGHT(F28,4)="W.O.",A28=-88,A28=-99),0,IF(OR(RIGHT(O28,4)="W.O.",A28=99,A28=88),IF($I$3="SuperDiv",1,3),""))) | M28: D - W | N28: =IF(AND(ISNUMBER(A28),ISNUMBER(L28)),IF($I$3="SuperDiv",1-L28,3-L28),IF(O28="Forfait W.O.",0,IF(F28="Forfait W.O.",IF($I$3="SuperDiv",1,3),""))) | O28: =Q13 | U28: =IF(OR(COUNTIF(A28:E28,">=0")>3,COUNTIF(A28:E28,"<0")>3),"Sets mal notés. Refaire la saisie svp",IF(ABS(A28)=99,"Abandon avant le début de la partie",IF(ABS(A28)=88,"Abandon en cours de partie"," "))) | AC28: FAYS | AD28: Florian | AE28: 10 | AF28: Licence ok | AI28: =IF(A28>0,1,IF(A28<0,-1,0)) -> 0 | AJ28: =IF(B28>0,1,IF(B28<0,-1,0)) -> 0 | AK28: =IF(C28>0,1,IF(C28<0,-1,0)) -> 0 | AL28: =IF(D28>0,1,IF(D28<0,-1,0)) -> 0 | AM28: =IF(E28>0,1,IF(E28<0,-1,0)) -> 0 | AN28: =IF(AND(A28>0,A28<10),11,IF(AND(A28>0,A28>9),A28+2,IF(AND(A28<0,A28>-10),-11,IF(AND(A28<0,A28<-9),A28-2,0)))) -> 0 | AO28: =IF(AND(B28>0,B28<10),11,IF(AND(B28>0,B28>9),B28+2,IF(AND(B28<0,B28>-10),-11,IF(AND(B28<0,B28<-9),B28-2,0)))) -> 0 | AP28: =IF(AND(C28>0,C28<10),11,IF(AND(C28>0,C28>9),C28+2,IF(AND(C28<0,C28>-10),-11,IF(AND(C28<0,C28<-9),C28-2,0)))) -> 0 | AQ28: =IF(AND(D28>0,D28<10),11,IF(AND(D28>0,D28>9),D28+2,IF(AND(D28<0,D28>-10),-11,IF(AND(D28<0,D28<-9),D28-2,0)))) -> 0 | AR28: =IF(AND(E28>0,E28<10),11,IF(AND(E28>0,E28>9),E28+2,IF(AND(E28<0,E28>-10),-11,IF(AND(E28<0,E28<-9),E28-2,0)))) -> 0 | AS28: =-A28 -> 0 | AT28: =-B28 -> 0 | AU28: =-C28 -> 0 | AV28: =-D28 -> 0 | AW28: =-E28 -> 0 | BC28: Numero | BD28: 1
F29: =IF(OR(F27="Forfait W.O.",F28="Forfait W.O."),B6&" "&F6&" W.O.",B6&" "&F6) | L29: =IF(ISNUMBER(A29),IF(OR(COUNTIF(A29:E29,">=0")>3,COUNTIF(A29:E29,"<0")>3),"XXX",IF((COUNTIF(A29:E29,">=0")-COUNTIF(A29:E29,"<0"))<0,0,IF($I$3="SuperDiv",2,5))),IF(OR(RIGHT(F29,4)="W.O.",A29=-88,A29=-99),0,IF(OR(RIGHT(O29,4)="W.O.",A29=99,A29=88),IF($I$3="SuperDiv",2,5),""))) | M29: DOUBLE B | N29: =IF(AND(ISNUMBER(A29),ISNUMBER(L29)),IF(I3="SuperDiv",2-L29,5-L29),IF(RIGHT(O29,4)="W.O.",0,IF(RIGHT(F29,4)="W.O.",IF(I3="SuperDiv",2,5),""))) | O29: =IF(OR(O27="Forfait W.O.",O28="Forfait W.O."),N6&" "&R6&" W.O.",N6&" "&R6) | U29: =IF(OR(COUNTIF(A29:E29,">=0")>3,COUNTIF(A29:E29,"<0")>3),"Sets mal notés. Refaire la saisie svp",IF(ABS(A29)=99,"Abandon avant le début de la partie",IF(ABS(A29)=88,"Abandon en cours de partie"," "))) | AC29: FLACHAIRE DE ROUSTAN | AD29: Katia | AE29: 11 | AF29: Licence Nok | AI29: =IF(A29>0,1,IF(A29<0,-1,0)) -> 0 | AJ29: =IF(B29>0,1,IF(B29<0,-1,0)) -> 0 | AK29: =IF(C29>0,1,IF(C29<0,-1,0)) -> 0 | AL29: =IF(D29>0,1,IF(D29<0,-1,0)) -> 0 | AM29: =IF(E29>0,1,IF(E29<0,-1,0)) -> 0 | AN29: =IF(AND(A29>0,A29<10),11,IF(AND(A29>0,A29>9),A29+2,IF(AND(A29<0,A29>-10),-11,IF(AND(A29<0,A29<-9),A29-2,0)))) -> 0 | AO29: =IF(AND(B29>0,B29<10),11,IF(AND(B29>0,B29>9),B29+2,IF(AND(B29<0,B29>-10),-11,IF(AND(B29<0,B29<-9),B29-2,0)))) -> 0 | AP29: =IF(AND(C29>0,C29<10),11,IF(AND(C29>0,C29>9),C29+2,IF(AND(C29<0,C29>-10),-11,IF(AND(C29<0,C29<-9),C29-2,0)))) -> 0 | AQ29: =IF(AND(D29>0,D29<10),11,IF(AND(D29>0,D29>9),D29+2,IF(AND(D29<0,D29>-10),-11,IF(AND(D29<0,D29<-9),D29-2,0)))) -> 0 | AR29: =IF(AND(E29>0,E29<10),11,IF(AND(E29>0,E29>9),E29+2,IF(AND(E29<0,E29>-10),-11,IF(AND(E29<0,E29<-9),E29-2,0)))) -> 0 | AS29: =-A29 -> 0 | AT29: =-B29 -> 0 | AU29: =-C29 -> 0 | AV29: =-D29 -> 0 | AW29: =-E29 -> 0 | BD29: 2
F30: =C13 | L30: =IF(ISNUMBER(A30),IF(OR(COUNTIF(A30:E30,">=0")>3,COUNTIF(A30:E30,"<0")>3),"XXX",IF((COUNTIF(A30:E30,">=0")-COUNTIF(A30:E30,"<0"))<0,0,IF($I$3="SuperDiv",1,3))),IF(OR(RIGHT(F30,4)="W.O.",A30=-88,A30=-99),0,IF(OR(RIGHT(O30,4)="W.O.",A30=99,A30=88),IF($I$3="SuperDiv",1,3),""))) | M30: D - Z | N30: =IF(AND(ISNUMBER(A30),ISNUMBER(L30)),IF($I$3="SuperDiv",1-L30,3-L30),IF(O30="Forfait W.O.",0,IF(F30="Forfait W.O.",IF($I$3="SuperDiv",1,3),""))) | O30: =Q12 | U30: =IF(OR(COUNTIF(A30:E30,">=0")>3,COUNTIF(A30:E30,"<0")>3),"Sets mal notés. Refaire la saisie svp",IF(ABS(A30)=99,"Abandon avant le début de la partie",IF(ABS(A30)=88,"Abandon en cours de partie"," "))) | AC30: FROMENT | AD30: Nathalie | AE30: 12 | AF30: Licence Nok | AI30: =IF(A30>0,1,IF(A30<0,-1,0)) -> 0 | AJ30: =IF(B30>0,1,IF(B30<0,-1,0)) -> 0 | AK30: =IF(C30>0,1,IF(C30<0,-1,0)) -> 0 | AL30: =IF(D30>0,1,IF(D30<0,-1,0)) -> 0 | AM30: =IF(E30>0,1,IF(E30<0,-1,0)) -> 0 | AN30: =IF(AND(A30>0,A30<10),11,IF(AND(A30>0,A30>9),A30+2,IF(AND(A30<0,A30>-10),-11,IF(AND(A30<0,A30<-9),A30-2,0)))) -> 0 | AO30: =IF(AND(B30>0,B30<10),11,IF(AND(B30>0,B30>9),B30+2,IF(AND(B30<0,B30>-10),-11,IF(AND(B30<0,B30<-9),B30-2,0)))) -> 0 | AP30: =IF(AND(C30>0,C30<10),11,IF(AND(C30>0,C30>9),C30+2,IF(AND(C30<0,C30>-10),-11,IF(AND(C30<0,C30<-9),C30-2,0)))) -> 0 | AQ30: =IF(AND(D30>0,D30<10),11,IF(AND(D30>0,D30>9),D30+2,IF(AND(D30<0,D30>-10),-11,IF(AND(D30<0,D30<-9),D30-2,0)))) -> 0 | AR30: =IF(AND(E30>0,E30<10),11,IF(AND(E30>0,E30>9),E30+2,IF(AND(E30<0,E30>-10),-11,IF(AND(E30<0,E30<-9),E30-2,0)))) -> 0 | AS30: =-A30 -> 0 | AT30: =-B30 -> 0 | AU30: =-C30 -> 0 | AV30: =-D30 -> 0 | AW30: =-E30 -> 0 | BD30: 3
F31: =C12 | L31: =IF(ISNUMBER(A31),IF(OR(COUNTIF(A31:E31,">=0")>3,COUNTIF(A31:E31,"<0")>3),"XXX",IF((COUNTIF(A31:E31,">=0")-COUNTIF(A31:E31,"<0"))<0,0,IF($I$3="SuperDiv",1,3))),IF(OR(RIGHT(F31,4)="W.O.",A31=-88,A31=-99),0,IF(OR(RIGHT(O31,4)="W.O.",A31=99,A31=88),IF($I$3="SuperDiv",1,3),""))) | M31: C - W | N31: =IF(AND(ISNUMBER(A31),ISNUMBER(L31)),IF($I$3="SuperDiv",1-L31,3-L31),IF(O31="Forfait W.O.",0,IF(F31="Forfait W.O.",IF($I$3="SuperDiv",1,3),""))) | O31: =Q13 | U31: =IF(OR(COUNTIF(A31:E31,">=0")>3,COUNTIF(A31:E31,"<0")>3),"Sets mal notés. Refaire la saisie svp",IF(ABS(A31)=99,"Abandon avant le début de la partie",IF(ABS(A31)=88,"Abandon en cours de partie"," "))) | AC31: LADEVE | AD31: Christophe | AE31: 13 | AF31: Licence ok | AI31: =IF(A31>0,1,IF(A31<0,-1,0)) -> 0 | AJ31: =IF(B31>0,1,IF(B31<0,-1,0)) -> 0 | AK31: =IF(C31>0,1,IF(C31<0,-1,0)) -> 0 | AL31: =IF(D31>0,1,IF(D31<0,-1,0)) -> 0 | AM31: =IF(E31>0,1,IF(E31<0,-1,0)) -> 0 | AN31: =IF(AND(A31>0,A31<10),11,IF(AND(A31>0,A31>9),A31+2,IF(AND(A31<0,A31>-10),-11,IF(AND(A31<0,A31<-9),A31-2,0)))) -> 0 | AO31: =IF(AND(B31>0,B31<10),11,IF(AND(B31>0,B31>9),B31+2,IF(AND(B31<0,B31>-10),-11,IF(AND(B31<0,B31<-9),B31-2,0)))) -> 0 | AP31: =IF(AND(C31>0,C31<10),11,IF(AND(C31>0,C31>9),C31+2,IF(AND(C31<0,C31>-10),-11,IF(AND(C31<0,C31<-9),C31-2,0)))) -> 0 | AQ31: =IF(AND(D31>0,D31<10),11,IF(AND(D31>0,D31>9),D31+2,IF(AND(D31<0,D31>-10),-11,IF(AND(D31<0,D31<-9),D31-2,0)))) -> 0 | AR31: =IF(AND(E31>0,E31<10),11,IF(AND(E31>0,E31>9),E31+2,IF(AND(E31<0,E31>-10),-11,IF(AND(E31<0,E31<-9),E31-2,0)))) -> 0 | AS31: =-A31 -> 0 | AT31: =-B31 -> 0 | AU31: =-C31 -> 0 | AV31: =-D31 -> 0 | AW31: =-E31 -> 0 | BD31: 4
AC32: LI | AD32: Sejou | AE32: 14 | AF32: Licence ok | BD32: 5
I33: Total partie B | L33: =SUM(L27:L31) -> 0 | N33: =SUM(N27:N31) -> 0 | AC33: LU | AD33: Philippe | AE33: 16 | AF33: Licence ok | AJ33: =B6&" "&F6 | AK33: =COUNTIF(AI17:AM21,1)+COUNTIF(AI27:AM31,1) -> 0 | AL33: =SUMIF(AN17:AW21,">0",AN17:AW21)+SUMIF(AN27:AW31,">0",AN27:AW31) -> 0 | BD33: 6
AD34: Amélie | AE34: 15 | AF34: Licence ok | AJ34: =N6&" "&R6 | AK34: =COUNTIF(AI17:AM21,-1)+COUNTIF(AI27:AM31,-1) -> 0 | AL34: =-SUMIF(AN17:AW21,"<0",AN17:AW21)-SUMIF(AN27:AW31,"<0",AN27:AW31) -> 0
AC35: MALARD | AD35: Estelle | AE35: 17 | AF35: Licence ok | BC35: Poule | BD35: Nord
A36: RESULTAT | AC36: MARZOUK | AD36: Nasreddine | AE36: 18 | AF36: Licence ok | BD36: Sud
A37: =IF((L33+L23 )>(N33+N23),B6&" "&F6,IF((L33+L23)=(N33+N23),B6&" "&F6,N6&" "&R6)) | E37: =IF(A38=H38,"à égalité avec ","BAT") -> à égalité avec | H37: =IF((L33+L23 )<(N33+N23),B6&" "&F6,IF((L33+L23)=(N33+N23),N6&" "&R6,N6&" "&R6)) | J37: ="Cap. "&O16 -> Cap. | S37: Juge Arbitre | AC37: MONTEIRO | AD37: Paul | AE37: 19 | AF37: Licence Nok | BD37: Unique
A38: =IF((L33+L23)>(N33+N23),(L33+L23)&" points",(N33+N23)&" points") -> 0 points | H38: =IF((L33+L23 )>(N33+N23),(N33+N23)&" points",(L33+L23)&" points") -> 0 points | J38: ="Cap. "&F16 -> Cap. | AC38: NGO | AD38: Olivier | AE38: 20 | AF38: Licence Nok
A39: =VLOOKUP(A37,$AJ$33:$AL$34,2,0)&" Sets à "&VLOOKUP(H37,$AJ$33:$AL$34,2,0) -> 0 Sets à 0 | AC39: POISNEUF | AD39: Jean-Luc | AE39: 21 | AF39: Licence ok
A40: =VLOOKUP(A37,$AJ$33:$AL$34,3,0)&" points à "&VLOOKUP(H37,$AJ$33:$AL$34,3,0) -> 0 points à 0 | AC40: SAISOTH | AD40: Daniel | AE40: 22 | AF40: Licence ok
AC41: SIMON | AD41: Eric | AE41: 23 | AF41: Licence ok | AY41: RECEVEUSE | AZ41: =C10
A42: IMPORTANT : Envoyer la feuille au responsable du Championnat à 4 : Raymond SMIALKOWSKI 06 52 91 69 81 et Alain GUILLOMET 06 71 86 04 86 | T42: ufolep.equipe4@gmail.com et alain.guillomet@orange.fr | AC42: SMIALKOWSKI | AD42: Raymond | AE42: 24 | AF42: Licence ok | AY42: RECEVEUSE | AZ42: =C11
A43: Mettre en copie le Club visiteur : | F43: =IFERROR(VLOOKUP(N6,'LISTING CLUB'!A:C,3,0),"") | K43: SAUVER FICHIER SOUS | O43: ="4J"&R3&"-"&I3&"-"&N3&"-"&F16&"-"&O16 -> 4J--- - | AC43: SRENG | AD43: Colin | AE43: 25 | AF43: Licence ok | AY43: RECEVEUSE | AZ43: =C12
A44: RESERVES (à faire avant la rencontre par le capitaine réclamant en présence du capitaine adverse) | AC44: STRULLU | AD44: Pascale | AE44: 26 | AF44: Licence ok | AY44: RECEVEUSE | AZ44: =C13
AC45: THOMERT | AD45: Eric | AE45: 27 | AF45: Licence ok | AY45: EXTERIEUR | AZ45: =+Q10
AC46: TILLENAYAGANE | AD46: Senthil | AE46: 28 | AF46: Licence Nok | AY46: EXTERIEUR | AZ46: =+Q11
AC47: TRANG | AD47: Daniel | AE47: 29 | AF47: Licence ok | AY47: EXTERIEUR | AZ47: =+Q12
AC48: TRIGALO WOJAKOWSKI | AD48: Benjamin | AE48: 30 | AF48: Licence ok | AY48: EXTERIEUR | AZ48: =+Q13
AC49: ZHANG DEVESA | AD49: Stefano | AE49: 31 | AF49: Licence ok
A56: RECLAMATIONS (à faire par le réclamant au cours de la rencontre ou après celle-ci)
A68: REGLEMENT
A69: - Le juge arbitre est désigné, en commun accord par les capitaines. En cas de litige, c'est le capitaine visiteur qui remplit cette fonction.
A70: - Avant la rencontre, l'attribution des lettres est faite par tirage au sort.
A71: - Chaque capitaine désigne ensuite la composition de son équipe, avec présentation obligatoire des licences.
A72: - Lorsqu'un joueur est absent, la place vacante doit figurer dans la formation 1
A73: - Les matchs ont lieu obligatoirement dans l'ordre prévu.
A74: - L'envoi de la feuille de rencontre au responsable du championnat, incombe à l'équipe qui reçoit, et cela au plus tard dans un délai de 48 heures

Sheet arbitrage 4
A1: UFOLEP 77 – Championnat départemental à 4 - 2025 - 2026 | M1: =A1 -> UFOLEP 77 – Championnat départemental à 4 - 2025 - 2026 | Y1: =A1 -> UFOLEP 77 – Championnat départemental à 4 - 2025 - 2026
B2: =+' EQUIPE A 4'!$I$3 -> 0 | G2: Poule | H2: =+' EQUIPE A 4'!$N$3 -> 0 | I2: journée | K2: =+' EQUIPE A 4'!$R$3 -> 0 | N2: =+' EQUIPE A 4'!$I$3 -> 0 | S2: Poule | T2: =+' EQUIPE A 4'!$N$3 -> 0 | U2: journée | W2: =+' EQUIPE A 4'!$R$3 -> 0 | AC2: =+' EQUIPE A 4'!$I$3 -> 0 | AE2: Poule | AF2: =+' EQUIPE A 4'!$N$3 -> 0 | AG2: journée | AI2: =+' EQUIPE A 4'!$R$3 -> 0
A3: =+' EQUIPE A 4'!$B$6&" "&' EQUIPE A 4'!$F$6 | G3: reçoit | H3: =+' EQUIPE A 4'!$N$6&" "&' EQUIPE A 4'!$R$6 | M3: =+' EQUIPE A 4'!$B$6&" "&' EQUIPE A 4'!$F$6 | S3: reçoit | T3: =+' EQUIPE A 4'!$N$6&" "&' EQUIPE A 4'!$R$6 | Y3: =+' EQUIPE A 4'!$B$6&" "&' EQUIPE A 4'!$F$6 | AE3: reçoit | AF3: =+' EQUIPE A 4'!$N$6&" "&' EQUIPE A 4'!$R$6
A4: Date | B4: =IF(ISBLANK(' EQUIPE A 4'!D3),' EQUIPE A 4'!D2,' EQUIPE A 4'!D3) | C4: =IF(ISBLANK(' EQUIPE A 4'!#REF!),' EQUIPE A 4'!#REF!,#REF!) -> #REF! | D4: =IF(ISBLANK(' EQUIPE A 4'!#REF!),' EQUIPE A 4'!#REF!,#REF!) -> #REF! | E4: =IF(ISBLANK(' EQUIPE A 4'!#REF!),' EQUIPE A 4'!#REF!,#REF!) -> #REF! | F4: =IF(ISBLANK(' EQUIPE A 4'!#REF!),' EQUIPE A 4'!#REF!,#REF!) -> #REF! | H4: Table n° | M4: Date | N4: =+B4 | T4: Table n° | Y4: Date | Z4: =+B4 | AC4: 43382 | AF4: Table n°
G5: 1er Service : Gauche-Droite | S5: 1er Service : Gauche-Droite | AE5: 1er Service : Gauche-Droite
A6: Partie | B6: A – X ( 1-A ) | G6: Set 1 | H6: Set 2 | I6: Set 3 | J6: Set 4 | K6: Set 5 | M6: Partie | N6: B – Y ( 2-A ) | S6: Set 1 | T6: Set 2 | U6: Set 3 | V6: Set 4 | W6: Set 5 | Y6: Partie | Z6: B – X ( 3-A ) | AE6: Set 1 | AF6: Set 2 | AG6: Set 3 | AH6: Set 4 | AI6: Set 5
A7: =+' EQUIPE A 4'!C10 | M7: =+' EQUIPE A 4'!C11 | Y7: =+' EQUIPE A 4'!C11
A8: =' EQUIPE A 4'!I10 | M8: =' EQUIPE A 4'!I11 | Y8: =' EQUIPE A 4'!I11
A9: contre | M9: contre | Y9: contre
A10: =+' EQUIPE A 4'!$Q$10 | M10: =+' EQUIPE A 4'!$Q$11 | Y10: =+' EQUIPE A 4'!$Q$10
A11: =' EQUIPE A 4'!X10 | M11: =' EQUIPE A 4'!X11 | Y11: =' EQUIPE A 4'!X10
A12: Arbitre | B12: (Y) | C12: =' EQUIPE A 4'!Q11 | M12: Arbitre | N12: (X) | O12: =' EQUIPE A 4'!Q10 | Y12: Arbitre | Z12: (A) | AA12: =' EQUIPE A 4'!C10
A15: =A1 -> UFOLEP 77 – Championnat départemental à 4 - 2025 - 2026 | M15: =A1 -> UFOLEP 77 – Championnat départemental à 4 - 2025 - 2026 | Y15: =A1 -> UFOLEP 77 – Championnat départemental à 4 - 2025 - 2026
B16: =+' EQUIPE A 4'!$I$3 -> 0 | G16: Poule | H16: =+' EQUIPE A 4'!$N$3 -> 0 | I16: journée | K16: =+' EQUIPE A 4'!$R$3 -> 0 | N16: =+' EQUIPE A 4'!$I$3 -> 0 | S16: Poule | T16: =+' EQUIPE A 4'!$N$3 -> 0 | U16: journée | W16: =+' EQUIPE A 4'!$R$3 -> 0 | AC16: =+' EQUIPE A 4'!$I$3 -> 0 | AE16: Poule | AF16: =+' EQUIPE A 4'!$N$3 -> 0 | AG16: journée | AI16: =+' EQUIPE A 4'!$R$3 -> 0
A17: =+' EQUIPE A 4'!$B$6&" "&' EQUIPE A 4'!$F$6 | G17: reçoit | H17: =+' EQUIPE A 4'!$N$6&" "&' EQUIPE A 4'!$R$6 | M17: =+' EQUIPE A 4'!$B$6&" "&' EQUIPE A 4'!$F$6 | S17: reçoit | T17: =+' EQUIPE A 4'!$N$6&" "&' EQUIPE A 4'!$R$6 | Y17: =+' EQUIPE A 4'!$B$6&" "&' EQUIPE A 4'!$F$6 | AE17: reçoit | AF17: =+' EQUIPE A 4'!$N$6&" "&' EQUIPE A 4'!$R$6
A18: Date | B18: =+B4 | H18: Table n° | M18: Date | N18: =+B4 | T18: Table n° | Y18: Date | Z18: =+B4 | AC18: 43382 | AF18: Table n°
G19: 1er Service : Gauche-Droite | S19: 1er Service : Gauche-Droite | AE19: 1er Service : Gauche-Droite
A20: Partie | B20: A – Y ( 4-A ) | G20: Set 1 | H20: Set 2 | I20: Set 3 | J20: Set 4 | K20: Set 5 | M20: Partie | N20: DOUBLE A ( 5-A ) | S20: Set 1 | T20: Set 2 | U20: Set 3 | V20: Set 4 | W20: Set 5 | Y20: Partie | Z20: C – Z ( 1-B ) | AE20: Set 1 | AF20: Set 2 | AG20: Set 3 | AH20: Set 4 | AI20: Set 5
A21: =+A7 | M21: =' EQUIPE A 4'!C10 | Y21: =+' EQUIPE A 4'!C12
A22: =' EQUIPE A 4'!I10 | M22: =' EQUIPE A 4'!C11 | Y22: =' EQUIPE A 4'!I12
A23: contre | M23: contre | Y23: contre
A24: =+M10 | M24: =' EQUIPE A 4'!Q10 | Y24: =+' EQUIPE A 4'!Q12
A25: =' EQUIPE A 4'!X11 | M25: =' EQUIPE A 4'!Q11 | Y25: =' EQUIPE A 4'!X12
A26: Arbitre | B26: B) | C26: =' EQUIPE A 4'!C11 | M26: Arbitre | Y26: Arbitre | Z26: (W) | AA26: =' EQUIPE A 4'!Q13
A29: =A1 -> UFOLEP 77 – Championnat départemental à 4 - 2025 - 2026 | M29: =A1 -> UFOLEP 77 – Championnat départemental à 4 - 2025 - 2026 | Y29: =A1 -> UFOLEP 77 – Championnat départemental à 4 - 2025 - 2026
B30: =+' EQUIPE A 4'!$I$3 -> 0 | G30: Poule | H30: =+' EQUIPE A 4'!$N$3 -> 0 | I30: journée | K30: =+' EQUIPE A 4'!$R$3 -> 0 | N30: =+' EQUIPE A 4'!$I$3 -> 0 | S30: Poule | T30: =+' EQUIPE A 4'!$N$3 -> 0 | U30: journée | W30: =+' EQUIPE A 4'!$R$3 -> 0 | AC30: =+' EQUIPE A 4'!$I$3 -> 0 | AE30: Poule | AF30: =+' EQUIPE A 4'!$N$3 -> 0 | AG30: journée | AI30: =+' EQUIPE A 4'!$R$3 -> 0
A31: =+' EQUIPE A 4'!$B$6&" "&' EQUIPE A 4'!$F$6 | G31: reçoit | H31: =+' EQUIPE A 4'!$N$6&" "&' EQUIPE A 4'!$R$6 | M31: =+' EQUIPE A 4'!$B$6&" "&' EQUIPE A 4'!$F$6 | S31: reçoit | T31: =+' EQUIPE A 4'!$N$6&" "&' EQUIPE A 4'!$R$6 | Y31: =+' EQUIPE A 4'!$B$6&" "&' EQUIPE A 4'!$F$6 | AE31: reçoit | AF31: =+' EQUIPE A 4'!$N$6&" "&' EQUIPE A 4'!$R$6
A32: Date | B32: =+B4 | H32: Table n° | M32: Date | N32: =+B4 | T32: Table n° | Y32: Date | Z32: =+B4 | AC32: 43382 | AF32: Table n°
G33: 1er Service : Gauche-Droite | S33: 1er Service : Gauche-Droite | AE33: 1er Service : Gauche-Droite
A34: Partie | B34: D – W ( 2-B ) | G34: Set 1 | H34: Set 2 | I34: Set 3 | J34: Set 4 | K34: Set 5 | M34: Partie | N34: DOUBLE B ( 3-B ) | S34: Set 1 | T34: Set 2 | U34: Set 3 | V34: Set 4 | W34: Set 5 | Y34: Partie | Z34: D-Z ( 4-B ) | AE34: Set 1 | AF34: Set 2 | AG34: Set 3 | AH34: Set 4 | AI34: Set 5
A35: =+' EQUIPE A 4'!C13 | M35: =' EQUIPE A 4'!C12 | Y35: =+A35
A36: =' EQUIPE A 4'!I13 | M36: =' EQUIPE A 4'!C13 | Y36: =' EQUIPE A 4'!I13
A37: contre | M37: contre | Y37: contre
A38: =+' EQUIPE A 4'!Q13 | M38: =' EQUIPE A 4'!Q12 | Y38: =+Y24
A39: =' EQUIPE A 4'!X13 | M39: =' EQUIPE A 4'!Q13 | Y39: =' EQUIPE A 4'!X12
A40: Arbitre | B40: (Z) | C40: =' EQUIPE A 4'!Q12 | M40: Arbitre | Y40: Arbitre | Z40: ( C) | AA40: =' EQUIPE A 4'!C12
A43: =A1 -> UFOLEP 77 – Championnat départemental à 4 - 2025 - 2026
B44: =+' EQUIPE A 4'!$I$3 -> 0 | G44: Poule | H44: =+' EQUIPE A 4'!$N$3 -> 0 | I44: journée | K44: =+' EQUIPE A 4'!$R$3 -> 0 | S44: Poule | U44: journée | AE44: Poule | AG44: journée
A45: =+' EQUIPE A 4'!$B$6&" "&' EQUIPE A 4'!$F$6 | G45: reçoit | H45: =+' EQUIPE A 4'!$N$6&" "&' EQUIPE A 4'!$R$6 | S45: reçoit | AE45: reçoit
A46: Date | B46: =+B4 | H46: Table n° | M46: Date | T46: Table n° | Y46: Date | AF46: Table n°
G47: 1er Service : Gauche-Droite | S47: 1er Service : Gauche-Droite | AE47: 1er Service : Gauche-Droite
A48: Partie | B48: C-W ( 5-B ) | G48: Set 1 | H48: Set 2 | I48: Set 3 | J48: Set 4 | K48: Set 5 | M48: Partie | S48: Set 1 | T48: Set 2 | U48: Set 3 | V48: Set 4 | W48: Set 5 | Y48: Partie | AE48: Set 1 | AF48: Set 2 | AG48: Set 3 | AH48: Set 4 | AI48: Set 5
A49: =+Y21
A50: =' EQUIPE A 4'!I12
A51: contre | M51: contre | Y51: contre
A52: =+A38
A53: =' EQUIPE A 4'!X13
A54: Arbitre | B54: (D) | C54: =' EQUIPE A 4'!C13 | M54: Arbitre | Y54: Arbitre
G58: Poule | I58: journée | S58: Poule | U58: journée | AE58: Poule | AG58: journée
G59: reçoit | S59: reçoit | AE59: reçoit
A60: Date | H60: Table n° | M60: Date | N60: 43382 | Q60: 43382 | T60: Table n° | Y60: Date | AC60: 43382 | AF60: Table n°
G61: 1er Service : Gauche-Droite | S61: 1er Service : Gauche-Droite | AE61: 1er Service : Gauche-Droite
A62: Partie | G62: Set 1 | H62: Set 2 | I62: Set 3 | J62: Set 4 | K62: Set 5 | M62: Partie | S62: Set 1 | T62: Set 2 | U62: Set 3 | V62: Set 4 | W62: Set 5 | Y62: Partie | AE62: Set 1 | AF62: Set 2 | AG62: Set 3 | AH62: Set 4 | AI62: Set 5
A65: contre | M65: contre | Y65: contre
A68: Arbitre | M68: Arbitre | Y68: Arbitre

Sheet JEUNES (4)
A1: Championnat départemental par équipes JEUNES - SEINE et MARNE - Saison 2025 - 2026 | CA1: Résultat | CB1: JJ | CC1: =R3 -> 0 | CD1: =+D2 | CE1: =IF(ISBLANK(D3),D2,D3) | CF1: =I3 -> 0 | CG1: =N3 -> 0 | CH1: =B6&" "&F6 | CI1: contre | CJ1: =N6&" "&R6 | CL1: =L23 + L33 -> 0 | CM1: =N23 +N33 -> 0 | CO1: =AK33 -> 0 | CP1: =AK34 -> 0 | CR1: =AL33 -> 0 | CS1: =AL34 -> 0
A2: Date prévue | D2: =+IFERROR(VLOOKUP(R3,'Jour Match'!$B$26:$C$34,2,0),"") | AC2: NOTICE : Important toujours utiliser une feuille de match originale
A3: Date réelle : | G3: DIVISION | M3: Poule | P3: Journée | AC3: Selectionner la journée, la division et la poule et la date rélle si différente de la date prévue officiellemnt
AC4: Sélectionner les équipes et et numeros
B5: Eq. receveuse | N5: Equipe extérieure | AC5: Saisir les codes de chaque joueur, utiliser la liste ci-dessous apres avoir selectionne le club
AC6: Si joueur inconnu ne pas mettre de code et saisir Nom prenom directement
V7: ='EQUIPE A 3'!W6 -> Mise à jour du 24 Novembre 2025 | AC7: Indiquer un score positif si c'est le joueur à domicile qui gagne le set et un score négatif si le joueur extérieur gagne le set.
AC8: Marquer 0,1 ou -0,1 lorsqu'un des joueurs gagne 11/0 en respectant le signe indiqué au dessus, 0 sera alors affiché
B9: Code | C9: NOM - Prénom | I9: Clt. | J9: Licence | P9: Code | Q9: NOM - Prénom | X9: Clt. | Y9: Licence | AC9: Si joueur forfait saisir 0 (zéro) pour code, pas de score à sasir, le tableau se remplira automatiqement
A10: A | C10: =IF(B10="","",IFERROR(VLOOKUP($B$6&$B10,'LISTE JOUEURS'!$P:$S,2,0),"")) &" "& IF(B10="","",IFERROR(VLOOKUP($B$6&$B10,'LISTE JOUEURS'!$P:$S,3,0),"")) | I10: =IF(B10="","",IFERROR(VLOOKUP($B$6&$B10,'LISTE JOUEURS'!$P:$U,4,0),500)) | J10: =IF(B10="","",IFERROR(VLOOKUP($B$6&$B10,'LISTE JOUEURS'!$P:$U,5,0),"")) | O10: X | Q10: =IF(P10="","",IFERROR(VLOOKUP($N$6&$P10,'LISTE JOUEURS'!$P:$S,2,0),""))& " "&IF(P10="","",IFERROR(VLOOKUP($N$6&$P10,'LISTE JOUEURS'!$P:$S,3,0),"")) | X10: =IF(P10="","",IFERROR(VLOOKUP($N$6&$P10,'LISTE JOUEURS'!$P:$U,4,0),500)) | Y10: =IF(P10="","",IFERROR(VLOOKUP($N$6&$P10,'LISTE JOUEURS'!$P:$U,5,0),"")) | AC10: Si abandon d'un joueur avant de commencer la partie saisir 99 (ou -99) dans la case du premier set uniquement et pour tous ses matches suivants | BO10: V/D | BP10: Date | BQ10: Code joueur
A11: B | C11: =IF(B11="","",IFERROR(VLOOKUP($B$6&$B11,'LISTE JOUEURS'!$P:$S,2,0),"")) &" "& IF(B11="","",IFERROR(VLOOKUP($B$6&$B11,'LISTE JOUEURS'!$P:$S,3,0),"")) | I11: =IF(B11="","",IFERROR(VLOOKUP($B$6&$B11,'LISTE JOUEURS'!$P:$U,4,0),500)) | J11: =IF(B11="","",IFERROR(VLOOKUP($B$6&$B11,'LISTE JOUEURS'!$P:$U,5,0),"")) | O11: Y | Q11: =IF(P11="","",IFERROR(VLOOKUP($N$6&$P11,'LISTE JOUEURS'!$P:$S,2,0),""))& " "&IF(P11="","",IFERROR(VLOOKUP($N$6&$P11,'LISTE JOUEURS'!$P:$S,3,0),"")) | X11: =IF(P11="","",IFERROR(VLOOKUP($N$6&$P11,'LISTE JOUEURS'!$P:$U,4,0),500)) | Y11: =IF(P11="","",IFERROR(VLOOKUP($N$6&$P11,'LISTE JOUEURS'!$P:$U,5,0),"")) | AC11: Si abandon d'un joueur en cours de partie mettre 88 (ou -88) dans la case du premer set uniquement et pour tous ses matches suivants. | BO11: vainqueur | BP11: ='JEUNES (4)'!$D$2 | BQ11: =IFERROR(IF('JEUNES (4)'!L17=4,VLOOKUP('JEUNES (4)'!B6&'JEUNES (4)'!B10,'LISTE JOUEURS'!$P:$U,6,0),VLOOKUP('JEUNES (4)'!N6&'JEUNES (4)'!P10,'LISTE JOUEURS'!$P:$U,6,0)),0) -> 0 | BR11: =+_xlfn.XLOOKUP(BQ11,'LISTE JOUEURS'!$U:$U,'LISTE JOUEURS'!$Q:$Q)&" "&_xlfn.XLOOKUP(BQ11,'LISTE JOUEURS'!$U:$U,'LISTE JOUEURS'!$R:$R) -> #N/A
A12: C | C12: =IF(B12="","",IFERROR(VLOOKUP($B$6&$B12,'LISTE JOUEURS'!$P:$S,2,0),"")) &" "& IF(B12="","",IFERROR(VLOOKUP($B$6&$B12,'LISTE JOUEURS'!$P:$S,3,0),"")) | I12: =IF(B12="","",IFERROR(VLOOKUP($B$6&$B12,'LISTE JOUEURS'!$P:$U,4,0),500)) | J12: =IF(B12="","",IFERROR(VLOOKUP($B$6&$B12,'LISTE JOUEURS'!$P:$U,5,0),"")) | O12: Z | Q12: =IF(P12="","",IFERROR(VLOOKUP($N$6&$P12,'LISTE JOUEURS'!$P:$S,2,0),""))& " "&IF(P12="","",IFERROR(VLOOKUP($N$6&$P12,'LISTE JOUEURS'!$P:$S,3,0),"")) | X12: =IF(P12="","",IFERROR(VLOOKUP($N$6&$P12,'LISTE JOUEURS'!$P:$U,4,0),500)) | Y12: =IF(P12="","",IFERROR(VLOOKUP($N$6&$P12,'LISTE JOUEURS'!$P:$U,5,0),"")) | AC12: Un joueur déclarant forfait l'est également pour les matches suivants de la rencontre | BO12: perdant | BP12: ='JEUNES (4)'!$D$2 | BQ12: =IFERROR(IF('JEUNES (4)'!L17=0,VLOOKUP('JEUNES (4)'!B6&'JEUNES (4)'!B10,'LISTE JOUEURS'!$P:$U,6,0),VLOOKUP('JEUNES (4)'!N6&'JEUNES (4)'!P10,'LISTE JOUEURS'!$P:$U,6,0)),0) -> 0 | BR12: =+_xlfn.XLOOKUP(BQ12,'LISTE JOUEURS'!$U:$U,'LISTE JOUEURS'!$Q:$Q)&" "&_xlfn.XLOOKUP(BQ12,'LISTE JOUEURS'!$U:$U,'LISTE JOUEURS'!$R:$R) -> #N/A
A13: D | C13: =IF(B13="","",IFERROR(VLOOKUP($B$6&$B13,'LISTE JOUEURS'!$P:$S,2,0),"")) &" "& IF(B13="","",IFERROR(VLOOKUP($B$6&$B13,'LISTE JOUEURS'!$P:$S,3,0),"")) | I13: =IF(B13="","",IFERROR(VLOOKUP($B$6&$B13,'LISTE JOUEURS'!$P:$U,4,0),500)) | J13: =IF(B13="","",IFERROR(VLOOKUP($B$6&$B13,'LISTE JOUEURS'!$P:$U,5,0),"")) | O13: W | Q13: =IF(P13="","",IFERROR(VLOOKUP($N$6&$P13,'LISTE JOUEURS'!$P:$S,2,0),""))& " "&IF(P13="","",IFERROR(VLOOKUP($N$6&$P13,'LISTE JOUEURS'!$P:$S,3,0),"")) | X13: =IF(P13="","",IFERROR(VLOOKUP($N$6&$P13,'LISTE JOUEURS'!$P:$U,4,0),500)) | Y13: =IF(P13="","",IFERROR(VLOOKUP($N$6&$P13,'LISTE JOUEURS'!$P:$U,5,0),"")) | AC13: Sur les feuilles d'arbitrage fournies à titre indicatif les noms des joueurs sont ajoutés automatiquement | BO13: vainqueur | BP13: ='JEUNES (4)'!$D$2 | BQ13: =IFERROR(IF('JEUNES (4)'!L18=4,VLOOKUP('JEUNES (4)'!B6&'JEUNES (4)'!B11,'LISTE JOUEURS'!$P:$U,6,0),VLOOKUP('JEUNES (4)'!N6&'JEUNES (4)'!P11,'LISTE JOUEURS'!$P:$U,6,0)),0) -> 0 | BR13: =+_xlfn.XLOOKUP(BQ13,'LISTE JOUEURS'!$U:$U,'LISTE JOUEURS'!$Q:$Q)&" "&_xlfn.XLOOKUP(BQ13,'LISTE JOUEURS'!$U:$U,'LISTE JOUEURS'!$R:$R) -> #N/A
AC14: Envoyer sous format EXCEL la feuille de résultat | BO14: perdant | BP14: ='JEUNES (4)'!$D$2 | BQ14: =IFERROR(IF('JEUNES (4)'!L18=0,VLOOKUP('JEUNES (4)'!B6&'JEUNES (4)'!B11,'LISTE JOUEURS'!$P:$U,6,0),VLOOKUP('JEUNES (4)'!N6&'JEUNES (4)'!P11,'LISTE JOUEURS'!$P:$U,6,0)),0) -> 0 | BR14: =+_xlfn.XLOOKUP(BQ14,'LISTE JOUEURS'!$U:$U,'LISTE JOUEURS'!$Q:$Q)&" "&_xlfn.XLOOKUP(BQ14,'LISTE JOUEURS'!$U:$U,'LISTE JOUEURS'!$R:$R) -> #N/A
J15: PARTIE A (victoire en Simple 4 pts, en double 6 pts / en Super Div victoire en Simple 1pt, en double 2 pts) | BO15: vainqueur | BP15: ='JEUNES (4)'!$D$2 | BQ15: =IFERROR(IF('JEUNES (4)'!L19=4,VLOOKUP('JEUNES (4)'!B6&'JEUNES (4)'!B11,'LISTE JOUEURS'!$P:$U,6,0),VLOOKUP('JEUNES (4)'!N6&'JEUNES (4)'!P10,'LISTE JOUEURS'!$P:$U,6,0)),0) -> 0 | BR15: =+_xlfn.XLOOKUP(BQ15,'LISTE JOUEURS'!$U:$U,'LISTE JOUEURS'!$Q:$Q)&" "&_xlfn.XLOOKUP(BQ15,'LISTE JOUEURS'!$U:$U,'LISTE JOUEURS'!$R:$R) -> #N/A
A16: Set 1 | B16: Set 2 | C16: Set 3 | D16: Set 4 | E16: Set 5 | F16: =B6&" "&F6 | L16: A B | N16: XY | O16: =N6&" "&R6 | U16: Remarque | AC16: CLUB | AD16: MELUN | AI16: SET1 | AJ16: SET2 | AK16: SET3 | AL16: SET4 | AM16: SET5 | AN16: SET1 | AO16: SET2 | AP16: SET3 | AQ16: SET4 | AR16: SET5 | AS16: SET1 | AT16: SET2 | AU16: SET3 | AV16: SET4 | AW16: SET5 | BO16: perdant | BP16: ='JEUNES (4)'!$D$2 | BQ16: =IFERROR(IF('JEUNES (4)'!L19=0,VLOOKUP('JEUNES (4)'!B6&'JEUNES (4)'!B11,'LISTE JOUEURS'!$P:$U,6,0),VLOOKUP('JEUNES (4)'!N6&'JEUNES (4)'!P10,'LISTE JOUEURS'!$P:$U,6,0)),0) -> 0 | BR16: =+_xlfn.XLOOKUP(BQ16,'LISTE JOUEURS'!$U:$U,'LISTE JOUEURS'!$Q:$Q)&" "&_xlfn.XLOOKUP(BQ16,'LISTE JOUEURS'!$U:$U,'LISTE JOUEURS'!$R:$R) -> #N/A
F17: =C10 | L17: =IF(ISNUMBER(A17),IF(OR(COUNTIF(A17:E17,">=0")>3,COUNTIF(A17:E17,"<0")>3),"XXX",IF((COUNTIF(A17:E17,">=0")-COUNTIF(A17:E17,"<0"))<0,0,IF($I$3="SuperDiv",1,4))),IF(OR(RIGHT(F17,4)="W.O.",A17=-88,A17=-99),0,IF(OR(RIGHT(O17,4)="W.O.",A17=99,A17=88),IF($I$3="SuperDiv",1,4),""))) | M17: A - X | N17: =IF(AND(ISNUMBER(A17),ISNUMBER(L17)),IF($I$3="SuperDiv",1-L17,4-L17),IF(O17="Forfait W.O.",0,IF(F17="Forfait W.O.",IF($I$3="SuperDiv",1,4),""))) | O17: =+Q10 | U17: =IF(OR(COUNTIF(A17:E17,">=0")>3,COUNTIF(A17:E17,"<0")>3),"Sets mal notés. Refaire la saisie svp",IF(ABS(A17)=99,"Abandon avant le début de la partie",IF(ABS(A17)=88,"Abandon en cours de partie"," "))) | AI17: =IF(A17>0,1,IF(A17<0,-1,0)) -> 0 | AJ17: =IF(B17>0,1,IF(B17<0,-1,0)) -> 0 | AK17: =IF(C17>0,1,IF(C17<0,-1,0)) -> 0 | AL17: =IF(D17>0,1,IF(D17<0,-1,0)) -> 0 | AM17: =IF(E17>0,1,IF(E17<0,-1,0)) -> 0 | AN17: =IF(AND(A17>0,A17<10),11,IF(AND(A17>0,A17>9),A17+2,IF(AND(A17<0,A17>-10),-11,IF(AND(A17<0,A17<-9),A17-2,0)))) -> 0 | AO17: =IF(AND(B17>0,B17<10),11,IF(AND(B17>0,B17>9),B17+2,IF(AND(B17<0,B17>-10),-11,IF(AND(B17<0,B17<-9),B17-2,0)))) -> 0 | AP17: =IF(AND(C17>0,C17<10),11,IF(AND(C17>0,C17>9),C17+2,IF(AND(C17<0,C17>-10),-11,IF(AND(C17<0,C17<-9),C17-2,0)))) -> 0 | AQ17: =IF(AND(D17>0,D17<10),11,IF(AND(D17>0,D17>9),D17+2,IF(AND(D17<0,D17>-10),-11,IF(AND(D17<0,D17<-9),D17-2,0)))) -> 0 | AR17: =IF(AND(E17>0,E17<10),11,IF(AND(E17>0,E17>9),E17+2,IF(AND(E17<0,E17>-10),-11,IF(AND(E17<0,E17<-9),E17-2,0)))) -> 0 | AS17: =-A17 -> 0 | AT17: =-B17 -> 0 | AU17: =-C17 -> 0 | AV17: =-D17 -> 0 | AW17: =-E17 -> 0 | BO17: vainqueur | BP17: ='JEUNES (4)'!$D$2 | BQ17: =IFERROR(IF('JEUNES (4)'!L20=4,VLOOKUP('JEUNES (4)'!B6&'JEUNES (4)'!B10,'LISTE JOUEURS'!$P:$U,6,0),VLOOKUP('JEUNES (4)'!N6&'JEUNES (4)'!P11,'LISTE JOUEURS'!$P:$U,6,0)),0) -> 0 | BR17: =+_xlfn.XLOOKUP(BQ17,'LISTE JOUEURS'!$U:$U,'LISTE JOUEURS'!$Q:$Q)&" "&_xlfn.XLOOKUP(BQ17,'LISTE JOUEURS'!$U:$U,'LISTE JOUEURS'!$R:$R) -> #N/A
F18: =C11 | L18: =IF(ISNUMBER(A18),IF(OR(COUNTIF(A18:E18,">=0")>3,COUNTIF(A18:E18,"<0")>3),"XXX",IF((COUNTIF(A18:E18,">=0")-COUNTIF(A18:E18,"<0"))<0,0,IF($I$3="SuperDiv",1,4))),IF(OR(RIGHT(F18,4)="W.O.",A18=-88,A18=-99),0,IF(OR(RIGHT(O18,4)="W.O.",A18=99,A18=88),IF($I$3="SuperDiv",1,4),""))) | M18: B - Y | N18: =IF(AND(ISNUMBER(A18),ISNUMBER(L18)),IF($I$3="SuperDiv",1-L18,4-L18),IF(O18="Forfait W.O.",0,IF(F18="Forfait W.O.",IF($I$3="SuperDiv",1,4),""))) | O18: =+Q11 | U18: =IF(OR(COUNTIF(A18:E18,">=0")>3,COUNTIF(A18:E18,"<0")>3),"Sets mal notés. Refaire la saisie svp",IF(ABS(A18)=99,"Abandon avant le début de la partie",IF(ABS(A18)=88,"Abandon en cours de partie"," "))) | AC18: NOM | AD18: PRENOM | AE18: Code | AF18: Licence ? | AI18: =IF(A18>0,1,IF(A18<0,-1,0)) -> 0 | AJ18: =IF(B18>0,1,IF(B18<0,-1,0)) -> 0 | AK18: =IF(C18>0,1,IF(C18<0,-1,0)) -> 0 | AL18: =IF(D18>0,1,IF(D18<0,-1,0)) -> 0 | AM18: =IF(E18>0,1,IF(E18<0,-1,0)) -> 0 | AN18: =IF(AND(A18>0,A18<10),11,IF(AND(A18>0,A18>9),A18+2,IF(AND(A18<0,A18>-10),-11,IF(AND(A18<0,A18<-9),A18-2,0)))) -> 0 | AO18: =IF(AND(B18>0,B18<10),11,IF(AND(B18>0,B18>9),B18+2,IF(AND(B18<0,B18>-10),-11,IF(AND(B18<0,B18<-9),B18-2,0)))) -> 0 | AP18: =IF(AND(C18>0,C18<10),11,IF(AND(C18>0,C18>9),C18+2,IF(AND(C18<0,C18>-10),-11,IF(AND(C18<0,C18<-9),C18-2,0)))) -> 0 | AQ18: =IF(AND(D18>0,D18<10),11,IF(AND(D18>0,D18>9),D18+2,IF(AND(D18<0,D18>-10),-11,IF(AND(D18<0,D18<-9),D18-2,0)))) -> 0 | AR18: =IF(AND(E18>0,E18<10),11,IF(AND(E18>0,E18>9),E18+2,IF(AND(E18<0,E18>-10),-11,IF(AND(E18<0,E18<-9),E18-2,0)))) -> 0 | AS18: =-A18 -> 0 | AT18: =-B18 -> 0 | AU18: =-C18 -> 0 | AV18: =-D18 -> 0 | AW18: =-E18 -> 0 | BO18: perdant | BP18: ='JEUNES (4)'!$D$2 | BQ18: =IFERROR(IF('JEUNES (4)'!L20=0,VLOOKUP('JEUNES (4)'!B6&'JEUNES (4)'!B10,'LISTE JOUEURS'!$P:$U,6,0),VLOOKUP('JEUNES (4)'!N6&'JEUNES (4)'!P11,'LISTE JOUEURS'!$P:$U,6,0)),0) -> 0 | BR18: =+_xlfn.XLOOKUP(BQ18,'LISTE JOUEURS'!$U:$U,'LISTE JOUEURS'!$Q:$Q)&" "&_xlfn.XLOOKUP(BQ18,'LISTE JOUEURS'!$U:$U,'LISTE JOUEURS'!$R:$R) -> #N/A
F19: =C11 | L19: =IF(ISNUMBER(A19),IF(OR(COUNTIF(A19:E19,">=0")>3,COUNTIF(A19:E19,"<0")>3),"XXX",IF((COUNTIF(A19:E19,">=0")-COUNTIF(A19:E19,"<0"))<0,0,IF($I$3="SuperDiv",1,4))),IF(OR(RIGHT(F19,4)="W.O.",A19=-88,A19=-99),0,IF(OR(RIGHT(O19,4)="W.O.",A19=99,A19=88),IF($I$3="SuperDiv",1,4),""))) | M19: B - X | N19: =IF(AND(ISNUMBER(A19),ISNUMBER(L19)),IF($I$3="SuperDiv",1-L19,4-L19),IF(O19="Forfait W.O.",0,IF(F19="Forfait W.O.",IF($I$3="SuperDiv",1,4),""))) | O19: =+Q10 | U19: =IF(OR(COUNTIF(A19:E19,">=0")>3,COUNTIF(A19:E19,"<0")>3),"Sets mal notés. Refaire la saisie svp",IF(ABS(A19)=99,"Abandon avant le début de la partie",IF(ABS(A19)=88,"Abandon en cours de partie"," "))) | AC19: AMEURLAIN | AD19: Thomas | AE19: 1 | AF19: Licence Nok | AI19: =IF(A19>0,1,IF(A19<0,-1,0)) -> 0 | AJ19: =IF(B19>0,1,IF(B19<0,-1,0)) -> 0 | AK19: =IF(C19>0,1,IF(C19<0,-1,0)) -> 0 | AL19: =IF(D19>0,1,IF(D19<0,-1,0)) -> 0 | AM19: =IF(E19>0,1,IF(E19<0,-1,0)) -> 0 | AN19: =IF(AND(A19>0,A19<10),11,IF(AND(A19>0,A19>9),A19+2,IF(AND(A19<0,A19>-10),-11,IF(AND(A19<0,A19<-9),A19-2,0)))) -> 0 | AO19: =IF(AND(B19>0,B19<10),11,IF(AND(B19>0,B19>9),B19+2,IF(AND(B19<0,B19>-10),-11,IF(AND(B19<0,B19<-9),B19-2,0)))) -> 0 | AP19: =IF(AND(C19>0,C19<10),11,IF(AND(C19>0,C19>9),C19+2,IF(AND(C19<0,C19>-10),-11,IF(AND(C19<0,C19<-9),C19-2,0)))) -> 0 | AQ19: =IF(AND(D19>0,D19<10),11,IF(AND(D19>0,D19>9),D19+2,IF(AND(D19<0,D19>-10),-11,IF(AND(D19<0,D19<-9),D19-2,0)))) -> 0 | AR19: =IF(AND(E19>0,E19<10),11,IF(AND(E19>0,E19>9),E19+2,IF(AND(E19<0,E19>-10),-11,IF(AND(E19<0,E19<-9),E19-2,0)))) -> 0 | AS19: =-A19 -> 0 | AT19: =-B19 -> 0 | AU19: =-C19 -> 0 | AV19: =-D19 -> 0 | AW19: =-E19 -> 0 | BO19: vainqueur | BP19: ='JEUNES (4)'!$D$2 | BQ19: =IFERROR(IF('JEUNES (4)'!L27=3,VLOOKUP('JEUNES (4)'!B6&'JEUNES (4)'!B12,'LISTE JOUEURS'!$P:$U,6,0),VLOOKUP('JEUNES (4)'!N6&'JEUNES (4)'!P12,'LISTE JOUEURS'!$P:$U,6,0)),0) -> 0 | BR19: =+_xlfn.XLOOKUP(BQ19,'LISTE JOUEURS'!$U:$U,'LISTE JOUEURS'!$Q:$Q)&" "&_xlfn.XLOOKUP(BQ19,'LISTE JOUEURS'!$U:$U,'LISTE JOUEURS'!$R:$R) -> #N/A
F20: =C10 | L20: =IF(ISNUMBER(A20),IF(OR(COUNTIF(A20:E20,">=0")>3,COUNTIF(A20:E20,"<0")>3),"XXX",IF((COUNTIF(A20:E20,">=0")-COUNTIF(A20:E20,"<0"))<0,0,IF($I$3="SuperDiv",1,4))),IF(OR(RIGHT(F20,4)="W.O.",A20=-88,A20=-99),0,IF(OR(RIGHT(O20,4)="W.O.",A20=99,A20=88),IF($I$3="SuperDiv",1,4),""))) | M20: A - Y | N20: =IF(AND(ISNUMBER(A20),ISNUMBER(L20)),IF($I$3="SuperDiv",1-L20,4-L20),IF(O20="Forfait W.O.",0,IF(F20="Forfait W.O.",IF($I$3="SuperDiv",1,4),""))) | O20: =+Q11 | U20: =IF(OR(COUNTIF(A20:E20,">=0")>3,COUNTIF(A20:E20,"<0")>3),"Sets mal notés. Refaire la saisie svp",IF(ABS(A20)=99,"Abandon avant le début de la partie",IF(ABS(A20)=88,"Abandon en cours de partie"," "))) | AC20: AZIZ | AD20: Nohlan | AE20: 2 | AF20: Licence Nok | AI20: =IF(A20>0,1,IF(A20<0,-1,0)) -> 0 | AJ20: =IF(B20>0,1,IF(B20<0,-1,0)) -> 0 | AK20: =IF(C20>0,1,IF(C20<0,-1,0)) -> 0 | AL20: =IF(D20>0,1,IF(D20<0,-1,0)) -> 0 | AM20: =IF(E20>0,1,IF(E20<0,-1,0)) -> 0 | AN20: =IF(AND(A20>0,A20<10),11,IF(AND(A20>0,A20>9),A20+2,IF(AND(A20<0,A20>-10),-11,IF(AND(A20<0,A20<-9),A20-2,0)))) -> 0 | AO20: =IF(AND(B20>0,B20<10),11,IF(AND(B20>0,B20>9),B20+2,IF(AND(B20<0,B20>-10),-11,IF(AND(B20<0,B20<-9),B20-2,0)))) -> 0 | AP20: =IF(AND(C20>0,C20<10),11,IF(AND(C20>0,C20>9),C20+2,IF(AND(C20<0,C20>-10),-11,IF(AND(C20<0,C20<-9),C20-2,0)))) -> 0 | AQ20: =IF(AND(D20>0,D20<10),11,IF(AND(D20>0,D20>9),D20+2,IF(AND(D20<0,D20>-10),-11,IF(AND(D20<0,D20<-9),D20-2,0)))) -> 0 | AR20: =IF(AND(E20>0,E20<10),11,IF(AND(E20>0,E20>9),E20+2,IF(AND(E20<0,E20>-10),-11,IF(AND(E20<0,E20<-9),E20-2,0)))) -> 0 | AS20: =-A20 -> 0 | AT20: =-B20 -> 0 | AU20: =-C20 -> 0 | AV20: =-D20 -> 0 | AW20: =-E20 -> 0 | BO20: perdant | BP20: ='JEUNES (4)'!$D$2 | BQ20: =IFERROR(IF('JEUNES (4)'!L27=0,VLOOKUP('JEUNES (4)'!B6&'JEUNES (4)'!B12,'LISTE JOUEURS'!$P:$U,6,0),VLOOKUP('JEUNES (4)'!N6&'JEUNES (4)'!P12,'LISTE JOUEURS'!$P:$U,6,0)),0) -> 0 | BR20: =+_xlfn.XLOOKUP(BQ20,'LISTE JOUEURS'!$U:$U,'LISTE JOUEURS'!$Q:$Q)&" "&_xlfn.XLOOKUP(BQ20,'LISTE JOUEURS'!$U:$U,'LISTE JOUEURS'!$R:$R) -> #N/A
F21: =IF(OR(F17="Forfait W.O.",F18="Forfait W.O."),B6&" "&F6&" W.O.",B6&" "&F6) | L21: =IF(ISNUMBER(A21),IF(OR(COUNTIF(A21:E21,">=0")>3,COUNTIF(A21:E21,"<0")>3),"XXX",IF((COUNTIF(A21:E21,">=0")-COUNTIF(A21:E21,"<0"))<0,0,IF($I$3="SuperDiv",2,6))),IF(OR(RIGHT(F21,4)="W.O.",A21=-88,A21=-99),0,IF(OR(RIGHT(O21,4)="W.O.",A21=99,A21=88),IF($I$3="SuperDiv",2,6),""))) | M21: DOUBLE A | N21: =IF(AND(ISNUMBER(A21),ISNUMBER(L21)),IF($I$3="SuperDiv",2-L21,6-L21),IF(RIGHT(O21,4)="W.O.",0,IF(RIGHT(F21,4)="W.O.",IF($I$3="SuperDiv",2,6),""))) | O21: =IF(OR(O17="Forfait W.O.",O18="Forfait W.O."),N6&" "&R6&" W.O.",N6&" "&R6) | U21: =IF(OR(COUNTIF(A21:E21,">=0")>3,COUNTIF(A21:E21,"<0")>3),"Sets mal notés. Refaire la saisie svp",IF(ABS(A21)=99,"Abandon avant le début de la partie",IF(ABS(A21)=88,"Abandon en cours de partie"," "))) | AC21: BARREIROS | AD21: Edouard | AE21: 3 | AF21: Licence Nok | AI21: =IF(A21>0,1,IF(A21<0,-1,0)) -> 0 | AJ21: =IF(B21>0,1,IF(B21<0,-1,0)) -> 0 | AK21: =IF(C21>0,1,IF(C21<0,-1,0)) -> 0 | AL21: =IF(D21>0,1,IF(D21<0,-1,0)) -> 0 | AM21: =IF(E21>0,1,IF(E21<0,-1,0)) -> 0 | AN21: =IF(AND(A21>0,A21<10),11,IF(AND(A21>0,A21>9),A21+2,IF(AND(A21<0,A21>-10),-11,IF(AND(A21<0,A21<-9),A21-2,0)))) -> 0 | AO21: =IF(AND(B21>0,B21<10),11,IF(AND(B21>0,B21>9),B21+2,IF(AND(B21<0,B21>-10),-11,IF(AND(B21<0,B21<-9),B21-2,0)))) -> 0 | AP21: =IF(AND(C21>0,C21<10),11,IF(AND(C21>0,C21>9),C21+2,IF(AND(C21<0,C21>-10),-11,IF(AND(C21<0,C21<-9),C21-2,0)))) -> 0 | AQ21: =IF(AND(D21>0,D21<10),11,IF(AND(D21>0,D21>9),D21+2,IF(AND(D21<0,D21>-10),-11,IF(AND(D21<0,D21<-9),D21-2,0)))) -> 0 | AR21: =IF(AND(E21>0,E21<10),11,IF(AND(E21>0,E21>9),E21+2,IF(AND(E21<0,E21>-10),-11,IF(AND(E21<0,E21<-9),E21-2,0)))) -> 0 | AS21: =-A21 -> 0 | AT21: =-B21 -> 0 | AU21: =-C21 -> 0 | AV21: =-D21 -> 0 | AW21: =-E21 -> 0 | BM21: Division | BN21: Poussins/Benjamins/Minimes | BO21: vainqueur | BP21: ='JEUNES (4)'!$D$2 | BQ21: =IFERROR(IF('JEUNES (4)'!L28=3,VLOOKUP('JEUNES (4)'!B6&'JEUNES (4)'!B13,'LISTE JOUEURS'!$P:$U,6,0),VLOOKUP('JEUNES (4)'!N6&'JEUNES (4)'!P13,'LISTE JOUEURS'!$P:$U,6,0)),0) -> 0 | BR21: =+_xlfn.XLOOKUP(BQ21,'LISTE JOUEURS'!$U:$U,'LISTE JOUEURS'!$Q:$Q)&" "&_xlfn.XLOOKUP(BQ21,'LISTE JOUEURS'!$U:$U,'LISTE JOUEURS'!$R:$R) -> #N/A
AC22: BAZIZ | AD22: Nabil | AE22: 4 | AF22: Licence ok | BN22: Cadets/Minimes | BO22: perdant | BP22: ='JEUNES (4)'!$D$2 | BQ22: =IFERROR(IF('JEUNES (4)'!L28=0,VLOOKUP('JEUNES (4)'!B6&'JEUNES (4)'!B13,'LISTE JOUEURS'!$P:$U,6,0),VLOOKUP('JEUNES (4)'!N6&'JEUNES (4)'!P13,'LISTE JOUEURS'!$P:$U,6,0)),0) -> 0 | BR22: =+_xlfn.XLOOKUP(BQ22,'LISTE JOUEURS'!$U:$U,'LISTE JOUEURS'!$Q:$Q)&" "&_xlfn.XLOOKUP(BQ22,'LISTE JOUEURS'!$U:$U,'LISTE JOUEURS'!$R:$R) -> #N/A
I23: Total partie A | L23: =SUM(L17:L21) -> 0 | N23: =SUM(N17:N21) -> 0 | AC23: BECKER | AD23: Alain | AE23: 5 | AF23: Licence Nok | BO23: vainqueur | BP23: ='JEUNES (4)'!$D$2 | BQ23: =IFERROR(IF('JEUNES (4)'!L30=3,VLOOKUP('JEUNES (4)'!B6&'JEUNES (4)'!B13,'LISTE JOUEURS'!$P:$U,6,0),VLOOKUP('JEUNES (4)'!N6&'JEUNES (4)'!P12,'LISTE JOUEURS'!$P:$U,6,0)),0) -> 0 | BR23: =+_xlfn.XLOOKUP(BQ23,'LISTE JOUEURS'!$U:$U,'LISTE JOUEURS'!$Q:$Q)&" "&_xlfn.XLOOKUP(BQ23,'LISTE JOUEURS'!$U:$U,'LISTE JOUEURS'!$R:$R) -> #N/A
AD24: Didier | AE24: 6 | AF24: Licence Nok | BO24: perdant | BP24: ='JEUNES (4)'!$D$2 | BQ24: =IFERROR(IF('JEUNES (4)'!L30=0,VLOOKUP('JEUNES (4)'!B6&'JEUNES (4)'!B13,'LISTE JOUEURS'!$P:$U,6,0),VLOOKUP('JEUNES (4)'!N6&'JEUNES (4)'!P12,'LISTE JOUEURS'!$P:$U,6,0)),0) -> 0 | BR24: =+_xlfn.XLOOKUP(BQ24,'LISTE JOUEURS'!$U:$U,'LISTE JOUEURS'!$Q:$Q)&" "&_xlfn.XLOOKUP(BQ24,'LISTE JOUEURS'!$U:$U,'LISTE JOUEURS'!$R:$R) -> #N/A
J25: PARTIE B (victoire en Simple 3 pts, en double 5 pts / en Super Div victoire en Simple 1pt, en double 2 pts) | AC25: BENABDALLAH CHARRIER | AD25: Sacha | AE25: 7 | AF25: Licence ok | BO25: vainqueur | BP25: ='JEUNES (4)'!$D$2 | BQ25: =IFERROR(IF('JEUNES (4)'!L31=3,VLOOKUP('JEUNES (4)'!B6&'JEUNES (4)'!B12,'LISTE JOUEURS'!$P:$U,6,0),VLOOKUP('JEUNES (4)'!N6&'JEUNES (4)'!P13,'LISTE JOUEURS'!$P:$U,6,0)),0) -> 0 | BR25: =+_xlfn.XLOOKUP(BQ25,'LISTE JOUEURS'!$U:$U,'LISTE JOUEURS'!$Q:$Q)&" "&_xlfn.XLOOKUP(BQ25,'LISTE JOUEURS'!$U:$U,'LISTE JOUEURS'!$R:$R) -> #N/A
A26: Set 1 | B26: Set 2 | C26: Set 3 | D26: Set 4 | E26: Set 5 | F26: =+F16 | L26: C D | N26: Z W | O26: =+O16 | AD26: Swan | AE26: 8 | AF26: Licence ok | AI26: SET1 | AJ26: SET2 | AK26: SET3 | AL26: SET4 | AM26: SET5 | AN26: SET1 | AO26: SET2 | AP26: SET3 | AQ26: SET4 | AR26: SET5 | AS26: SET1 | AT26: SET2 | AU26: SET3 | AV26: SET4 | AW26: SET5 | BO26: perdant | BP26: ='JEUNES (4)'!$D$2 | BQ26: =IFERROR(IF('JEUNES (4)'!L31=0,VLOOKUP('JEUNES (4)'!B6&'JEUNES (4)'!B12,'LISTE JOUEURS'!$P:$U,6,0),VLOOKUP('JEUNES (4)'!N6&'JEUNES (4)'!P13,'LISTE JOUEURS'!$P:$U,6,0)),0) -> 0 | BR26: =+_xlfn.XLOOKUP(BQ26,'LISTE JOUEURS'!$U:$U,'LISTE JOUEURS'!$Q:$Q)&" "&_xlfn.XLOOKUP(BQ26,'LISTE JOUEURS'!$U:$U,'LISTE JOUEURS'!$R:$R) -> #N/A
F27: =C12 | L27: =IF(ISNUMBER(A27),IF(OR(COUNTIF(A27:E27,">=0")>3,COUNTIF(A27:E27,"<0")>3),"XXX",IF((COUNTIF(A27:E27,">=0")-COUNTIF(A27:E27,"<0"))<0,0,IF($I$3="SuperDiv",1,3))),IF(OR(RIGHT(F27,4)="W.O.",A27=-88,A27=-99),0,IF(OR(RIGHT(O27,4)="W.O.",A27=99,A27=88),IF($I$3="SuperDiv",1,3),""))) | M27: C - Z | N27: =IF(AND(ISNUMBER(A27),ISNUMBER(L27)),IF($I$3="SuperDiv",1-L27,3-L27),IF(O27="Forfait W.O.",0,IF(F27="Forfait W.O.",IF($I$3="SuperDiv",1,3),""))) | O27: =Q12 | U27: =IF(OR(COUNTIF(A27:E27,">=0")>3,COUNTIF(A27:E27,"<0")>3),"Sets mal notés. Refaire la saisie svp",IF(ABS(A27)=99,"Abandon avant le début de la partie",IF(ABS(A27)=88,"Abandon en cours de partie"," "))) | AC27: BERSOT | AD27: Antoine | AE27: 9 | AF27: Licence Nok | AI27: =IF(A27>0,1,IF(A27<0,-1,0)) -> 0 | AJ27: =IF(B27>0,1,IF(B27<0,-1,0)) -> 0 | AK27: =IF(C27>0,1,IF(C27<0,-1,0)) -> 0 | AL27: =IF(D27>0,1,IF(D27<0,-1,0)) -> 0 | AM27: =IF(E27>0,1,IF(E27<0,-1,0)) -> 0 | AN27: =IF(AND(A27>0,A27<10),11,IF(AND(A27>0,A27>9),A27+2,IF(AND(A27<0,A27>-10),-11,IF(AND(A27<0,A27<-9),A27-2,0)))) -> 0 | AO27: =IF(AND(B27>0,B27<10),11,IF(AND(B27>0,B27>9),B27+2,IF(AND(B27<0,B27>-10),-11,IF(AND(B27<0,B27<-9),B27-2,0)))) -> 0 | AP27: =IF(AND(C27>0,C27<10),11,IF(AND(C27>0,C27>9),C27+2,IF(AND(C27<0,C27>-10),-11,IF(AND(C27<0,C27<-9),C27-2,0)))) -> 0 | AQ27: =IF(AND(D27>0,D27<10),11,IF(AND(D27>0,D27>9),D27+2,IF(AND(D27<0,D27>-10),-11,IF(AND(D27<0,D27<-9),D27-2,0)))) -> 0 | AR27: =IF(AND(E27>0,E27<10),11,IF(AND(E27>0,E27>9),E27+2,IF(AND(E27<0,E27>-10),-11,IF(AND(E27<0,E27<-9),E27-2,0)))) -> 0 | AS27: =-A27 -> 0 | AT27: =-B27 -> 0 | AU27: =-C27 -> 0 | AV27: =-D27 -> 0 | AW27: =-E27 -> 0
F28: =C13 | L28: =IF(ISNUMBER(A28),IF(OR(COUNTIF(A28:E28,">=0")>3,COUNTIF(A28:E28,"<0")>3),"XXX",IF((COUNTIF(A28:E28,">=0")-COUNTIF(A28:E28,"<0"))<0,0,IF($I$3="SuperDiv",1,3))),IF(OR(RIGHT(F28,4)="W.O.",A28=-88,A28=-99),0,IF(OR(RIGHT(O28,4)="W.O.",A28=99,A28=88),IF($I$3="SuperDiv",1,3),""))) | M28: D - W | N28: =IF(AND(ISNUMBER(A28),ISNUMBER(L28)),IF($I$3="SuperDiv",1-L28,3-L28),IF(O28="Forfait W.O.",0,IF(F28="Forfait W.O.",IF($I$3="SuperDiv",1,3),""))) | O28: =Q13 | U28: =IF(OR(COUNTIF(A28:E28,">=0")>3,COUNTIF(A28:E28,"<0")>3),"Sets mal notés. Refaire la saisie svp",IF(ABS(A28)=99,"Abandon avant le début de la partie",IF(ABS(A28)=88,"Abandon en cours de partie"," "))) | AC28: BISPO | AD28: Yasin | AE28: 10 | AF28: Licence ok | AI28: =IF(A28>0,1,IF(A28<0,-1,0)) -> 0 | AJ28: =IF(B28>0,1,IF(B28<0,-1,0)) -> 0 | AK28: =IF(C28>0,1,IF(C28<0,-1,0)) -> 0 | AL28: =IF(D28>0,1,IF(D28<0,-1,0)) -> 0 | AM28: =IF(E28>0,1,IF(E28<0,-1,0)) -> 0 | AN28: =IF(AND(A28>0,A28<10),11,IF(AND(A28>0,A28>9),A28+2,IF(AND(A28<0,A28>-10),-11,IF(AND(A28<0,A28<-9),A28-2,0)))) -> 0 | AO28: =IF(AND(B28>0,B28<10),11,IF(AND(B28>0,B28>9),B28+2,IF(AND(B28<0,B28>-10),-11,IF(AND(B28<0,B28<-9),B28-2,0)))) -> 0 | AP28: =IF(AND(C28>0,C28<10),11,IF(AND(C28>0,C28>9),C28+2,IF(AND(C28<0,C28>-10),-11,IF(AND(C28<0,C28<-9),C28-2,0)))) -> 0 | AQ28: =IF(AND(D28>0,D28<10),11,IF(AND(D28>0,D28>9),D28+2,IF(AND(D28<0,D28>-10),-11,IF(AND(D28<0,D28<-9),D28-2,0)))) -> 0 | AR28: =IF(AND(E28>0,E28<10),11,IF(AND(E28>0,E28>9),E28+2,IF(AND(E28<0,E28>-10),-11,IF(AND(E28<0,E28<-9),E28-2,0)))) -> 0 | AS28: =-A28 -> 0 | AT28: =-B28 -> 0 | AU28: =-C28 -> 0 | AV28: =-D28 -> 0 | AW28: =-E28 -> 0 | BM28: Numero | BN28: 1
F29: =IF(OR(F27="Forfait W.O.",F28="Forfait W.O."),B6&" "&F6&" W.O.",B6&" "&F6) | L29: =IF(ISNUMBER(A29),IF(OR(COUNTIF(A29:E29,">=0")>3,COUNTIF(A29:E29,"<0")>3),"XXX",IF((COUNTIF(A29:E29,">=0")-COUNTIF(A29:E29,"<0"))<0,0,IF($I$3="SuperDiv",2,5))),IF(OR(RIGHT(F29,4)="W.O.",A29=-88,A29=-99),0,IF(OR(RIGHT(O29,4)="W.O.",A29=99,A29=88),IF($I$3="SuperDiv",2,5),""))) | M29: DOUBLE B | N29: =IF(AND(ISNUMBER(A29),ISNUMBER(L29)),IF(I3="SuperDiv",2-L29,5-L29),IF(RIGHT(O29,4)="W.O.",0,IF(RIGHT(F29,4)="W.O.",IF(I3="SuperDiv",2,5),""))) | O29: =IF(OR(O27="Forfait W.O.",O28="Forfait W.O."),N6&" "&R6&" W.O.",N6&" "&R6) | U29: =IF(OR(COUNTIF(A29:E29,">=0")>3,COUNTIF(A29:E29,"<0")>3),"Sets mal notés. Refaire la saisie svp",IF(ABS(A29)=99,"Abandon avant le début de la partie",IF(ABS(A29)=88,"Abandon en cours de partie"," "))) | AC29: BLONDELOT | AD29: Mahe | AE29: 11 | AF29: Licence Nok | AI29: =IF(A29>0,1,IF(A29<0,-1,0)) -> 0 | AJ29: =IF(B29>0,1,IF(B29<0,-1,0)) -> 0 | AK29: =IF(C29>0,1,IF(C29<0,-1,0)) -> 0 | AL29: =IF(D29>0,1,IF(D29<0,-1,0)) -> 0 | AM29: =IF(E29>0,1,IF(E29<0,-1,0)) -> 0 | AN29: =IF(AND(A29>0,A29<10),11,IF(AND(A29>0,A29>9),A29+2,IF(AND(A29<0,A29>-10),-11,IF(AND(A29<0,A29<-9),A29-2,0)))) -> 0 | AO29: =IF(AND(B29>0,B29<10),11,IF(AND(B29>0,B29>9),B29+2,IF(AND(B29<0,B29>-10),-11,IF(AND(B29<0,B29<-9),B29-2,0)))) -> 0 | AP29: =IF(AND(C29>0,C29<10),11,IF(AND(C29>0,C29>9),C29+2,IF(AND(C29<0,C29>-10),-11,IF(AND(C29<0,C29<-9),C29-2,0)))) -> 0 | AQ29: =IF(AND(D29>0,D29<10),11,IF(AND(D29>0,D29>9),D29+2,IF(AND(D29<0,D29>-10),-11,IF(AND(D29<0,D29<-9),D29-2,0)))) -> 0 | AR29: =IF(AND(E29>0,E29<10),11,IF(AND(E29>0,E29>9),E29+2,IF(AND(E29<0,E29>-10),-11,IF(AND(E29<0,E29<-9),E29-2,0)))) -> 0 | AS29: =-A29 -> 0 | AT29: =-B29 -> 0 | AU29: =-C29 -> 0 | AV29: =-D29 -> 0 | AW29: =-E29 -> 0 | BN29: 2
F30: =C13 | L30: =IF(ISNUMBER(A30),IF(OR(COUNTIF(A30:E30,">=0")>3,COUNTIF(A30:E30,"<0")>3),"XXX",IF((COUNTIF(A30:E30,">=0")-COUNTIF(A30:E30,"<0"))<0,0,IF($I$3="SuperDiv",1,3))),IF(OR(RIGHT(F30,4)="W.O.",A30=-88,A30=-99),0,IF(OR(RIGHT(O30,4)="W.O.",A30=99,A30=88),IF($I$3="SuperDiv",1,3),""))) | M30: D - Z | N30: =IF(AND(ISNUMBER(A30),ISNUMBER(L30)),IF($I$3="SuperDiv",1-L30,3-L30),IF(O30="Forfait W.O.",0,IF(F30="Forfait W.O.",IF($I$3="SuperDiv",1,3),""))) | O30: =Q12 | U30: =IF(OR(COUNTIF(A30:E30,">=0")>3,COUNTIF(A30:E30,"<0")>3),"Sets mal notés. Refaire la saisie svp",IF(ABS(A30)=99,"Abandon avant le début de la partie",IF(ABS(A30)=88,"Abandon en cours de partie"," "))) | AC30: BOTEREL | AD30: Mathieu | AE30: 12 | AF30: Licence Nok | AI30: =IF(A30>0,1,IF(A30<0,-1,0)) -> 0 | AJ30: =IF(B30>0,1,IF(B30<0,-1,0)) -> 0 | AK30: =IF(C30>0,1,IF(C30<0,-1,0)) -> 0 | AL30: =IF(D30>0,1,IF(D30<0,-1,0)) -> 0 | AM30: =IF(E30>0,1,IF(E30<0,-1,0)) -> 0 | AN30: =IF(AND(A30>0,A30<10),11,IF(AND(A30>0,A30>9),A30+2,IF(AND(A30<0,A30>-10),-11,IF(AND(A30<0,A30<-9),A30-2,0)))) -> 0 | AO30: =IF(AND(B30>0,B30<10),11,IF(AND(B30>0,B30>9),B30+2,IF(AND(B30<0,B30>-10),-11,IF(AND(B30<0,B30<-9),B30-2,0)))) -> 0 | AP30: =IF(AND(C30>0,C30<10),11,IF(AND(C30>0,C30>9),C30+2,IF(AND(C30<0,C30>-10),-11,IF(AND(C30<0,C30<-9),C30-2,0)))) -> 0 | AQ30: =IF(AND(D30>0,D30<10),11,IF(AND(D30>0,D30>9),D30+2,IF(AND(D30<0,D30>-10),-11,IF(AND(D30<0,D30<-9),D30-2,0)))) -> 0 | AR30: =IF(AND(E30>0,E30<10),11,IF(AND(E30>0,E30>9),E30+2,IF(AND(E30<0,E30>-10),-11,IF(AND(E30<0,E30<-9),E30-2,0)))) -> 0 | AS30: =-A30 -> 0 | AT30: =-B30 -> 0 | AU30: =-C30 -> 0 | AV30: =-D30 -> 0 | AW30: =-E30 -> 0 | BN30: 3
F31: =C12 | L31: =IF(ISNUMBER(A31),IF(OR(COUNTIF(A31:E31,">=0")>3,COUNTIF(A31:E31,"<0")>3),"XXX",IF((COUNTIF(A31:E31,">=0")-COUNTIF(A31:E31,"<0"))<0,0,IF($I$3="SuperDiv",1,3))),IF(OR(RIGHT(F31,4)="W.O.",A31=-88,A31=-99),0,IF(OR(RIGHT(O31,4)="W.O.",A31=99,A31=88),IF($I$3="SuperDiv",1,3),""))) | M31: C - W | N31: =IF(AND(ISNUMBER(A31),ISNUMBER(L31)),IF($I$3="SuperDiv",1-L31,3-L31),IF(O31="Forfait W.O.",0,IF(F31="Forfait W.O.",IF($I$3="SuperDiv",1,3),""))) | O31: =Q13 | U31: =IF(OR(COUNTIF(A31:E31,">=0")>3,COUNTIF(A31:E31,"<0")>3),"Sets mal notés. Refaire la saisie svp",IF(ABS(A31)=99,"Abandon avant le début de la partie",IF(ABS(A31)=88,"Abandon en cours de partie"," "))) | AC31: BOULAND | AD31: Alméris | AE31: 13 | AF31: Licence ok | AI31: =IF(A31>0,1,IF(A31<0,-1,0)) -> 0 | AJ31: =IF(B31>0,1,IF(B31<0,-1,0)) -> 0 | AK31: =IF(C31>0,1,IF(C31<0,-1,0)) -> 0 | AL31: =IF(D31>0,1,IF(D31<0,-1,0)) -> 0 | AM31: =IF(E31>0,1,IF(E31<0,-1,0)) -> 0 | AN31: =IF(AND(A31>0,A31<10),11,IF(AND(A31>0,A31>9),A31+2,IF(AND(A31<0,A31>-10),-11,IF(AND(A31<0,A31<-9),A31-2,0)))) -> 0 | AO31: =IF(AND(B31>0,B31<10),11,IF(AND(B31>0,B31>9),B31+2,IF(AND(B31<0,B31>-10),-11,IF(AND(B31<0,B31<-9),B31-2,0)))) -> 0 | AP31: =IF(AND(C31>0,C31<10),11,IF(AND(C31>0,C31>9),C31+2,IF(AND(C31<0,C31>-10),-11,IF(AND(C31<0,C31<-9),C31-2,0)))) -> 0 | AQ31: =IF(AND(D31>0,D31<10),11,IF(AND(D31>0,D31>9),D31+2,IF(AND(D31<0,D31>-10),-11,IF(AND(D31<0,D31<-9),D31-2,0)))) -> 0 | AR31: =IF(AND(E31>0,E31<10),11,IF(AND(E31>0,E31>9),E31+2,IF(AND(E31<0,E31>-10),-11,IF(AND(E31<0,E31<-9),E31-2,0)))) -> 0 | AS31: =-A31 -> 0 | AT31: =-B31 -> 0 | AU31: =-C31 -> 0 | AV31: =-D31 -> 0 | AW31: =-E31 -> 0 | BN31: 4
AC32: BOUTET BARRAL | AD32: Celiann | AE32: 14 | AF32: Licence Nok | BN32: 5
I33: Total partie B | L33: =SUM(L27:L31) -> 0 | N33: =SUM(N27:N31) -> 0 | AC33: BRICOUT | AD33: Emmanuel | AE33: 15 | AF33: Licence Nok | AJ33: =$B$6&" "&$F$6 | AK33: =COUNTIF(AI17:AM21,1)+COUNTIF(AI27:AM31,1) -> 0 | AL33: =SUMIF(AN17:AW21,">0",AN17:AW21)+SUMIF(AN27:AW31,">0",AN27:AW31) -> 0 | BN33: 6
AC34: BUART | AD34: Jean-Marie | AE34: 16 | AF34: Licence Nok | AJ34: =$N$6&" "&$R$6 | AK34: =COUNTIF(AI17:AM21,-1)+COUNTIF(AI27:AM31,-1) -> 0 | AL34: =-SUMIF(AN17:AW21,"<0",AN17:AW21)-SUMIF(AN27:AW31,"<0",AN27:AW31) -> 0
AC35: CEBALLOS | AD35: Lise | AE35: 17 | AF35: Licence ok | BM35: Poule | BN35: Nord
A36: RESULTAT | AC36: CHABRAISON | AD36: Guenael | AE36: 18 | AF36: Licence ok | BN36: Sud
A37: =IF((L33+L23 )>(N33+N23),B6&" "&F6,IF((L33+L23)=(N33+N23),B6&" "&F6,N6&" "&R6)) | E37: =IF(A40=H40,"à égalité avec ","BAT") -> BAT | H37: =IF((L33+L23 )<(N33+N23),B6&" "&F6,IF((L33+L23)=(N33+N23),N6&" "&R6,N6&" "&R6)) | J37: ="Cap. "&O16 -> Cap. | S37: Juge Arbitre | AD37: Stevan | AE37: 19 | AF37: Licence ok
A38: =IF((L33+L23)>(N33+N23),(L33+L23)&" points",(N33+N23)&" points") -> 0 points | H38: =IF((L33+L23 )>(N33+N23),(N33+N23)&" points",(L33+L23)&" points") -> 0 points | J38: ="Cap. "&F16 -> Cap. | AC38: CHALUPKA | AD38: Mathias | AE38: 20 | AF38: Licence Nok
A39: =VLOOKUP(A37,$AJ$33:$AL$34,2,0)&" Sets à "&VLOOKUP(H37,$AJ$33:$AL$34,2,0) -> 0 Sets à 0 | AC39: CHERRIER | AD39: Lucien | AE39: 21 | AF39: Licence Nok | BI39: RECEVEUSE | BJ39: =C10
A40: =ROUND(VLOOKUP(A37,$AJ$33:$AL$34,3,0),0)&" points à "&ROUND(VLOOKUP(H37,$AJ$33:$AL$34,3,0),0) -> 0 points à 0 | AC40: CLARISSON | AD40: Philippe | AE40: 22 | AF40: Licence ok | BI40: RECEVEUSE | BJ40: =C11
AC41: COMERSON | AD41: Noah | AE41: 23 | AF41: Licence ok | BI41: RECEVEUSE | BJ41: =C12
A42: IMPORTANT : Envoyer la feuille de match au responsable du Championnat Jeunes : Alain GUILLOMET 06 71 86 04 86 | Q42: alain.guillomet@orange.fr | AC42: COURREGELONGUE | AD42: Edouard | AE42: 24 | AF42: Licence ok | BI42: RECEVEUSE | BJ42: =C13
A43: Mettre en copie le Club visiteur : | F43: =IFERROR(VLOOKUP(N6,'LISTING CLUB'!A:C,3,0),"") | K43: SAUVER FICHIER SOUS | O43: ="JJ"&R3&"-"&I3&"-"&N3&"-"&F16&"-"&O16 -> JJ--- - | AC43: COUSSEAU | AD43: Adrien | AE43: 25 | AF43: Licence ok | BI43: EXTERIEUR | BJ43: =+Q10
A44: RESERVES (à faire avant la rencontre par le capitaine réclamant en présence du capitaine adverse) | AC44: CROIZER | AD44: Benjamin | AE44: 26 | AF44: Licence ok | BI44: EXTERIEUR | BJ44: =+Q11
AC45: CRUCIANI | AD45: Pierre | AE45: 27 | AF45: Licence Nok | BI45: EXTERIEUR | BJ45: =+Q12
AC46: DE LA VILLEMARQUE | AD46: Eloi | AE46: 28 | AF46: Licence ok | BI46: EXTERIEUR | BJ46: =+Q13
AC47: DE SOUSA | AD47: Michel | AE47: 29 | AF47: Licence Nok
AC48: DELEAN | AD48: Isbelle | AE48: 30 | AF48: Licence Nok
AC49: DI CARLO CEZARD | AD49: Anthony | AE49: 31 | AF49: Licence Nok
AC50: DOS REIS | AD50: Tiphaine | AE50: 32 | AF50: Licence ok
AC51: DUCHENE | AD51: David | AE51: 33 | AF51: Licence ok
AC52: DUQUESNE | AD52: Maxence | AE52: 34 | AF52: Licence Nok
AC53: ELAN | AD53: Philippe | AE53: 35 | AF53: Licence Nok
AC54: FIGUEIREDO | AD54: Victor | AE54: 37 | AF54: Licence ok
AD55: Fabio | AE55: 36 | AF55: Licence ok
A56: RECLAMATIONS (à faire par le réclamant au cours de la rencontre ou après celle-ci) | AC56: FONTAINE | AD56: Joel | AE56: 38 | AF56: Licence Nok
AC57: FUZIER | AD57: Geoffrey | AE57: 39 | AF57: Licence ok
AC58: GAUDRIN | AD58: Jules | AE58: 40 | AF58: Licence ok
AC59: GICQUEL | AD59: Adrien | AE59: 41 | AF59: Licence ok
AC60: GRYSAN | AD60: Alexandre | AE60: 42 | AF60: Licence Nok
AC61: GUILLEVIN | AD61: Gildas | AE61: 43 | AF61: Licence Nok
AC62: HADJADJ | AD62: Mélisse | AE62: 44 | AF62: Licence ok
AC63: HARIGA | AD63: Andreï | AE63: 45 | AF63: Licence ok
AD64: Ionut Cristian | AE64: 46 | AF64: Licence ok
AC65: HERTGEN | AD65: Erwin | AE65: 47 | AF65: Licence Nok
AC66: HUP | AD66: Raphaël | AE66: 48 | AF66: Licence ok
AC67: JOACHIM | AD67: Sébastien | AE67: 49 | AF67: Licence ok
A68: REGLEMENT | AC68: JULLEMIER | AD68: Léopold | AE68: 50 | AF68: Licence ok
A69: - Le juge arbitre est désigné, en commun accord par les capitaines. En cas de litige, c'est le capitaine visiteur qui remplit cette fonction. | AC69: KACZMAREK | AD69: Sylvain | AE69: 51 | AF69: Licence ok
A70: - Avant la rencontre, l'attribution des lettres est faite par tirage au sort. | AC70: KARIA | AD70: Lucas | AE70: 52 | AF70: Licence Nok
A71: - Chaque capitaine désigne ensuite la composition de son équipe, avec présentation obligatoire des licences. | AC71: LACROIX | AD71: Nathan | AE71: 54 | AF71: Licence ok
A72: - Lorsqu'un joueur est absent, la place vacante doit figurer dans la formation 1 | AD72: Lilian | AE72: 53 | AF72: Licence ok
A73: - Les matchs ont lieu obligatoirement dans l'ordre prévu. | AC73: LAUMONIER | AD73: Hubert | AE73: 55 | AF73: Licence ok
A74: - L'envoi de la feuille de rencontre au responsable du championnat, incombe à l'équipe qui reçoit, et cela au plus tard dans un délai de 48 heures | AD74: Oceane | AE74: 56 | AF74: Licence Nok
AC75: LEFEVRE | AD75: Herve | AE75: 57 | AF75: Licence ok
AC76: LELAURE | AD76: Emilien | AE76: 58 | AF76: Licence ok
AC77: LEMARCHAND | AD77: Gabriel | AE77: 59 | AF77: Licence ok
AC78: LOUNISSI | AD78: Iyed | AE78: 60 | AF78: Licence Nok
AC79: LOUVET | AD79: Thomas | AE79: 61 | AF79: Licence Nok
AC80: MACE RICHARD | AD80: Auxence | AE80: 62 | AF80: Licence Nok
AC81: MARCHAND | AD81: Michele | AE81: 63 | AF81: Licence Nok
AC82: MARIE | AD82: Pascale | AE82: 64 | AF82: Licence ok
AC83: MARTIN-LEMAGNE | AD83: Caroline | AE83: 65 | AF83: Licence ok
AC84: MASSON | AD84: Amaury | AE84: 66 | AF84: Licence ok
AC85: MERCOU | AD85: Lionel | AE85: 67 | AF85: Licence Nok
AC86: MOLNAR | AD86: Matteo | AE86: 68 | AF86: Licence Nok
AC87: MOLOU | AD87: Faeza | AE87: 69 | AF87: Licence Nok
AD88: Lihaan | AE88: 70 | AF88: Licence Nok
AC89: MONDOU | AD89: Alexis | AE89: 71 | AF89: Licence Nok
AC90: MOUROT | AD90: Maxime | AE90: 72 | AF90: Licence Nok
AC91: MUTTER | AD91: Elodie | AE91: 73 | AF91: Licence ok
AC92: NESME | AD92: Bernard | AE92: 74 | AF92: Licence Nok
AC93: PAILLARD | AD93: Kevin | AE93: 75 | AF93: Licence Nok
AC94: PARTISOTTI | AD94: Mattia | AE94: 76 | AF94: Licence ok
AC95: PIGNATELLI | AD95: Lorenzo | AE95: 77 | AF95: Licence Nok
AC96: PIOLLET | AD96: Arthur | AE96: 78 | AF96: Licence ok
AC97: POUZET | AD97: Nolan | AE97: 79 | AF97: Licence ok
AC98: PRIGENT | AD98: Antoine | AE98: 80 | AF98: Licence ok
AC99: PROSPER | AD99: Christian | AE99: 81 | AF99: Licence Nok
AC100: PRUD'HOMME | AD100: Juliette | AE100: 82 | AF100: Licence Nok
...

Sheet arbitrage Jeunes (4)
A1: UFOLEP 77 – Championnat JEUNES - 2025 - 2026 | M1: =A1 -> UFOLEP 77 – Championnat JEUNES - 2025 - 2026 | Y1: =A1 -> UFOLEP 77 – Championnat JEUNES - 2025 - 2026
B2: =+'JEUNES (4)'!I3 -> 0 | G2: Poule | H2: =+'JEUNES (4)'!$N$3 -> 0 | I2: journée | K2: =+'JEUNES (4)'!$R$3 -> 0 | N2: =+B2 -> 0 | S2: Poule | T2: =+'JEUNES (4)'!$N$3 -> 0 | U2: journée | W2: =+'JEUNES (4)'!$R$3 -> 0 | Z2: =+B2 -> 0 | AC2: =+'JEUNES (4)'!$I$3 -> 0 | AE2: Poule | AF2: =+'JEUNES (4)'!$N$3 -> 0 | AG2: journée | AI2: =+'JEUNES (4)'!$R$3 -> 0
A3: =+'JEUNES (4)'!$B$6&" "&'JEUNES (4)'!$F$6 | G3: reçoit | H3: =+'JEUNES (4)'!$N$6&" "&'JEUNES (4)'!$R$6 | M3: =+'JEUNES (4)'!$B$6&" "&'JEUNES (4)'!$F$6 | S3: reçoit | T3: =+'JEUNES (4)'!$N$6&" "&'JEUNES (4)'!$R$6 | Y3: =+'JEUNES (4)'!$B$6&" "&'JEUNES (4)'!$F$6 | AE3: reçoit | AF3: =+'JEUNES (4)'!$N$6&" "&'JEUNES (4)'!$R$6
A4: Date | B4: =IF(ISBLANK('JEUNES (4)'!D3),'JEUNES (4)'!D2,'JEUNES (4)'!D3) | C4: =IF(ISBLANK(' EQUIPE A 4'!#REF!),' EQUIPE A 4'!#REF!,#REF!) -> #REF! | D4: =IF(ISBLANK(' EQUIPE A 4'!#REF!),' EQUIPE A 4'!#REF!,#REF!) -> #REF! | E4: =IF(ISBLANK(' EQUIPE A 4'!#REF!),' EQUIPE A 4'!#REF!,#REF!) -> #REF! | F4: =IF(ISBLANK(' EQUIPE A 4'!#REF!),' EQUIPE A 4'!#REF!,#REF!) -> #REF! | H4: Table n° | M4: Date | N4: =+B4 | T4: Table n° | Y4: Date | Z4: =+B4 | AC4: 43382 | AF4: Table n°
G5: 1er Service : Gauche-Droite | S5: 1er Service : Gauche-Droite | AE5: 1er Service : Gauche-Droite
A6: Partie | B6: A – X ( 1-A ) | G6: Set 1 | H6: Set 2 | I6: Set 3 | J6: Set 4 | K6: Set 5 | M6: Partie | N6: B – Y ( 2-A ) | S6: Set 1 | T6: Set 2 | U6: Set 3 | V6: Set 4 | W6: Set 5 | Y6: Partie | Z6: B – X ( 3-A ) | AE6: Set 1 | AF6: Set 2 | AG6: Set 3 | AH6: Set 4 | AI6: Set 5
A7: =+'JEUNES (4)'!C10 | M7: =+'JEUNES (4)'!C11 | Y7: =+'JEUNES (4)'!C11
A8: ='JEUNES (4)'!I10 | M8: ='JEUNES (4)'!I11 | Y8: ='JEUNES (4)'!I11
A9: contre | M9: contre | Y9: contre
A10: =+'JEUNES (4)'!$Q$10 | M10: =+'JEUNES (4)'!$Q$11 | Y10: =+'JEUNES (4)'!$Q$10
A11: ='JEUNES (4)'!X10 | M11: ='JEUNES (4)'!X11 | Y11: ='JEUNES (4)'!X10
A12: Arbitre | B12: (Y) | C12: ='JEUNES (4)'!Q11 | M12: Arbitre | N12: (X) | O12: ='JEUNES (4)'!Q10 | Y12: Arbitre | Z12: (A) | AA12: ='JEUNES (4)'!C10
A15: =A1 -> UFOLEP 77 – Championnat JEUNES - 2025 - 2026 | M15: =A1 -> UFOLEP 77 – Championnat JEUNES - 2025 - 2026 | Y15: =A1 -> UFOLEP 77 – Championnat JEUNES - 2025 - 2026
B16: =+B2 -> 0 | G16: Poule | H16: =+'JEUNES (4)'!$N$3 -> 0 | I16: journée | K16: =+'JEUNES (4)'!$R$3 -> 0 | N16: =+'JEUNES (4)'!$I$3 -> 0 | S16: Poule | T16: =+'JEUNES (4)'!$N$3 -> 0 | U16: journée | W16: =+'JEUNES (4)'!$R$3 -> 0 | Z16: =+B2 -> 0 | AE16: Poule | AF16: =+'JEUNES (4)'!$N$3 -> 0 | AG16: journée | AI16: =+'JEUNES (4)'!$R$3 -> 0
A17: =+'JEUNES (4)'!$B$6&" "&'JEUNES (4)'!$F$6 | G17: reçoit | H17: =+'JEUNES (4)'!$N$6&" "&'JEUNES (4)'!$R$6 | M17: =+'JEUNES (4)'!$B$6&" "&'JEUNES (4)'!$F$6 | S17: reçoit | T17: =+'JEUNES (4)'!$N$6&" "&'JEUNES (4)'!$R$6 | Y17: =+'JEUNES (4)'!$B$6&" "&'JEUNES (4)'!$F$6 | AE17: reçoit | AF17: =+'JEUNES (4)'!$N$6&" "&'JEUNES (4)'!$R$6
A18: Date | B18: =+B4 | H18: Table n° | M18: Date | N18: =+B4 | T18: Table n° | Y18: Date | Z18: =+B4 | AC18: 43382 | AF18: Table n°
G19: 1er Service : Gauche-Droite | S19: 1er Service : Gauche-Droite | AE19: 1er Service : Gauche-Droite
A20: Partie | B20: A – Y ( 4-A ) | G20: Set 1 | H20: Set 2 | I20: Set 3 | J20: Set 4 | K20: Set 5 | M20: Partie | N20: DOUBLE A ( 5-A ) | S20: Set 1 | T20: Set 2 | U20: Set 3 | V20: Set 4 | W20: Set 5 | Y20: Partie | Z20: C – Z ( 1-B ) | AE20: Set 1 | AF20: Set 2 | AG20: Set 3 | AH20: Set 4 | AI20: Set 5
A21: =+A7 | M21: ='JEUNES (4)'!C10 | Y21: =+'JEUNES (4)'!C12
A22: ='JEUNES (4)'!I10 | M22: ='JEUNES (4)'!C11 | Y22: ='JEUNES (4)'!I12
A23: contre | M23: contre | Y23: contre
A24: =+M10 | M24: ='JEUNES (4)'!Q10 | Y24: =+'JEUNES (4)'!Q12
A25: ='JEUNES (4)'!X11 | M25: ='JEUNES (4)'!Q11 | Y25: ='JEUNES (4)'!X12
A26: Arbitre | B26: B) | C26: ='JEUNES (4)'!C11 | M26: Arbitre | Y26: Arbitre | Z26: (W) | AA26: ='JEUNES (4)'!Q13
A29: =A1 -> UFOLEP 77 – Championnat JEUNES - 2025 - 2026 | M29: =A1 -> UFOLEP 77 – Championnat JEUNES - 2025 - 2026 | Y29: =A1 -> UFOLEP 77 – Championnat JEUNES - 2025 - 2026
B30: =+B2 -> 0 | G30: Poule | H30: =+'JEUNES (4)'!$N$3 -> 0 | I30: journée | K30: =+'JEUNES (4)'!$R$3 -> 0 | N30: =+B2 -> 0 | S30: Poule | T30: =+'JEUNES (4)'!$N$3 -> 0 | U30: journée | W30: =+'JEUNES (4)'!$R$3 -> 0 | Z30: =+B2 -> 0 | AE30: Poule | AF30: =+'JEUNES (4)'!$N$3 -> 0 | AG30: journée | AI30: =+'JEUNES (4)'!$R$3 -> 0
A31: =+'JEUNES (4)'!$B$6&" "&'JEUNES (4)'!$F$6 | G31: reçoit | H31: =+'JEUNES (4)'!$N$6&" "&'JEUNES (4)'!$R$6 | M31: =+'JEUNES (4)'!$B$6&" "&'JEUNES (4)'!$F$6 | S31: reçoit | T31: =+'JEUNES (4)'!$N$6&" "&'JEUNES (4)'!$R$6 | Y31: =+'JEUNES (4)'!$B$6&" "&'JEUNES (4)'!$F$6 | AE31: reçoit | AF31: =+'JEUNES (4)'!$N$6&" "&'JEUNES (4)'!$R$6
A32: Date | B32: =+B4 | H32: Table n° | M32: Date | N32: =+B4 | T32: Table n° | Y32: Date | Z32: =+B4 | AC32: 43382 | AF32: Table n°
G33: 1er Service : Gauche-Droite | S33: 1er Service : Gauche-Droite | AE33: 1er Service : Gauche-Droite
A34: Partie | B34: D – W ( 2-B ) | G34: Set 1 | H34: Set 2 | I34: Set 3 | J34: Set 4 | K34: Set 5 | M34: Partie | N34: DOUBLE B ( 3-B ) | S34: Set 1 | T34: Set 2 | U34: Set 3 | V34: Set 4 | W34: Set 5 | Y34: Partie | Z34: D-Z ( 4-B ) | AE34: Set 1 | AF34: Set 2 | AG34: Set 3 | AH34: Set 4 | AI34: Set 5
A35: =+'JEUNES (4)'!C13 | M35: ='JEUNES (4)'!C12 | Y35: =+A35
A36: ='JEUNES (4)'!I13 | M36: ='JEUNES (4)'!C13 | Y36: ='JEUNES (4)'!I13
A37: contre | M37: contre | Y37: contre
A38: =+'JEUNES (4)'!Q13 | M38: ='JEUNES (4)'!Q12 | Y38: =+Y24
A39: ='JEUNES (4)'!X13 | M39: ='JEUNES (4)'!Q13 | Y39: ='JEUNES (4)'!X12
A40: Arbitre | B40: (Z) | C40: ='JEUNES (4)'!Q12 | M40: Arbitre | Y40: Arbitre | Z40: ( C) | AA40: ='JEUNES (4)'!C12
A43: =A1 -> UFOLEP 77 – Championnat JEUNES - 2025 - 2026
B44: =+B2 -> 0 | G44: Poule | H44: =+'JEUNES (4)'!$N$3 -> 0 | I44: journée | K44: =+'JEUNES (4)'!$R$3 -> 0 | S44: Poule | U44: journée | AE44: Poule | AG44: journée
A45: =+'JEUNES (4)'!$B$6&" "&'JEUNES (4)'!$F$6 | G45: reçoit | H45: =+'JEUNES (4)'!$N$6&" "&'JEUNES (4)'!$R$6 | S45: reçoit | AE45: reçoit
A46: Date | B46: =+B4 | H46: Table n° | M46: Date | T46: Table n° | Y46: Date | AF46: Table n°
G47: 1er Service : Gauche-Droite | S47: 1er Service : Gauche-Droite | AE47: 1er Service : Gauche-Droite
A48: Partie | B48: C-W ( 5-B ) | G48: Set 1 | H48: Set 2 | I48: Set 3 | J48: Set 4 | K48: Set 5 | M48: Partie | S48: Set 1 | T48: Set 2 | U48: Set 3 | V48: Set 4 | W48: Set 5 | Y48: Partie | AE48: Set 1 | AF48: Set 2 | AG48: Set 3 | AH48: Set 4 | AI48: Set 5
A49: =+Y21
A50: ='JEUNES (4)'!I12
A51: contre | M51: contre | Y51: contre
A52: =+A38
A53: ='JEUNES (4)'!X13
A54: Arbitre | B54: (D) | C54: ='JEUNES (4)'!C13 | M54: Arbitre | Y54: Arbitre
G58: Poule | I58: journée | S58: Poule | U58: journée | AE58: Poule | AG58: journée
G59: reçoit | S59: reçoit | AE59: reçoit
A60: Date | H60: Table n° | M60: Date | N60: 43382 | Q60: 43382 | T60: Table n° | Y60: Date | AC60: 43382 | AF60: Table n°
G61: 1er Service : Gauche-Droite | S61: 1er Service : Gauche-Droite | AE61: 1er Service : Gauche-Droite
A62: Partie | G62: Set 1 | H62: Set 2 | I62: Set 3 | J62: Set 4 | K62: Set 5 | M62: Partie | S62: Set 1 | T62: Set 2 | U62: Set 3 | V62: Set 4 | W62: Set 5 | Y62: Partie | AE62: Set 1 | AF62: Set 2 | AG62: Set 3 | AH62: Set 4 | AI62: Set 5
A65: contre | M65: contre | Y65: contre
A68: Arbitre | M68: Arbitre | Y68: Arbitre

Sheet JEUNES (2)
A1: Championnat départemental par équipes JEUNES - SEINE et MARNE - Saison 2025 - 2026 | CA1: Résultat | CB1: JJ | CC1: =R3 -> 0 | CD1: =+D2 | CE1: =IF(ISBLANK(D3),D2,D3) | CF1: =I3 -> 0 | CG1: =N3 -> 0 | CH1: =B6&" "&F6 | CI1: contre | CJ1: =N6&" "&R6 | CL1: =L23 + L33 -> 0 | CM1: =N23 +N33 -> 0 | CO1: =AL33 -> 0 | CP1: =AL34 -> 0 | CR1: =#REF! -> #REF! | CS1: =#REF! -> #REF!
A2: Date prévue | D2: =+IFERROR(VLOOKUP(R3,'Jour Match'!$B$26:$C$34,2,0),"") | AC2: NOTICE : Important toujours utiliser une feuille de match originale
A3: Date réelle : | G3: DIVISION | M3: Poule | P3: Journée | AC3: Selectionner la journée, la division et la poule et la date rélle si différente de la date prévue officiellemnt
AC4: Sélectionner les équipes et et numeros
B5: Eq. receveuse | N5: Equipe extérieure | AC5: Saisir les codes de chaque joueur, utiliser la liste ci-dessous apres avoir selectionne le club
AC6: Si joueur inconnu ne pas mettre de code et saisir Nom prenom directement
V7: ='EQUIPE A 3'!W6 -> Mise à jour du 24 Novembre 2025 | AC7: Indiquer un score positif si c'est le joueur à domicile qui gagne le set et un score négatif si le joueur extérieur gagne le set.
AC8: Marquer 0,1 ou -0,1 lorsqu'un des joueurs gagne 11/0 en respectant le signe indiqué au dessus, 0 sera alors affiché
B9: Code | C9: NOM - Prénom | I9: Clt. | J9: Licence | P9: Code | Q9: NOM - Prénom | X9: Clt. | Y9: Licence | AC9: Si joueur forfait saisir 0 (zéro) pour code, pas de score à sasir, le tableau se remplira automatiqement
A10: A | C10: =IF(B10="","",IFERROR(VLOOKUP($B$6&$B10,'LISTE JOUEURS'!$P:$S,2,0),"")) &" "& IF(B10="","",IFERROR(VLOOKUP($B$6&$B10,'LISTE JOUEURS'!$P:$S,3,0),"")) | I10: =IF(B10="","",IFERROR(VLOOKUP($B$6&$B10,'LISTE JOUEURS'!$P:$U,4,0),500)) | J10: =IF(B10="","",IFERROR(VLOOKUP($B$6&$B10,'LISTE JOUEURS'!$P:$U,5,0),"")) | O10: X | Q10: =IF(P10="","",IFERROR(VLOOKUP($N$6&$P10,'LISTE JOUEURS'!$P:$S,2,0),""))& " "&IF(P10="","",IFERROR(VLOOKUP($N$6&$P10,'LISTE JOUEURS'!$P:$S,3,0),"")) | X10: =IF(P10="","",IFERROR(VLOOKUP($N$6&$P10,'LISTE JOUEURS'!$P:$U,4,0),500)) | Y10: =IF(P10="","",IFERROR(VLOOKUP($N$6&$P10,'LISTE JOUEURS'!$P:$U,5,0),"")) | AC10: Si abandon d'un joueur avant de commencer la partie saisir 99 (ou -99) dans la case du premier set uniquement et pour tous ses matches suivants | BP10: V/D | BQ10: Date | BR10: Code joueur
A11: B | C11: =IF(B11="","",IFERROR(VLOOKUP($B$6&$B11,'LISTE JOUEURS'!$P:$S,2,0),"")) &" "& IF(B11="","",IFERROR(VLOOKUP($B$6&$B11,'LISTE JOUEURS'!$P:$S,3,0),"")) | I11: =IF(B11="","",IFERROR(VLOOKUP($B$6&$B11,'LISTE JOUEURS'!$P:$U,4,0),500)) | J11: =IF(B11="","",IFERROR(VLOOKUP($B$6&$B11,'LISTE JOUEURS'!$P:$U,5,0),"")) | O11: Y | Q11: =IF(P11="","",IFERROR(VLOOKUP($N$6&$P11,'LISTE JOUEURS'!$P:$S,2,0),""))& " "&IF(P11="","",IFERROR(VLOOKUP($N$6&$P11,'LISTE JOUEURS'!$P:$S,3,0),"")) | X11: =IF(P11="","",IFERROR(VLOOKUP($N$6&$P11,'LISTE JOUEURS'!$P:$U,4,0),500)) | Y11: =IF(P11="","",IFERROR(VLOOKUP($N$6&$P11,'LISTE JOUEURS'!$P:$U,5,0),"")) | AC11: Si abandon d'un joueur en cours de partie mettre 88 (ou -88) dans la case du premer set uniquement et pour tous ses matches suivants. | BP11: vainqueur | BQ11: ='JEUNES (2)'!$D$2 | BR11: =IFERROR(IF(L17>0,VLOOKUP(B6&B10,'LISTE JOUEURS'!$P:$U,6,0),VLOOKUP(N6&P10,'LISTE JOUEURS'!$P:$U,6,0)),0) -> 0 | BS11: =+_xlfn.XLOOKUP(BR11,'LISTE JOUEURS'!$U:$U,'LISTE JOUEURS'!$Q:$Q)&" "&_xlfn.XLOOKUP(BR11,'LISTE JOUEURS'!$U:$U,'LISTE JOUEURS'!$R:$R) -> #N/A
A12: Double | C12: =IF(B12="","",IFERROR(VLOOKUP($B$6&$B12,'LISTE JOUEURS'!$P:$S,2,0),"")) &" "& IF(B12="","",IFERROR(VLOOKUP($B$6&$B12,'LISTE JOUEURS'!$P:$S,3,0),"")) | I12: =IF(B12="","",IFERROR(VLOOKUP($B$6&$B12,'LISTE JOUEURS'!$P:$U,4,0),500)) | J12: =IF(B12="","",IFERROR(VLOOKUP($B$6&$B12,'LISTE JOUEURS'!$P:$U,5,0),"")) | O12: Double | Q12: =IF(P12="","",IFERROR(VLOOKUP($N$6&$P12,'LISTE JOUEURS'!$P:$S,2,0),""))& " "&IF(P12="","",IFERROR(VLOOKUP($N$6&$P12,'LISTE JOUEURS'!$P:$S,3,0),"")) | X12: =IF(P12="","",IFERROR(VLOOKUP($N$6&$P12,'LISTE JOUEURS'!$P:$U,4,0),500)) | Y12: =IF(P12="","",IFERROR(VLOOKUP($N$6&$P12,'LISTE JOUEURS'!$P:$U,5,0),"")) | AC12: Un joueur déclarant forfait l'est également pour les matches suivants de la rencontre | BP12: perdant | BQ12: ='JEUNES (2)'!$D$2 | BR12: =IFERROR(IF(L17=0,VLOOKUP(B6&B10,'LISTE JOUEURS'!$P:$U,6,0),VLOOKUP(N6&P10,'LISTE JOUEURS'!$P:$U,6,0)),0) -> 0 | BS12: =+_xlfn.XLOOKUP(BR12,'LISTE JOUEURS'!$U:$U,'LISTE JOUEURS'!$Q:$Q)&" "&_xlfn.XLOOKUP(BR12,'LISTE JOUEURS'!$U:$U,'LISTE JOUEURS'!$R:$R) -> #N/A
C13: =IF(B13="","",IFERROR(VLOOKUP($B$6&$B13,'LISTE JOUEURS'!$P:$S,2,0),"")) &" "& IF(B13="","",IFERROR(VLOOKUP($B$6&$B13,'LISTE JOUEURS'!$P:$S,3,0),"")) | I13: =IF(B13="","",IFERROR(VLOOKUP($B$6&$B13,'LISTE JOUEURS'!$P:$U,4,0),500)) | J13: =IF(B13="","",IFERROR(VLOOKUP($B$6&$B13,'LISTE JOUEURS'!$P:$U,5,0),"")) | Q13: =IF(P13="","",IFERROR(VLOOKUP($N$6&$P13,'LISTE JOUEURS'!$P:$S,2,0),""))& " "&IF(P13="","",IFERROR(VLOOKUP($N$6&$P13,'LISTE JOUEURS'!$P:$S,3,0),"")) | X13: =IF(P13="","",IFERROR(VLOOKUP($N$6&$P13,'LISTE JOUEURS'!$P:$U,4,0),500)) | Y13: =IF(P13="","",IFERROR(VLOOKUP($N$6&$P13,'LISTE JOUEURS'!$P:$U,5,0),"")) | AC13: Sur les feuilles d'arbitrage fournies à titre indicatif les noms des joueurs sont ajoutés automatiquement | BP13: vainqueur | BQ13: ='JEUNES (2)'!$D$2 | BR13: =IFERROR(IF(L18>0,VLOOKUP(B6&B11,'LISTE JOUEURS'!$P:$U,6,0),VLOOKUP(N6&P11,'LISTE JOUEURS'!$P:$U,6,0)),0) -> 0 | BS13: =+_xlfn.XLOOKUP(BR13,'LISTE JOUEURS'!$U:$U,'LISTE JOUEURS'!$Q:$Q)&" "&_xlfn.XLOOKUP(BR13,'LISTE JOUEURS'!$U:$U,'LISTE JOUEURS'!$R:$R) -> #N/A
AC14: Envoyer sous format EXCEL la feuille de résultat | BP14: perdant | BQ14: ='JEUNES (2)'!$D$2 | BR14: =IFERROR(IF(L18=0,VLOOKUP(B6&B11,'LISTE JOUEURS'!$P:$U,6,0),VLOOKUP(N6&P11,'LISTE JOUEURS'!$P:$U,6,0)),0) -> 0 | BS14: =+_xlfn.XLOOKUP(BR14,'LISTE JOUEURS'!$U:$U,'LISTE JOUEURS'!$Q:$Q)&" "&_xlfn.XLOOKUP(BR14,'LISTE JOUEURS'!$U:$U,'LISTE JOUEURS'!$R:$R) -> #N/A
J15: (victoire en Simple 1 point, en double 1 point ) | BP15: vainqueur | BQ15: ='JEUNES (2)'!$D$2 | BR15: =IFERROR(IF(L19>0,VLOOKUP(B6&B11,'LISTE JOUEURS'!$P:$U,6,0),VLOOKUP(N6&P10,'LISTE JOUEURS'!$P:$U,6,0)),0) -> 0 | BS15: =+_xlfn.XLOOKUP(BR15,'LISTE JOUEURS'!$U:$U,'LISTE JOUEURS'!$Q:$Q)&" "&_xlfn.XLOOKUP(BR15,'LISTE JOUEURS'!$U:$U,'LISTE JOUEURS'!$R:$R) -> #N/A
A16: Set 1 | B16: Set 2 | C16: Set 3 | D16: Set 4 | E16: Set 5 | F16: =B6&" "&F6 | L16: A B | N16: XY | O16: =N6&" "&R6 | U16: Remarque | AC16: CLUB | AD16: VENEUX | AI16: SET1 | AJ16: SET2 | AK16: SET3 | AL16: SET4 | AM16: SET5 | AN16: SET1 | AO16: SET2 | AP16: SET3 | AQ16: SET4 | AR16: SET5 | AS16: SET1 | AT16: SET2 | AU16: SET3 | AV16: SET4 | AW16: SET5 | BP16: perdant | BQ16: ='JEUNES (2)'!$D$2 | BR16: =IFERROR(IF(L19=0,VLOOKUP(B6&B11,'LISTE JOUEURS'!$P:$U,6,0),VLOOKUP(N6&P10,'LISTE JOUEURS'!$P:$U,6,0)),0) -> 0 | BS16: =+_xlfn.XLOOKUP(BR16,'LISTE JOUEURS'!$U:$U,'LISTE JOUEURS'!$Q:$Q)&" "&_xlfn.XLOOKUP(BR16,'LISTE JOUEURS'!$U:$U,'LISTE JOUEURS'!$R:$R) -> #N/A
F17: =C10 | L17: =IF(ISNUMBER(A17),IF(OR(COUNTIF(A17:E17,">=0")>3,COUNTIF(A17:E17,"<0")>3),"XXX",IF((COUNTIF(A17:E17,">=0")-COUNTIF(A17:E17,"<0"))<0,0,IF($I$3="SuperDiv",1,1))),IF(OR(RIGHT(F17,4)="W.O.",A17=-88,A17=-99),0,IF(OR(RIGHT(O17,4)="W.O.",A17=99,A17=88),IF($I$3="SuperDiv",1,1),""))) | M17: A - X | N17: =IF(AND(ISNUMBER(A17),ISNUMBER(L17)),IF($I$3="SuperDiv",1-L17,1-L17),IF(O17="Forfait W.O.",0,IF(F17="Forfait W.O.",IF($I$3="SuperDiv",1,4),""))) | O17: =+Q10 | U17: =IF(OR(COUNTIF(A17:E17,">=0")>3,COUNTIF(A17:E17,"<0")>3),"Sets mal notés. Refaire la saisie svp",IF(ABS(A17)=99,"Abandon avant le début de la partie",IF(ABS(A17)=88,"Abandon en cours de partie"," "))) | AI17: =IF(A17>0,1,IF(A17<0,-1,0)) -> 0 | AJ17: =IF(B17>0,1,IF(B17<0,-1,0)) -> 0 | AK17: =IF(C17>0,1,IF(C17<0,-1,0)) -> 0 | AL17: =IF(D17>0,1,IF(D17<0,-1,0)) -> 0 | AM17: =IF(E17>0,1,IF(E17<0,-1,0)) -> 0 | AN17: =IF(AND(A17>0,A17<10),11,IF(AND(A17>0,A17>9),A17+2,IF(AND(A17<0,A17>-10),-11,IF(AND(A17<0,A17<-9),A17-2,0)))) -> 0 | AO17: =IF(AND(B17>0,B17<10),11,IF(AND(B17>0,B17>9),B17+2,IF(AND(B17<0,B17>-10),-11,IF(AND(B17<0,B17<-9),B17-2,0)))) -> 0 | AP17: =IF(AND(C17>0,C17<10),11,IF(AND(C17>0,C17>9),C17+2,IF(AND(C17<0,C17>-10),-11,IF(AND(C17<0,C17<-9),C17-2,0)))) -> 0 | AQ17: =IF(AND(D17>0,D17<10),11,IF(AND(D17>0,D17>9),D17+2,IF(AND(D17<0,D17>-10),-11,IF(AND(D17<0,D17<-9),D17-2,0)))) -> 0 | AR17: =IF(AND(E17>0,E17<10),11,IF(AND(E17>0,E17>9),E17+2,IF(AND(E17<0,E17>-10),-11,IF(AND(E17<0,E17<-9),E17-2,0)))) -> 0 | AS17: =-A17 -> 0 | AT17: =-B17 -> 0 | AU17: =-C17 -> 0 | AV17: =-D17 -> 0 | AW17: =-E17 -> 0 | BP17: vainqueur | BQ17: ='JEUNES (2)'!$D$2 | BR17: =IFERROR(IF(L20>0,VLOOKUP(B6&B10,'LISTE JOUEURS'!$P:$U,6,0),VLOOKUP(N6&P11,'LISTE JOUEURS'!$P:$U,6,0)),0) -> 0 | BS17: =+_xlfn.XLOOKUP(BR17,'LISTE JOUEURS'!$U:$U,'LISTE JOUEURS'!$Q:$Q)&" "&_xlfn.XLOOKUP(BR17,'LISTE JOUEURS'!$U:$U,'LISTE JOUEURS'!$R:$R) -> #N/A
F18: =C11 | L18: =IF(ISNUMBER(A18),IF(OR(COUNTIF(A18:E18,">=0")>3,COUNTIF(A18:E18,"<0")>3),"XXX",IF((COUNTIF(A18:E18,">=0")-COUNTIF(A18:E18,"<0"))<0,0,IF($I$3="SuperDiv",1,1))),IF(OR(RIGHT(F18,4)="W.O.",A18=-88,A18=-99),0,IF(OR(RIGHT(O18,4)="W.O.",A18=99,A18=88),IF($I$3="SuperDiv",1,1),""))) | M18: B - Y | N18: =IF(AND(ISNUMBER(A18),ISNUMBER(L18)),IF($I$3="SuperDiv",1-L18,1-L18),IF(O18="Forfait W.O.",0,IF(F18="Forfait W.O.",IF($I$3="SuperDiv",1,4),""))) | O18: =+Q11 | U18: =IF(OR(COUNTIF(A18:E18,">=0")>3,COUNTIF(A18:E18,"<0")>3),"Sets mal notés. Refaire la saisie svp",IF(ABS(A18)=99,"Abandon avant le début de la partie",IF(ABS(A18)=88,"Abandon en cours de partie"," "))) | AC18: NOM | AD18: PRENOM | AE18: Code | AF18: Licence ? | AI18: =IF(A18>0,1,IF(A18<0,-1,0)) -> 0 | AJ18: =IF(B18>0,1,IF(B18<0,-1,0)) -> 0 | AK18: =IF(C18>0,1,IF(C18<0,-1,0)) -> 0 | AL18: =IF(D18>0,1,IF(D18<0,-1,0)) -> 0 | AM18: =IF(E18>0,1,IF(E18<0,-1,0)) -> 0 | AN18: =IF(AND(A18>0,A18<10),11,IF(AND(A18>0,A18>9),A18+2,IF(AND(A18<0,A18>-10),-11,IF(AND(A18<0,A18<-9),A18-2,0)))) -> 0 | AO18: =IF(AND(B18>0,B18<10),11,IF(AND(B18>0,B18>9),B18+2,IF(AND(B18<0,B18>-10),-11,IF(AND(B18<0,B18<-9),B18-2,0)))) -> 0 | AP18: =IF(AND(C18>0,C18<10),11,IF(AND(C18>0,C18>9),C18+2,IF(AND(C18<0,C18>-10),-11,IF(AND(C18<0,C18<-9),C18-2,0)))) -> 0 | AQ18: =IF(AND(D18>0,D18<10),11,IF(AND(D18>0,D18>9),D18+2,IF(AND(D18<0,D18>-10),-11,IF(AND(D18<0,D18<-9),D18-2,0)))) -> 0 | AR18: =IF(AND(E18>0,E18<10),11,IF(AND(E18>0,E18>9),E18+2,IF(AND(E18<0,E18>-10),-11,IF(AND(E18<0,E18<-9),E18-2,0)))) -> 0 | AS18: =-A18 -> 0 | AT18: =-B18 -> 0 | AU18: =-C18 -> 0 | AV18: =-D18 -> 0 | AW18: =-E18 -> 0 | BP18: perdant | BQ18: ='JEUNES (2)'!$D$2 | BR18: =IFERROR(IF(L20=0,VLOOKUP(B6&B10,'LISTE JOUEURS'!$P:$U,6,0),VLOOKUP(N6&P11,'LISTE JOUEURS'!$P:$U,6,0)),0) -> 0 | BS18: =+_xlfn.XLOOKUP(BR18,'LISTE JOUEURS'!$U:$U,'LISTE JOUEURS'!$Q:$Q)&" "&_xlfn.XLOOKUP(BR18,'LISTE JOUEURS'!$U:$U,'LISTE JOUEURS'!$R:$R) -> #N/A
F19: =C11 | L19: =IF(ISNUMBER(A19),IF(OR(COUNTIF(A19:E19,">=0")>3,COUNTIF(A19:E19,"<0")>3),"XXX",IF((COUNTIF(A19:E19,">=0")-COUNTIF(A19:E19,"<0"))<0,0,IF($I$3="SuperDiv",1,1))),IF(OR(RIGHT(F19,4)="W.O.",A19=-88,A19=-99),0,IF(OR(RIGHT(O19,4)="W.O.",A19=99,A19=88),IF($I$3="SuperDiv",1,1),""))) | M19: B - X | N19: =IF(AND(ISNUMBER(A19),ISNUMBER(L19)),IF($I$3="SuperDiv",1-L19,1-L19),IF(O19="Forfait W.O.",0,IF(F19="Forfait W.O.",IF($I$3="SuperDiv",1,4),""))) | O19: =+Q10 | U19: =IF(OR(COUNTIF(A19:E19,">=0")>3,COUNTIF(A19:E19,"<0")>3),"Sets mal notés. Refaire la saisie svp",IF(ABS(A19)=99,"Abandon avant le début de la partie",IF(ABS(A19)=88,"Abandon en cours de partie"," "))) | AC19: AVRIL | AD19: Romain | AE19: 4 | AF19: Licence Nok | AI19: =IF(A19>0,1,IF(A19<0,-1,0)) -> 0 | AJ19: =IF(B19>0,1,IF(B19<0,-1,0)) -> 0 | AK19: =IF(C19>0,1,IF(C19<0,-1,0)) -> 0 | AL19: =IF(D19>0,1,IF(D19<0,-1,0)) -> 0 | AM19: =IF(E19>0,1,IF(E19<0,-1,0)) -> 0 | AN19: =IF(AND(A19>0,A19<10),11,IF(AND(A19>0,A19>9),A19+2,IF(AND(A19<0,A19>-10),-11,IF(AND(A19<0,A19<-9),A19-2,0)))) -> 0 | AO19: =IF(AND(B19>0,B19<10),11,IF(AND(B19>0,B19>9),B19+2,IF(AND(B19<0,B19>-10),-11,IF(AND(B19<0,B19<-9),B19-2,0)))) -> 0 | AP19: =IF(AND(C19>0,C19<10),11,IF(AND(C19>0,C19>9),C19+2,IF(AND(C19<0,C19>-10),-11,IF(AND(C19<0,C19<-9),C19-2,0)))) -> 0 | AQ19: =IF(AND(D19>0,D19<10),11,IF(AND(D19>0,D19>9),D19+2,IF(AND(D19<0,D19>-10),-11,IF(AND(D19<0,D19<-9),D19-2,0)))) -> 0 | AR19: =IF(AND(E19>0,E19<10),11,IF(AND(E19>0,E19>9),E19+2,IF(AND(E19<0,E19>-10),-11,IF(AND(E19<0,E19<-9),E19-2,0)))) -> 0 | AS19: =-A19 -> 0 | AT19: =-B19 -> 0 | AU19: =-C19 -> 0 | AV19: =-D19 -> 0 | AW19: =-E19 -> 0
F20: =C10 | L20: =IF(ISNUMBER(A20),IF(OR(COUNTIF(A20:E20,">=0")>3,COUNTIF(A20:E20,"<0")>3),"XXX",IF((COUNTIF(A20:E20,">=0")-COUNTIF(A20:E20,"<0"))<0,0,IF($I$3="SuperDiv",1,1))),IF(OR(RIGHT(F20,4)="W.O.",A20=-88,A20=-99),0,IF(OR(RIGHT(O20,4)="W.O.",A20=99,A20=88),IF($I$3="SuperDiv",1,1),""))) | M20: A - Y | N20: =IF(AND(ISNUMBER(A20),ISNUMBER(L20)),IF($I$3="SuperDiv",1-L20,1-L20),IF(O20="Forfait W.O.",0,IF(F20="Forfait W.O.",IF($I$3="SuperDiv",1,4),""))) | O20: =+Q11 | U20: =IF(OR(COUNTIF(A20:E20,">=0")>3,COUNTIF(A20:E20,"<0")>3),"Sets mal notés. Refaire la saisie svp",IF(ABS(A20)=99,"Abandon avant le début de la partie",IF(ABS(A20)=88,"Abandon en cours de partie"," "))) | AC20: AGNIER | AD20: Léo | AE20: 1 | AF20: Licence ok | AI20: =IF(A20>0,1,IF(A20<0,-1,0)) -> 0 | AJ20: =IF(B20>0,1,IF(B20<0,-1,0)) -> 0 | AK20: =IF(C20>0,1,IF(C20<0,-1,0)) -> 0 | AL20: =IF(D20>0,1,IF(D20<0,-1,0)) -> 0 | AM20: =IF(E20>0,1,IF(E20<0,-1,0)) -> 0 | AN20: =IF(AND(A20>0,A20<10),11,IF(AND(A20>0,A20>9),A20+2,IF(AND(A20<0,A20>-10),-11,IF(AND(A20<0,A20<-9),A20-2,0)))) -> 0 | AO20: =IF(AND(B20>0,B20<10),11,IF(AND(B20>0,B20>9),B20+2,IF(AND(B20<0,B20>-10),-11,IF(AND(B20<0,B20<-9),B20-2,0)))) -> 0 | AP20: =IF(AND(C20>0,C20<10),11,IF(AND(C20>0,C20>9),C20+2,IF(AND(C20<0,C20>-10),-11,IF(AND(C20<0,C20<-9),C20-2,0)))) -> 0 | AQ20: =IF(AND(D20>0,D20<10),11,IF(AND(D20>0,D20>9),D20+2,IF(AND(D20<0,D20>-10),-11,IF(AND(D20<0,D20<-9),D20-2,0)))) -> 0 | AR20: =IF(AND(E20>0,E20<10),11,IF(AND(E20>0,E20>9),E20+2,IF(AND(E20<0,E20>-10),-11,IF(AND(E20<0,E20<-9),E20-2,0)))) -> 0 | AS20: =-A20 -> 0 | AT20: =-B20 -> 0 | AU20: =-C20 -> 0 | AV20: =-D20 -> 0 | AW20: =-E20 -> 0
F21: =IF(OR(F17="Forfait W.O.",F18="Forfait W.O."),B6&" "&F6&" W.O.",B6&" "&F6) | L21: =IF(ISNUMBER(A21),IF(OR(COUNTIF(A21:E21,">=0")>3,COUNTIF(A21:E21,"<0")>3),"XXX",IF((COUNTIF(A21:E21,">=0")-COUNTIF(A21:E21,"<0"))<0,0,IF($I$3="SuperDiv",1,1))),IF(OR(RIGHT(F21,4)="W.O.",A21=-88,A21=-99),0,IF(OR(RIGHT(O21,4)="W.O.",A21=99,A21=88),IF($I$3="SuperDiv",1,1),""))) | M21: DOUBLE A | N21: =IF(AND(ISNUMBER(A21),ISNUMBER(L21)),IF($I$3="SuperDiv",1-L21,1-L21),IF(O21="Forfait W.O.",0,IF(F21="Forfait W.O.",IF($I$3="SuperDiv",1,4),""))) | O21: =IF(OR(O17="Forfait W.O.",O18="Forfait W.O."),N6&" "&R6&" W.O.",N6&" "&R6) | U21: =IF(OR(COUNTIF(A21:E21,">=0")>3,COUNTIF(A21:E21,"<0")>3),"Sets mal notés. Refaire la saisie svp",IF(ABS(A21)=99,"Abandon avant le début de la partie",IF(ABS(A21)=88,"Abandon en cours de partie"," "))) | AC21: AGRON | AD21: Patrice | AE21: 2 | AF21: Licence Nok | AI21: =IF(A21>0,1,IF(A21<0,-1,0)) -> 0 | AJ21: =IF(B21>0,1,IF(B21<0,-1,0)) -> 0 | AK21: =IF(C21>0,1,IF(C21<0,-1,0)) -> 0 | AL21: =IF(D21>0,1,IF(D21<0,-1,0)) -> 0 | AM21: =IF(E21>0,1,IF(E21<0,-1,0)) -> 0 | AN21: =IF(AND(A21>0,A21<10),11,IF(AND(A21>0,A21>9),A21+2,IF(AND(A21<0,A21>-10),-11,IF(AND(A21<0,A21<-9),A21-2,0)))) -> 0 | AO21: =IF(AND(B21>0,B21<10),11,IF(AND(B21>0,B21>9),B21+2,IF(AND(B21<0,B21>-10),-11,IF(AND(B21<0,B21<-9),B21-2,0)))) -> 0 | AP21: =IF(AND(C21>0,C21<10),11,IF(AND(C21>0,C21>9),C21+2,IF(AND(C21<0,C21>-10),-11,IF(AND(C21<0,C21<-9),C21-2,0)))) -> 0 | AQ21: =IF(AND(D21>0,D21<10),11,IF(AND(D21>0,D21>9),D21+2,IF(AND(D21<0,D21>-10),-11,IF(AND(D21<0,D21<-9),D21-2,0)))) -> 0 | AR21: =IF(AND(E21>0,E21<10),11,IF(AND(E21>0,E21>9),E21+2,IF(AND(E21<0,E21>-10),-11,IF(AND(E21<0,E21<-9),E21-2,0)))) -> 0 | AS21: =-A21 -> 0 | AT21: =-B21 -> 0 | AU21: =-C21 -> 0 | AV21: =-D21 -> 0 | AW21: =-E21 -> 0 | BM21: Division | BN21: Poussins/Benjamins/Minimes
AC22: AIRAULT | AD22: Philippe | AE22: 3 | AF22: Licence ok | BN22: Cadets/Minimes
I23: Total partie A | L23: =SUM(L17:L21) -> 0 | N23: =SUM(N17:N21) -> 0 | AC23: BARRAULT GUEBIN | AD23: Enzo | AE23: 5 | AF23: Licence ok
AC24: BERNARD | AD24: Catherine | AE24: 6 | AF24: Licence ok
A25: RESULTAT | AC25: BLANCHARD | AD25: Thierry | AE25: 7 | AF25: Licence Nok
A26: =IF((L23 )>(N23),B6&" "&F6,IF((L23)=(+N23),B6&" "&F6,N6&" "&R6)) | E26: =IF(A29=H29,"à égalité avec ","BAT") -> BAT | H26: =IF((L23 )<(N23),B6&" "&F6,IF((L23)=(N23),N6&" "&R6,N6&" "&R6)) | J26: ="Cap. "&O16 -> Cap. | S26: Juge Arbitre | AC26: BOISSOT | AD26: Arthur | AE26: 8 | AF26: Licence ok
A27: =IF((L23)>(N23),(L23)&" points",(N23)&" points") -> 0 points | H27: =IF((L33+L23 )>(N33+N23),(N33+N23)&" points",(L33+L23)&" points") -> 0 points | J27: ="Cap. "&F16 -> Cap. | AC27: BORDAGE | AD27: Jean-Yves | AE27: 9 | AF27: Licence ok
A28: =VLOOKUP(A26,$AJ$33:$AL$34,2,0)&" Sets à "&VLOOKUP(H26,$AJ$33:$AL$34,2,0) -> 0 Sets à 0 | AC28: BOUCHER | AD28: Cyril | AE28: 10 | AF28: Licence ok | BM28: Numero | BN28: 1
A29: =ROUND(VLOOKUP(A26,$AJ$33:$AL$34,3,0),0)&" points à "&ROUND(VLOOKUP(H26,$AJ$33:$AL$34,3,0),0) -> 0 points à 0 | AC29: BOURASSIN | AD29: Bruno | AE29: 11 | AF29: Licence ok | BN29: 2
AC30: BOURGIS | AD30: Jérôme | AE30: 12 | AF30: Licence ok | BN30: 3
A31: IMPORTANT : Envoyer la feuille de match au responsable du Championnat Jeunes : Alain GUILLOMET 06 71 86 04 86 | Q31: alain.guillomet@orange.fr | AD31: Leona | AE31: 13 | AF31: Licence ok | BN31: 4
A32: Mettre en copie le Club visiteur : | F32: =IFERROR(VLOOKUP(N6,'LISTING CLUB'!A:C,3,0),"") | K32: SAUVER FICHIER SOUS | O32: ="JJ"&R3&"-"&I3&"-"&N3&"-"&F16&"-"&O16 -> JJ--- - | AC32: BREBION | AD32: Bruno | AE32: 14 | AF32: Licence ok | BN32: 5
AD33: Stephane | AE33: 15 | AF33: Licence ok | AJ33: =$B$6&" "&$F$6 | AK33: =COUNTIF(AH17:AL21,1) -> 0 | AL33: =SUMIF(AM17:AV21,">0",AM17:AV21) -> 0 | BN33: 6
A34: RESERVES (à faire avant la rencontre par le capitaine réclamant en présence du capitaine adverse) | AC34: CANTELOUP | AD34: Frédéric | AE34: 16 | AF34: Licence ok | AJ34: =$N$6&" "&$R$6 | AK34: =COUNTIF(AH17:AL21,-1) -> 0 | AL34: =-SUMIF(AM17:AV21,"<0",AM17:AV21) -> 0
AC35: CHABAUD | AD35: Severine | AE35: 17 | AF35: Licence Nok | BM35: Poule | BN35: Nord
AC36: CHAMOURET | AD36: Ambroise | AE36: 18 | AF36: Licence Nok | BN36: Sud
AC37: CHANTIN | AD37: Valerie | AE37: 19 | AF37: Licence Nok
AC38: CHASSEVENT | AD38: Melvin | AE38: 20 | AF38: Licence Nok
AC39: CHAUMIER | AD39: Nicole | AE39: 21 | AF39: Licence ok | BI39: RECEVEUSE | BJ39: =C10
AC40: CHEKIR SALCEDO | AD40: Liahm | AE40: 22 | AF40: Licence Nok | BI40: RECEVEUSE | BJ40: =C11
AC41: CLAUSS-COUVREUR-NEU | AD41: Tristan | AE41: 23 | AF41: Licence ok | BI41: EXTERIEUR | BJ41: =+Q10
AC42: COEVOET | AD42: Philippe | AE42: 24 | AF42: Licence ok | BI42: EXTERIEUR | BJ42: =+Q11
AC43: COSSON | AD43: Thomas | AE43: 25 | AF43: Licence ok
AD44: Valérie | AE44: 26 | AF44: Licence ok
AC45: CROCHARD | AD45: Eliot | AE45: 27 | AF45: Licence ok
A46: RECLAMATIONS (à faire par le réclamant au cours de la rencontre ou après celle-ci) | AD46: Tristan | AE46: 28 | AF46: Licence ok
AC47: CROIZE | AD47: Christian | AE47: 29 | AF47: Licence ok
AC48: CSICSO | AD48: Stephan | AE48: 30 | AF48: Licence ok
AC49: DE SMET | AD49: Didier | AE49: 31 | AF49: Licence Nok
AC50: DEMANGE | AD50: Clovis | AE50: 32 | AF50: Licence ok
AC51: DERISBOURG | AD51: Stéphane | AE51: 33 | AF51: Licence ok
AC52: DESASSIS | AD52: Noé | AE52: 34 | AF52: Licence ok
AC53: DONNOT | AD53: Véronique | AE53: 36 | AF53: Licence ok
AD54: Benoit | AE54: 35 | AF54: Licence ok
AC55: DUBOIS | AD55: Yan | AE55: 37 | AF55: Licence ok
AC56: DUDICOURT | AD56: Corentin | AE56: 38 | AF56: Licence Nok
AC57: FERMI | AD57: Jean-Pierre | AE57: 39 | AF57: Licence ok
A58: REGLEMENT | AC58: FORESTAL | AD58: Jean | AE58: 40 | AF58: Licence Nok
A59: - Le juge arbitre est désigné, en commun accord par les capitaines. En cas de litige, c'est le capitaine visiteur qui remplit cette fonction. | AC59: FRANCOIS | AD59: Erwann | AE59: 41 | AF59: Licence Nok
A60: - Avant la rencontre, l'attribution des lettres est faite par tirage au sort. | AC60: FREIDEL | AD60: Andreï | AE60: 42 | AF60: Licence ok
A61: - Chaque capitaine désigne ensuite la composition de son équipe, avec présentation obligatoire des licences. | AC61: GAULE | AD61: Patrick | AE61: 43 | AF61: Licence ok
A62: - Lorsqu'un joueur est absent, la place vacante doit figurer dans la formation 1 | AC62: GIBLIN | AD62: Djulian | AE62: 44 | AF62: Licence Nok
A63: - Les matchs ont lieu obligatoirement dans l'ordre prévu. | AC63: GIL--FARENC | AD63: Guilhem | AE63: 45 | AF63: Licence Nok
A64: - L'envoi de la feuille de rencontre au responsable du championnat, incombe à l'équipe qui reçoit, et cela au plus tard dans un délai de 48 heures | AC64: GIRSCH | AD64: Nicolas | AE64: 46 | AF64: Licence ok
AC65: GONCALVES | AD65: Hector | AE65: 47 | AF65: Licence ok
AC66: GORON | AD66: Gaetan | AE66: 48 | AF66: Licence ok
AC67: GRAUER | AD67: Christophe | AE67: 49 | AF67: Licence Nok
AD68: Liam | AE68: 50 | AF68: Licence ok
AD69: Sacha | AE69: 51 | AF69: Licence ok
AC70: GROSJEAN | AD70: Lino | AE70: 52 | AF70: Licence ok
AD71: Sohan | AE71: 53 | AF71: Licence ok
AC72: GUEDJ | AD72: Louis | AE72: 54 | AF72: Licence ok
AC73: GUEUTIN | AD73: Thierry | AE73: 56 | AF73: Licence ok
AD74: Simon | AE74: 55 | AF74: Licence Nok
AC75: GUILLERM | AD75: Marius | AE75: 58 | AF75: Licence ok
AD76: Charlie | AE76: 57 | AF76: Licence ok
AC77: GUILLIOMET | AD77: Alain | AE77: 59 | AF77: Licence ok
AC78: HERNIO-SILVA | AD78: Maya | AE78: 60 | AF78: Licence Nok
AC79: HOLIN | AD79: Scarlett | AE79: 61 | AF79: Licence ok
AC80: HOULIER | AD80: Vincent | AE80: 62 | AF80: Licence ok
AC81: HYM | AD81: Michel | AE81: 63 | AF81: Licence ok
AC82: JACQUINOT | AD82: Vincent | AE82: 65 | AF82: Licence ok
AC83: JACQUINOT FONSECA | AD83: Matteo | AE83: 64 | AF83: Licence ok
AC84: JARDINET | AD84: Célia | AE84: 66 | AF84: Licence ok
AC85: LACHAISE | AD85: Noha | AE85: 68 | AF85: Licence ok
AD86: Eden | AE86: 67 | AF86: Licence ok
AC87: LALARME | AD87: Guillaume | AE87: 69 | AF87: Licence ok
AC88: LAPENDRY | AD88: Stephan | AE88: 70 | AF88: Licence Nok
AC89: LE TOUCHE | AD89: Jules | AE89: 71 | AF89: Licence ok
AC90: LECERF | AD90: Valentin | AE90: 72 | AF90: Licence Nok
AC91: LECOQ | AD91: Jensen | AE91: 73 | AF91: Licence ok
AD92: Rubens | AE92: 74 | AF92: Licence ok
AC93: LEHMANN HANNOUN | AD93: Lucie | AE93: 75 | AF93: Licence ok
AC94: LESAGE | AD94: Christophe | AE94: 76 | AF94: Licence ok
AC95: LESCOT | AD95: Sören | AE95: 77 | AF95: Licence ok
AC96: LESEIGNEUR | AD96: Philippe | AE96: 78 | AF96: Licence ok
AC97: LIGER | AD97: Pascal | AE97: 79 | AF97: Licence ok
AD98: Déborah | AE98: 80 | AF98: Licence ok
AC99: LOQUET | AD99: Marion | AE99: 81 | AF99: Licence Nok
AC100: LOTZ | AD100: Dominique | AE100: 82 | AF100: Licence Nok
...

Sheet arbitrage Jeunes (2)
A1: UFOLEP 77 – Championnat JEUNES - 2025 - 2026 | M1: =A1 -> UFOLEP 77 – Championnat JEUNES - 2025 - 2026 | Y1: =A1 -> UFOLEP 77 – Championnat JEUNES - 2025 - 2026
B2: =+'JEUNES (2)'!I3 -> 0 | G2: Poule | H2: =+'JEUNES (2)'!$N$3 -> 0 | I2: journée | K2: =+'JEUNES (2)'!$R$3 -> 0 | N2: =+B2 -> 0 | S2: Poule | T2: =+'JEUNES (2)'!$N$3 -> 0 | U2: journée | W2: =+'JEUNES (2)'!$R$3 -> 0 | Z2: =+B2 -> 0 | AC2: =+'JEUNES (2)'!$I$3 -> 0 | AE2: Poule | AF2: =+'JEUNES (2)'!$N$3 -> 0 | AG2: journée | AI2: =+'JEUNES (2)'!$R$3 -> 0
A3: =+'JEUNES (2)'!$B$6&" "&'JEUNES (2)'!$F$6 | G3: reçoit | H3: =+'JEUNES (2)'!$N$6&" "&'JEUNES (2)'!$R$6 | M3: =+'JEUNES (2)'!$B$6&" "&'JEUNES (2)'!$F$6 | S3: reçoit | T3: =+'JEUNES (2)'!$N$6&" "&'JEUNES (2)'!$R$6 | Y3: =+'JEUNES (2)'!$B$6&" "&'JEUNES (2)'!$F$6 | AE3: reçoit | AF3: =+'JEUNES (2)'!$N$6&" "&'JEUNES (2)'!$R$6
A4: Date | B4: =IF(ISBLANK('JEUNES (2)'!D3),'JEUNES (2)'!D2,'JEUNES (2)'!D3) | C4: =IF(ISBLANK(' EQUIPE A 4'!#REF!),' EQUIPE A 4'!#REF!,#REF!) -> #REF! | D4: =IF(ISBLANK(' EQUIPE A 4'!#REF!),' EQUIPE A 4'!#REF!,#REF!) -> #REF! | E4: =IF(ISBLANK(' EQUIPE A 4'!#REF!),' EQUIPE A 4'!#REF!,#REF!) -> #REF! | F4: =IF(ISBLANK(' EQUIPE A 4'!#REF!),' EQUIPE A 4'!#REF!,#REF!) -> #REF! | H4: Table n° | M4: Date | N4: =+B4 | T4: Table n° | Y4: Date | Z4: =+B4 | AC4: 43382 | AF4: Table n°
G5: 1er Service : Gauche-Droite | S5: 1er Service : Gauche-Droite | AE5: 1er Service : Gauche-Droite
A6: Partie | B6: A – X ( 1-A ) | G6: Set 1 | H6: Set 2 | I6: Set 3 | J6: Set 4 | K6: Set 5 | M6: Partie | N6: B – Y ( 2-A ) | S6: Set 1 | T6: Set 2 | U6: Set 3 | V6: Set 4 | W6: Set 5 | Y6: Partie | Z6: B – X ( 3-A ) | AE6: Set 1 | AF6: Set 2 | AG6: Set 3 | AH6: Set 4 | AI6: Set 5
A7: =+'JEUNES (2)'!C10 | M7: =+'JEUNES (2)'!C11 | Y7: =+'JEUNES (2)'!C11
A8: ='JEUNES (2)'!I10 | M8: ='JEUNES (2)'!I11 | Y8: ='JEUNES (2)'!I11
A9: contre | M9: contre | Y9: contre
A10: =+'JEUNES (2)'!$Q$10 | M10: =+'JEUNES (2)'!$Q$11 | Y10: =+'JEUNES (2)'!$Q$10
A11: ='JEUNES (2)'!X10 | M11: ='JEUNES (2)'!X11 | Y11: ='JEUNES (2)'!X10
A12: Arbitre | B12: (Y) | C12: ='JEUNES (2)'!Q11 | M12: Arbitre | N12: (X) | O12: ='JEUNES (2)'!Q10 | Y12: Arbitre | Z12: (A) | AA12: ='JEUNES (2)'!C10
A15: =A1 -> UFOLEP 77 – Championnat JEUNES - 2025 - 2026 | M15: =A1 -> UFOLEP 77 – Championnat JEUNES - 2025 - 2026
B16: =+B2 -> 0 | G16: Poule | H16: =+'JEUNES (2)'!$N$3 -> 0 | I16: journée | K16: =+'JEUNES (2)'!$R$3 -> 0 | N16: =+'JEUNES (2)'!$I$3 -> 0 | S16: Poule | T16: =+'JEUNES (2)'!$N$3 -> 0 | U16: journée | W16: =+'JEUNES (2)'!$R$3 -> 0 | AE16: Poule | AG16: journée
A17: =+'JEUNES (2)'!$B$6&" "&'JEUNES (2)'!$F$6 | G17: reçoit | H17: =+'JEUNES (2)'!$N$6&" "&'JEUNES (2)'!$R$6 | M17: =+'JEUNES (2)'!$B$6&" "&'JEUNES (2)'!$F$6 | S17: reçoit | T17: =+'JEUNES (2)'!$N$6&" "&'JEUNES (2)'!$R$6 | AE17: reçoit
A18: Date | B18: =+B4 | H18: Table n° | M18: Date | N18: =+B4 | T18: Table n° | Y18: Date | AF18: Table n°
G19: 1er Service : Gauche-Droite | S19: 1er Service : Gauche-Droite | AE19: 1er Service : Gauche-Droite
A20: Partie | B20: A – Y ( 4-A ) | G20: Set 1 | H20: Set 2 | I20: Set 3 | J20: Set 4 | K20: Set 5 | M20: Partie | N20: DOUBLE A ( 5-A ) | S20: Set 1 | T20: Set 2 | U20: Set 3 | V20: Set 4 | W20: Set 5 | Y20: Partie | AE20: Set 1 | AF20: Set 2 | AG20: Set 3 | AH20: Set 4 | AI20: Set 5
A21: =+A7 | M21: ='JEUNES (2)'!C10
A22: ='JEUNES (2)'!I10 | M22: ='JEUNES (2)'!C11
A23: contre | M23: contre | Y23: contre
A24: =+M10 | M24: ='JEUNES (2)'!Q10
A25: ='JEUNES (2)'!X11 | M25: ='JEUNES (2)'!Q11
A26: Arbitre | B26: B) | C26: ='JEUNES (2)'!C11 | M26: Arbitre | Y26: Arbitre
G30: Poule | I30: journée | S30: Poule | U30: journée | AE30: Poule | AG30: journée
G31: reçoit | S31: reçoit | AE31: reçoit
A32: Date | H32: Table n° | M32: Date | T32: Table n° | Y32: Date | AF32: Table n°
G33: 1er Service : Gauche-Droite | S33: 1er Service : Gauche-Droite | AE33: 1er Service : Gauche-Droite
A34: Partie | G34: Set 1 | H34: Set 2 | I34: Set 3 | J34: Set 4 | K34: Set 5 | M34: Partie | S34: Set 1 | T34: Set 2 | U34: Set 3 | V34: Set 4 | W34: Set 5 | Y34: Partie | AE34: Set 1 | AF34: Set 2 | AG34: Set 3 | AH34: Set 4 | AI34: Set 5
A37: contre | M37: contre | Y37: contre
A40: Arbitre | M40: Arbitre | Y40: Arbitre
G44: Poule | I44: journée | S44: Poule | U44: journée | AE44: Poule | AG44: journée
G45: reçoit | S45: reçoit | AE45: reçoit
A46: Date | H46: Table n° | M46: Date | T46: Table n° | Y46: Date | AF46: Table n°
G47: 1er Service : Gauche-Droite | S47: 1er Service : Gauche-Droite | AE47: 1er Service : Gauche-Droite
A48: Partie | G48: Set 1 | H48: Set 2 | I48: Set 3 | J48: Set 4 | K48: Set 5 | M48: Partie | S48: Set 1 | T48: Set 2 | U48: Set 3 | V48: Set 4 | W48: Set 5 | Y48: Partie | AE48: Set 1 | AF48: Set 2 | AG48: Set 3 | AH48: Set 4 | AI48: Set 5
A51: contre | M51: contre | Y51: contre
A54: Arbitre | M54: Arbitre | Y54: Arbitre
G58: Poule | I58: journée | S58: Poule | U58: journée | AE58: Poule | AG58: journée
G59: reçoit | S59: reçoit | AE59: reçoit
A60: Date | H60: Table n° | M60: Date | N60: 43382 | Q60: 43382 | T60: Table n° | Y60: Date | AC60: 43382 | AF60: Table n°
G61: 1er Service : Gauche-Droite | S61: 1er Service : Gauche-Droite | AE61: 1er Service : Gauche-Droite
A62: Partie | G62: Set 1 | H62: Set 2 | I62: Set 3 | J62: Set 4 | K62: Set 5 | M62: Partie | S62: Set 1 | T62: Set 2 | U62: Set 3 | V62: Set 4 | W62: Set 5 | Y62: Partie | AE62: Set 1 | AF62: Set 2 | AG62: Set 3 | AH62: Set 4 | AI62: Set 5
A65: contre | M65: contre | Y65: contre
A68: Arbitre | M68: Arbitre | Y68: Arbitre

Sheet Coupes départementales
A1: Coupes Départementales SEINE et MARNE - Saison 2025 - 2026 | CA1: Résultat | CB1: CDJ | CC1: =R3 -> 0 | CD1: =+D2 | CE1: =IF(ISBLANK(D3),D2,D3) | CF1: =G3 -> 0 | CG1: =R3 -> 0 | CH1: =B6&" "&F6 | CI1: contre | CJ1: =N6&" "&R6 | CL1: =L23 -> 0 | CM1: =N23 -> 0 | CO1: =AK33 -> 0 | CP1: =AK34 -> 0 | CR1: =AL33 -> 0 | CS1: =AL34 -> 0
A2: Date prévue | D2: =IFERROR(VLOOKUP(R3,JourneeCD,2,FALSE),"") | AC2: NOTICE : Important toujours utiliser une feuille de match originale
A3: Date réelle : | F3: Catégorie | P3: Journée | AC3: Selectionner la journée, la catégorie et la date rélle si différente de la date prévue officiellemnt
AC4: Sélectionner les équipes et et numeros | BK4: 1
B5: Equipe receveuse | N5: Equipe visiteuse | AC5: Saisir les codes de chaque joueur, utiliser la liste ci-dessous après avoir selectionne le club | BK5: 2
W6: Mise à jour du 24 Novembre 2025 | AC6: Si joueur inconnu ne pas mettre de code et saisir Nom prenom directement | BK6: 1
AC7: Indiquer un score positif si c'est le joueur à domicile qui gagne le set et un score négatif si le joueur extérieur gagne le set. | BK7: 2
AC8: Marquer 0,1 ou -0,1 lorsqu'un des joueurs gagne 11/0 en respectant le signe indiqué au dessus, 0 sera alors affiché | BK8: 3
B9: Code | C9: NOM - Prénom | I9: Clt. | J9: Licence | P9: Code | Q9: NOM - Prénom | X9: Clt. | Y9: Licence | AC9: Si joueur forfait saisir 0 (zéro) pour code, pas de score à sasir, le tableau se remplira automatiqement
A10: A | C10: =IF(B10="","",IFERROR(VLOOKUP($B$6&$B10,'LISTE JOUEURS'!$P:$S,2,0),"")) &" "& IF(B10="","",IFERROR(VLOOKUP($B$6&$B10,'LISTE JOUEURS'!$P:$S,3,0),"")) | I10: =IF(B10="","",IFERROR(VLOOKUP($B$6&$B10,'LISTE JOUEURS'!$P:$U,4,0),500)) | J10: =IF(B10="","",IFERROR(VLOOKUP($B$6&$B10,'LISTE JOUEURS'!$P:$U,5,0),"")) | O10: X | Q10: =IF(P10="","",IFERROR(VLOOKUP($N$6&$P10,'LISTE JOUEURS'!$P:$S,2,0),""))& " "&IF(P10="","",IFERROR(VLOOKUP($N$6&$P10,'LISTE JOUEURS'!$P:$S,3,0),"")) | X10: =IF(P10="","",IFERROR(VLOOKUP($N$6&$P10,'LISTE JOUEURS'!$P:$U,4,0),500)) | Y10: =IF(P10="","",IFERROR(VLOOKUP($N$6&$P10,'LISTE JOUEURS'!$P:$U,5,0),"")) | AC10: Si abandon d'un joueur avant de commencer la partie saisir 99 (ou -99) dans la case du premier set uniquement et pour tous ses matches suivants | BL10: V/D | BM10: Date | BN10: Code joueur
A11: B | C11: =IF(B11="","",IFERROR(VLOOKUP($B$6&$B11,'LISTE JOUEURS'!$P:$S,2,0),"")) &" "& IF(B11="","",IFERROR(VLOOKUP($B$6&$B11,'LISTE JOUEURS'!$P:$S,3,0),"")) | I11: =IF(B11="","",IFERROR(VLOOKUP($B$6&$B11,'LISTE JOUEURS'!$P:$U,4,0),500)) | J11: =IF(B11="","",IFERROR(VLOOKUP($B$6&$B11,'LISTE JOUEURS'!$P:$U,5,0),"")) | O11: Y | Q11: =IF(P11="","",IFERROR(VLOOKUP($N$6&$P11,'LISTE JOUEURS'!$P:$S,2,0),""))& " "&IF(P11="","",IFERROR(VLOOKUP($N$6&$P11,'LISTE JOUEURS'!$P:$S,3,0),"")) | X11: =IF(P11="","",IFERROR(VLOOKUP($N$6&$P11,'LISTE JOUEURS'!$P:$U,4,0),500)) | Y11: =IF(P11="","",IFERROR(VLOOKUP($N$6&$P11,'LISTE JOUEURS'!$P:$U,5,0),"")) | AC11: Si abandon d'un joueur en cours de partie mettre 88 (ou -88) dans la case du premer set uniquement et pour tous ses matches suivants. | BL11: vainqueur | BM11: ='Coupes départementales'!$D$2 | BN11: =IFERROR(IF(L17=1,VLOOKUP(B6&B10,'LISTE JOUEURS'!$P:$U,6,0),VLOOKUP(N6&P10,'LISTE JOUEURS'!$P:$U,6,0)),0) -> 0 | BO11: =+_xlfn.XLOOKUP(BN11,'LISTE JOUEURS'!$U:$U,'LISTE JOUEURS'!$Q:$Q)&" "&_xlfn.XLOOKUP(BN11,'LISTE JOUEURS'!$U:$U,'LISTE JOUEURS'!$R:$R) -> #N/A
A12: Double | C12: =IF(B12="","",IFERROR(VLOOKUP($B$6&$B12,'LISTE JOUEURS'!$P:$S,2,0),"")) &" "& IF(B12="","",IFERROR(VLOOKUP($B$6&$B12,'LISTE JOUEURS'!$P:$S,3,0),"")) | I12: =IF(B12="","",IFERROR(VLOOKUP($B$6&$B12,'LISTE JOUEURS'!$P:$U,4,0),500)) | J12: =IF(B12="","",IFERROR(VLOOKUP($B$6&$B12,'LISTE JOUEURS'!$P:$U,5,0),"")) | O12: Double | Q12: =IF(P12="","",IFERROR(VLOOKUP($N$6&$P12,'LISTE JOUEURS'!$P:$S,2,0),""))& " "&IF(P12="","",IFERROR(VLOOKUP($N$6&$P12,'LISTE JOUEURS'!$P:$S,3,0),"")) | X12: =IF(P12="","",IFERROR(VLOOKUP($N$6&$P12,'LISTE JOUEURS'!$P:$U,4,0),500)) | Y12: =IF(P12="","",IFERROR(VLOOKUP($N$6&$P12,'LISTE JOUEURS'!$P:$U,5,0),"")) | AC12: Un joueur déclarant forfait l'est également pour les matches suivants de la rencontre | BL12: perdant | BM12: ='Coupes départementales'!$D$2 | BN12: =IFERROR(IF(L17=0,VLOOKUP(B6&B10,'LISTE JOUEURS'!$P:$U,6,0),VLOOKUP(N6&P10,'LISTE JOUEURS'!$P:$U,6,0)),0) -> 0 | BO12: =+_xlfn.XLOOKUP(BN12,'LISTE JOUEURS'!$U:$U,'LISTE JOUEURS'!$Q:$Q)&" "&_xlfn.XLOOKUP(BN12,'LISTE JOUEURS'!$U:$U,'LISTE JOUEURS'!$R:$R) -> #N/A
C13: =IF(B13="","",IFERROR(VLOOKUP($B$6&$B13,'LISTE JOUEURS'!$P:$S,2,0),"")) &" "& IF(B13="","",IFERROR(VLOOKUP($B$6&$B13,'LISTE JOUEURS'!$P:$S,3,0),"")) | I13: =IF(B13="","",IFERROR(VLOOKUP($B$6&$B13,'LISTE JOUEURS'!$P:$U,4,0),500)) | J13: =IF(B13="","",IFERROR(VLOOKUP($B$6&$B13,'LISTE JOUEURS'!$P:$U,5,0),"")) | Q13: =IF(P13="","",IFERROR(VLOOKUP($N$6&$P13,'LISTE JOUEURS'!$P:$S,2,0),""))& " "&IF(P13="","",IFERROR(VLOOKUP($N$6&$P13,'LISTE JOUEURS'!$P:$S,3,0),"")) | X13: =IF(P13="","",IFERROR(VLOOKUP($N$6&$P13,'LISTE JOUEURS'!$P:$U,4,0),500)) | Y13: =IF(P13="","",IFERROR(VLOOKUP($N$6&$P13,'LISTE JOUEURS'!$P:$U,5,0),"")) | AC13: Sur les feuilles d'arbitrage fournies à titre indicatif les noms des joueurs sont ajoutés automatiquement | BL13: vainqueur | BM13: ='Coupes départementales'!$D$2 | BN13: =IFERROR(IF(L18=1,VLOOKUP(B6&B11,'LISTE JOUEURS'!$P:$U,6,0),VLOOKUP(N6&P11,'LISTE JOUEURS'!$P:$U,6,0)),0) -> 0 | BO13: =+_xlfn.XLOOKUP(BN13,'LISTE JOUEURS'!$U:$U,'LISTE JOUEURS'!$Q:$Q)&" "&_xlfn.XLOOKUP(BN13,'LISTE JOUEURS'!$U:$U,'LISTE JOUEURS'!$R:$R) -> #N/A
AC14: Envoyer sous format EXCEL la feuille de résultat | BL14: perdant | BM14: ='Coupes départementales'!$D$2 | BN14: =IFERROR(IF(L18=0,VLOOKUP(B6&B11,'LISTE JOUEURS'!$P:$U,6,0),VLOOKUP(N6&P11,'LISTE JOUEURS'!$P:$U,6,0)),0) -> 0 | BO14: =+_xlfn.XLOOKUP(BN14,'LISTE JOUEURS'!$U:$U,'LISTE JOUEURS'!$Q:$Q)&" "&_xlfn.XLOOKUP(BN14,'LISTE JOUEURS'!$U:$U,'LISTE JOUEURS'!$R:$R) -> #N/A
J15: (victoire en Simple 1 pt, en double 1 pt) | BL15: vainqueur | BM15: ='Coupes départementales'!$D$2 | BN15: =IFERROR(IF(L20=1,VLOOKUP(B6&B11,'LISTE JOUEURS'!$P:$U,6,0),VLOOKUP(N6&P10,'LISTE JOUEURS'!$P:$U,6,0)),0) -> 0 | BO15: =+_xlfn.XLOOKUP(BN15,'LISTE JOUEURS'!$U:$U,'LISTE JOUEURS'!$Q:$Q)&" "&_xlfn.XLOOKUP(BN15,'LISTE JOUEURS'!$U:$U,'LISTE JOUEURS'!$R:$R) -> #N/A
A16: Set 1 | B16: Set 2 | C16: Set 3 | D16: Set 4 | E16: Set 5 | F16: =B6&" "&F6 | L16: A B | N16: XY | O16: =N6&" "&R6 | U16: Remarque | AC16: CLUB | AD16: BUSSY | AI16: SET1 | AJ16: SET2 | AK16: SET3 | AL16: SET4 | AM16: SET5 | AN16: SET1 | AO16: SET2 | AP16: SET3 | AQ16: SET4 | AR16: SET5 | AS16: SET1 | AT16: SET2 | AU16: SET3 | AV16: SET4 | AW16: SET5 | BL16: perdant | BM16: ='Coupes départementales'!$D$2 | BN16: =IFERROR(IF(L20=0,VLOOKUP(B6&B11,'LISTE JOUEURS'!$P:$U,6,0),VLOOKUP(N6&P10,'LISTE JOUEURS'!$P:$U,6,0)),0) -> 0 | BO16: =+_xlfn.XLOOKUP(BN16,'LISTE JOUEURS'!$U:$U,'LISTE JOUEURS'!$Q:$Q)&" "&_xlfn.XLOOKUP(BN16,'LISTE JOUEURS'!$U:$U,'LISTE JOUEURS'!$R:$R) -> #N/A
F17: =C10 | L17: =IF(ISNUMBER(A17),IF(OR(COUNTIF(A17:E17,">=0")>3,COUNTIF(A17:E17,"<0")>3),"XXX",IF((COUNTIF(A17:E17,">=0")-COUNTIF(A17:E17,"<0"))<0,0,1)),IF(OR(RIGHT(F17,4)="W.O.",A17=-88,A17=-99),0,IF(OR(RIGHT(O17,4)="W.O.",A17=99,A17=88),1,""))) | M17: A - X | N17: =IF(AND(ISNUMBER(A17),ISNUMBER(L17)),1-L17,IF(O17="Forfait W.O.",0,IF(F17="Forfait W.O.",1,""))) | O17: =+Q10 | U17: =IF(OR(COUNTIF(A17:E17,">=0")>3,COUNTIF(A17:E17,"<0")>3),"Sets mal notés. Refaire la saisie svp",IF(ABS(A17)=99,"Abandon avant le début de la partie",IF(ABS(A17)=88,"Abandon en cours de partie"," "))) | AI17: =IF(A17>0,1,IF(A17<0,-1,0)) -> 0 | AJ17: =IF(B17>0,1,IF(B17<0,-1,0)) -> 0 | AK17: =IF(C17>0,1,IF(C17<0,-1,0)) -> 0 | AL17: =IF(D17>0,1,IF(D17<0,-1,0)) -> 0 | AM17: =IF(E17>0,1,IF(E17<0,-1,0)) -> 0 | AN17: =IF(AND(A17>0,A17<10),11,IF(AND(A17>0,A17>9),A17+2,IF(AND(A17<0,A17>-10),-11,IF(AND(A17<0,A17<-9),A17-2,0)))) -> 0 | AO17: =IF(AND(B17>0,B17<10),11,IF(AND(B17>0,B17>9),B17+2,IF(AND(B17<0,B17>-10),-11,IF(AND(B17<0,B17<-9),B17-2,0)))) -> 0 | AP17: =IF(AND(C17>0,C17<10),11,IF(AND(C17>0,C17>9),C17+2,IF(AND(C17<0,C17>-10),-11,IF(AND(C17<0,C17<-9),C17-2,0)))) -> 0 | AQ17: =IF(AND(D17>0,D17<10),11,IF(AND(D17>0,D17>9),D17+2,IF(AND(D17<0,D17>-10),-11,IF(AND(D17<0,D17<-9),D17-2,0)))) -> 0 | AR17: =IF(AND(E17>0,E17<10),11,IF(AND(E17>0,E17>9),E17+2,IF(AND(E17<0,E17>-10),-11,IF(AND(E17<0,E17<-9),E17-2,0)))) -> 0 | AS17: =-A17 -> 0 | AT17: =-B17 -> 0 | AU17: =-C17 -> 0 | AV17: =-D17 -> 0 | AW17: =-E17 -> 0 | BL17: vainqueur | BM17: ='Coupes départementales'!$D$2 | BN17: =IFERROR(IF(L21=1,VLOOKUP(B6&B10,'LISTE JOUEURS'!$P:$U,6,0),VLOOKUP(N6&P11,'LISTE JOUEURS'!$P:$U,6,0)),0) -> 0 | BO17: =+_xlfn.XLOOKUP(BN17,'LISTE JOUEURS'!$U:$U,'LISTE JOUEURS'!$Q:$Q)&" "&_xlfn.XLOOKUP(BN17,'LISTE JOUEURS'!$U:$U,'LISTE JOUEURS'!$R:$R) -> #N/A
F18: =C11 | L18: =IF(ISNUMBER(A18),IF(OR(COUNTIF(A18:E18,">=0")>3,COUNTIF(A18:E18,"<0")>3),"XXX",IF((COUNTIF(A18:E18,">=0")-COUNTIF(A18:E18,"<0"))<0,0,1)),IF(OR(RIGHT(F18,4)="W.O.",A18=-88,A18=-99),0,IF(OR(RIGHT(O18,4)="W.O.",A18=99,A18=88),1,""))) | M18: B - Y | N18: =IF(AND(ISNUMBER(A18),ISNUMBER(L18)),1-L18,IF(O18="Forfait W.O.",0,IF(F18="Forfait W.O.",1,""))) | O18: =+Q11 | U18: =IF(OR(COUNTIF(A18:E18,">=0")>3,COUNTIF(A18:E18,"<0")>3),"Sets mal notés. Refaire la saisie svp",IF(ABS(A18)=99,"Abandon avant le début de la partie",IF(ABS(A18)=88,"Abandon en cours de partie"," "))) | AC18: NOM | AD18: PRENOM | AE18: Code | AF18: Licence ? | AI18: =IF(A18>0,1,IF(A18<0,-1,0)) -> 0 | AJ18: =IF(B18>0,1,IF(B18<0,-1,0)) -> 0 | AK18: =IF(C18>0,1,IF(C18<0,-1,0)) -> 0 | AL18: =IF(D18>0,1,IF(D18<0,-1,0)) -> 0 | AM18: =IF(E18>0,1,IF(E18<0,-1,0)) -> 0 | AN18: =IF(AND(A18>0,A18<10),11,IF(AND(A18>0,A18>9),A18+2,IF(AND(A18<0,A18>-10),-11,IF(AND(A18<0,A18<-9),A18-2,0)))) -> 0 | AO18: =IF(AND(B18>0,B18<10),11,IF(AND(B18>0,B18>9),B18+2,IF(AND(B18<0,B18>-10),-11,IF(AND(B18<0,B18<-9),B18-2,0)))) -> 0 | AP18: =IF(AND(C18>0,C18<10),11,IF(AND(C18>0,C18>9),C18+2,IF(AND(C18<0,C18>-10),-11,IF(AND(C18<0,C18<-9),C18-2,0)))) -> 0 | AQ18: =IF(AND(D18>0,D18<10),11,IF(AND(D18>0,D18>9),D18+2,IF(AND(D18<0,D18>-10),-11,IF(AND(D18<0,D18<-9),D18-2,0)))) -> 0 | AR18: =IF(AND(E18>0,E18<10),11,IF(AND(E18>0,E18>9),E18+2,IF(AND(E18<0,E18>-10),-11,IF(AND(E18<0,E18<-9),E18-2,0)))) -> 0 | AS18: =-A18 -> 0 | AT18: =-B18 -> 0 | AU18: =-C18 -> 0 | AV18: =-D18 -> 0 | AW18: =-E18 -> 0 | BL18: perdant | BM18: ='Coupes départementales'!$D$2 | BN18: =IFERROR(IF(L21=0,VLOOKUP(B6&B10,'LISTE JOUEURS'!$P:$U,6,0),VLOOKUP(N6&P11,'LISTE JOUEURS'!$P:$U,6,0)),0) -> 0 | BO18: =+_xlfn.XLOOKUP(BN18,'LISTE JOUEURS'!$U:$U,'LISTE JOUEURS'!$Q:$Q)&" "&_xlfn.XLOOKUP(BN18,'LISTE JOUEURS'!$U:$U,'LISTE JOUEURS'!$R:$R) -> #N/A
F19: =IF(OR(B12="",B13=""),"",IF(OR(F17="Forfait W.O.",F18="Forfait W.O."),B6&" "&F6&" W.O.",VLOOKUP($B$6&$B12,'LISTE JOUEURS'!$P:$S,2,0)&" et "&VLOOKUP($B$6&$B13,'LISTE JOUEURS'!$P:$S,2,0))) | L19: =IF(ISNUMBER(A19),IF(OR(COUNTIF(A19:E19,">=0")>3,COUNTIF(A19:E19,"<0")>3),"XXX",IF((COUNTIF(A19:E19,">=0")-COUNTIF(A19:E19,"<0"))<0,0,1)),IF(OR(RIGHT(F19,4)="W.O.",A19=-88,A19=-99),0,IF(OR(RIGHT(O19,4)="W.O.",A19=99,A19=88),1,""))) | M19: Double | N19: =IF(AND(ISNUMBER(A19),ISNUMBER(L19)),1-L19,IF(O19="Forfait W.O.",0,IF(F19="Forfait W.O.",1,""))) | O19: =IF(OR(P12="",P13=""),"",IF(OR(O17="Forfait W.O.",O18="Forfait W.O."),N6&" "&R6&" W.O.",VLOOKUP($N$6&$P12,'LISTE JOUEURS'!$P:$S,2,0)&" et "&VLOOKUP($N$6&$P13,'LISTE JOUEURS'!$P:$S,2,0))) | U19: =IF(OR(COUNTIF(A19:E19,">=0")>3,COUNTIF(A19:E19,"<0")>3),"Sets mal notés. Refaire la saisie svp",IF(ABS(A19)=99,"Abandon avant le début de la partie",IF(ABS(A19)=88,"Abandon en cours de partie"," "))) | AC19: ATRIDE | AD19: Edwin | AE19: 1 | AF19: Licence Nok | AI19: =IF(A19>0,1,IF(A19<0,-1,0)) -> 0 | AJ19: =IF(B19>0,1,IF(B19<0,-1,0)) -> 0 | AK19: =IF(C19>0,1,IF(C19<0,-1,0)) -> 0 | AL19: =IF(D19>0,1,IF(D19<0,-1,0)) -> 0 | AM19: =IF(E19>0,1,IF(E19<0,-1,0)) -> 0 | AN19: =IF(AND(A19>0,A19<10),11,IF(AND(A19>0,A19>9),A19+2,IF(AND(A19<0,A19>-10),-11,IF(AND(A19<0,A19<-9),A19-2,0)))) -> 0 | AO19: =IF(AND(B19>0,B19<10),11,IF(AND(B19>0,B19>9),B19+2,IF(AND(B19<0,B19>-10),-11,IF(AND(B19<0,B19<-9),B19-2,0)))) -> 0 | AP19: =IF(AND(C19>0,C19<10),11,IF(AND(C19>0,C19>9),C19+2,IF(AND(C19<0,C19>-10),-11,IF(AND(C19<0,C19<-9),C19-2,0)))) -> 0 | AQ19: =IF(AND(D19>0,D19<10),11,IF(AND(D19>0,D19>9),D19+2,IF(AND(D19<0,D19>-10),-11,IF(AND(D19<0,D19<-9),D19-2,0)))) -> 0 | AR19: =IF(AND(E19>0,E19<10),11,IF(AND(E19>0,E19>9),E19+2,IF(AND(E19<0,E19>-10),-11,IF(AND(E19<0,E19<-9),E19-2,0)))) -> 0 | AS19: =-A19 -> 0 | AT19: =-B19 -> 0 | AU19: =-C19 -> 0 | AV19: =-D19 -> 0 | AW19: =-E19 -> 0
F20: =C11 | L20: =IF(ISNUMBER(A20),IF(OR(COUNTIF(A20:E20,">=0")>3,COUNTIF(A20:E20,"<0")>3),"XXX",IF((COUNTIF(A20:E20,">=0")-COUNTIF(A20:E20,"<0"))<0,0,1)),IF(OR(RIGHT(F20,4)="W.O.",A20=-88,A20=-99),0,IF(OR(RIGHT(O20,4)="W.O.",A20=99,A20=88),1,""))) | M20: B - X | N20: =IF(AND(ISNUMBER(A20),ISNUMBER(L20)),1-L20,IF(O20="Forfait W.O.",0,IF(F20="Forfait W.O.",1,""))) | O20: =Q10 | U20: =IF(OR(COUNTIF(A20:E20,">=0")>3,COUNTIF(A20:E20,"<0")>3),"Sets mal notés. Refaire la saisie svp",IF(ABS(A20)=99,"Abandon avant le début de la partie",IF(ABS(A20)=88,"Abandon en cours de partie"," "))) | AC20: BARNIER | AD20: Stephane | AE20: 2 | AF20: Licence ok | AI20: =IF(A20>0,1,IF(A20<0,-1,0)) -> 0 | AJ20: =IF(B20>0,1,IF(B20<0,-1,0)) -> 0 | AK20: =IF(C20>0,1,IF(C20<0,-1,0)) -> 0 | AL20: =IF(D20>0,1,IF(D20<0,-1,0)) -> 0 | AM20: =IF(E20>0,1,IF(E20<0,-1,0)) -> 0 | AN20: =IF(AND(A20>0,A20<10),11,IF(AND(A20>0,A20>9),A20+2,IF(AND(A20<0,A20>-10),-11,IF(AND(A20<0,A20<-9),A20-2,0)))) -> 0 | AO20: =IF(AND(B20>0,B20<10),11,IF(AND(B20>0,B20>9),B20+2,IF(AND(B20<0,B20>-10),-11,IF(AND(B20<0,B20<-9),B20-2,0)))) -> 0 | AP20: =IF(AND(C20>0,C20<10),11,IF(AND(C20>0,C20>9),C20+2,IF(AND(C20<0,C20>-10),-11,IF(AND(C20<0,C20<-9),C20-2,0)))) -> 0 | AQ20: =IF(AND(D20>0,D20<10),11,IF(AND(D20>0,D20>9),D20+2,IF(AND(D20<0,D20>-10),-11,IF(AND(D20<0,D20<-9),D20-2,0)))) -> 0 | AR20: =IF(AND(E20>0,E20<10),11,IF(AND(E20>0,E20>9),E20+2,IF(AND(E20<0,E20>-10),-11,IF(AND(E20<0,E20<-9),E20-2,0)))) -> 0 | AS20: =-A20 -> 0 | AT20: =-B20 -> 0 | AU20: =-C20 -> 0 | AV20: =-D20 -> 0 | AW20: =-E20 -> 0
F21: =C10 | L21: =IF(ISNUMBER(A21),IF(OR(COUNTIF(A21:E21,">=0")>3,COUNTIF(A21:E21,"<0")>3),"XXX",IF((COUNTIF(A21:E21,">=0")-COUNTIF(A21:E21,"<0"))<0,0,1)),IF(OR(RIGHT(F21,4)="W.O.",A21=-88,A21=-99),0,IF(OR(RIGHT(O21,4)="W.O.",A21=99,A21=88),1,""))) | M21: A - Y | N21: =IF(AND(ISNUMBER(A21),ISNUMBER(L21)),1-L21,IF(O21="Forfait W.O.",0,IF(F21="Forfait W.O.",1,""))) | O21: =Q11 | U21: =IF(OR(COUNTIF(A21:E21,">=0")>3,COUNTIF(A21:E21,"<0")>3),"Sets mal notés. Refaire la saisie svp",IF(ABS(A21)=99,"Abandon avant le début de la partie",IF(ABS(A21)=88,"Abandon en cours de partie"," "))) | AC21: BONNEVIALE | AD21: Dominique | AE21: 3 | AF21: Licence ok | AI21: =IF(A21>0,1,IF(A21<0,-1,0)) -> 0 | AJ21: =IF(B21>0,1,IF(B21<0,-1,0)) -> 0 | AK21: =IF(C21>0,1,IF(C21<0,-1,0)) -> 0 | AL21: =IF(D21>0,1,IF(D21<0,-1,0)) -> 0 | AM21: =IF(E21>0,1,IF(E21<0,-1,0)) -> 0 | AN21: =IF(AND(A21>0,A21<10),11,IF(AND(A21>0,A21>9),A21+2,IF(AND(A21<0,A21>-10),-11,IF(AND(A21<0,A21<-9),A21-2,0)))) -> 0 | AO21: =IF(AND(B21>0,B21<10),11,IF(AND(B21>0,B21>9),B21+2,IF(AND(B21<0,B21>-10),-11,IF(AND(B21<0,B21<-9),B21-2,0)))) -> 0 | AP21: =IF(AND(C21>0,C21<10),11,IF(AND(C21>0,C21>9),C21+2,IF(AND(C21<0,C21>-10),-11,IF(AND(C21<0,C21<-9),C21-2,0)))) -> 0 | AQ21: =IF(AND(D21>0,D21<10),11,IF(AND(D21>0,D21>9),D21+2,IF(AND(D21<0,D21>-10),-11,IF(AND(D21<0,D21<-9),D21-2,0)))) -> 0 | AR21: =IF(AND(E21>0,E21<10),11,IF(AND(E21>0,E21>9),E21+2,IF(AND(E21<0,E21>-10),-11,IF(AND(E21<0,E21<-9),E21-2,0)))) -> 0 | AS21: =-A21 -> 0 | AT21: =-B21 -> 0 | AU21: =-C21 -> 0 | AV21: =-D21 -> 0 | AW21: =-E21 -> 0 | BI21: Division | BJ21: SuperDiv
AC22: CAUSSANEL | AD22: Christophe | AE22: 4 | AF22: Licence ok | BJ22: Div 1
I23: Total points | L23: =SUM(L17:L21) -> 0 | N23: =SUM(N17:N21) -> 0 | AC23: CHANG | AD23: Bour | AE23: 5 | AF23: Licence Nok | BJ23: Div 2
AD24: Pratsanee | AE24: 6 | AF24: Licence Nok | BJ24: Div 3
AC25: DAUBY | AD25: Jean | AE25: 7 | AF25: Licence Nok
AC26: DENY | AD26: Franck | AE26: 8 | AF26: Licence ok
A27: RESULTAT | AC27: DUPONT | AD27: Laurent | AE27: 9 | AF27: Licence ok
A28: =IF((L23 )>(N23),B6&" "&F6,IF((L23)=(N23),B6&" "&F6,N6&" "&R6)) | E28: =IF(A29=H29,"à égalité avec ","BAT") -> à égalité avec | H28: =IF((L23)<(N23),B6&" "&F6,IF((L23)=(N23),N6&" "&R6,N6&" "&R6)) | J28: ="Cap. "&O16 -> Cap. | S28: Juge Arbitre | AC28: FAYS | AD28: Florian | AE28: 10 | AF28: Licence ok | BI28: Numero | BJ28: 1
A29: =IF((L23)>(N23),(L23)&" points",(N23)&" points") -> 0 points | H29: =IF((L23 )>(N23),(N23)&" points",(L23)&" points") -> 0 points | AC29: FLACHAIRE DE ROUSTAN | AD29: Katia | AE29: 11 | AF29: Licence Nok | BJ29: 2
A30: =VLOOKUP(A28,$AJ$33:$AL$34,2,0)&" Sets à "&VLOOKUP(H28,$AJ$33:$AL$34,2,0) -> 0 Sets à 0 | J30: ="Cap. "&$F$16 -> Cap. | AC30: FROMENT | AD30: Nathalie | AE30: 12 | AF30: Licence Nok | BJ30: 3
A31: =ROUND(VLOOKUP(A28,$AJ$33:$AL$34,3,0),0)&" points à "&ROUND(VLOOKUP(H28,$AJ$33:$AL$34,3,0),0) -> 0 points à 0 | AC31: LADEVE | AD31: Christophe | AE31: 13 | AF31: Licence ok | BJ31: 4
AC32: LI | AD32: Sejou | AE32: 14 | AF32: Licence ok | BJ32: 5
A33: IMPORTANT : Envoyer la feuille de match au responsable des Coupes Départementales : Jerôme GUIGNARD mail csctt@wanadoo.fr | AC33: LU | AD33: Philippe | AE33: 16 | AF33: Licence ok | AJ33: =B6&" "&F6 | AK33: =COUNTIF(AI17:AM21,1) -> 0 | AL33: =SUMIF(AN17:AW21,">0",AN17:AW21) -> 0 | BJ33: 6
A34: Mettre en copie le Club visiteur : | F34: =IFERROR(VLOOKUP(N6,'LISTING CLUB'!A:C,3,0),"") | K34: SAUVER FICHIER SOUS | O34: ="CD-J"&IFERROR(VLOOKUP(R3,BK4:BK8,3,0),"")&"-"&G3&"-"&F16&"-"&O16 -> CD-J-- - | AD34: Amélie | AE34: 15 | AF34: Licence ok | AJ34: =N6&" "&R6 | AK34: =COUNTIF(AI17:AM21,-1) -> 0 | AL34: =-SUMIF(AN17:AW21,"<0",AN17:AW21) -> 0
A35: RESERVES (à faire avant la rencontre par le capitaine réclamant en présence du capitaine adverse) | AC35: MALARD | AD35: Estelle | AE35: 17 | AF35: Licence ok | BI35: Poule | BJ35: Nord
AC36: MARZOUK | AD36: Nasreddine | AE36: 18 | AF36: Licence ok | BJ36: Sud
AC37: MONTEIRO | AD37: Paul | AE37: 19 | AF37: Licence Nok | BJ37: Unique
AC38: NGO | AD38: Olivier | AE38: 20 | AF38: Licence Nok
AC39: POISNEUF | AD39: Jean-Luc | AE39: 21 | AF39: Licence ok | BE39: RECEVEUSE | BF39: =C10 | BI39: Coupe Mr N°1 Cl 500 à 699
AC40: SAISOTH | AD40: Daniel | AE40: 22 | AF40: Licence ok | BE40: RECEVEUSE | BF40: =C11 | BI40: Coupe Mr N°2 Cl 700 à 899
AC41: SIMON | AD41: Eric | AE41: 23 | AF41: Licence ok | BE41: EXTERIEUR | BF41: =+Q10 | BI41: Coupe Mr N°3 Cl 900 à 1299
AC42: SMIALKOWSKI | AD42: Raymond | AE42: 24 | AF42: Licence ok | BE42: EXTERIEUR | BF42: =+Q11 | BI42: Coupe Mr N°4 Cl 1300 à 1699
AC43: SRENG | AD43: Colin | AE43: 25 | AF43: Licence ok | BI43: Coupe Vétérans
AC44: STRULLU | AD44: Pascale | AE44: 26 | AF44: Licence ok | BI44: Coupe Féminines
AC45: THOMERT | AD45: Eric | AE45: 27 | AF45: Licence ok | BI45: Coupe Mixte
AC46: TILLENAYAGANE | AD46: Senthil | AE46: 28 | AF46: Licence Nok | BI46: Jeunes Cadets
A47: RECLAMATIONS (à faire par le réclamant au cours de la rencontre ou après celle-ci) | AC47: TRANG | AD47: Daniel | AE47: 29 | AF47: Licence ok | BI47: Jeunes Minimes
AC48: TRIGALO WOJAKOWSKI | AD48: Benjamin | AE48: 30 | AF48: Licence ok
AC49: ZHANG DEVESA | AD49: Stefano | AE49: 31 | AF49: Licence ok
A59: REGLEMENT
A60: - Le juge arbitre est désigné, en commun accord par les capitaines. En cas de litige, c'est le capitaine visiteur qui remplit cette fonction.
A61: - Avant la rencontre, l'attribution des lettres est faite par tirage au sort.
A62: - Chaque capitaine désigne ensuite la composition de son équipe, avec présentation obligatoire des licences.
A63: - Lorsqu'un joueur est absent, la place vacante doit figurer dans la formation 1
A64: - Les matchs ont lieu obligatoirement dans l'ordre prévu.
A65: - L'envoi de la feuille de rencontre au responsable du championnat, incombe à l'équipe qui reçoit, et cela au plus tard dans un délai de 48 heures

Sheet arbitrage CD
A1: UFOLEP 77 – Coupes Départementales 2025 - 2026 | M1: =A1 -> UFOLEP 77 – Coupes Départementales 2025 - 2026 | Y1: =A1 -> UFOLEP 77 – Coupes Départementales 2025 - 2026
B2: =+'Coupes départementales'!$I$4 -> 0 | G2: Poule | H2: =+'Coupes départementales'!$N$3 -> 0 | I2: journée | K2: =+'Coupes départementales'!$R$3 -> 0 | N2: =+'Coupes départementales'!$I$4 -> 0 | S2: Poule | T2: =+'Coupes départementales'!$N$3 -> 0 | U2: journée | W2: =+'Coupes départementales'!$R$3 -> 0 | AC2: =+'Coupes départementales'!$I$4 -> 0 | AE2: Poule | AF2: =+'Coupes départementales'!$N$3 -> 0 | AG2: journée | AI2: =+'Coupes départementales'!$R$3 -> 0
A3: =+'Coupes départementales'!$B$6&" "&'Coupes départementales'!$F$6 | G3: reçoit | H3: =+'Coupes départementales'!$N$6&" "&'Coupes départementales'!$R$6 | M3: =+'Coupes départementales'!$B$6&" "&'Coupes départementales'!$F$6 | S3: reçoit | T3: =+'Coupes départementales'!$N$6&" "&'Coupes départementales'!$R$6 | Y3: =+'Coupes départementales'!$B$6&" "&'Coupes départementales'!$F$6 | AE3: reçoit | AF3: =+'Coupes départementales'!$N$6&" "&'Coupes départementales'!$R$6
A4: Date | B4: =IF(ISBLANK('Coupes départementales'!C3),'Coupes départementales'!D2,'Coupes départementales'!C3) | C4: =IF(ISBLANK('Coupes départementales'!#REF!),'Coupes départementales'!#REF!,#REF!) -> #REF! | D4: =IF(ISBLANK('Coupes départementales'!#REF!),'Coupes départementales'!#REF!,#REF!) -> #REF! | E4: =IF(ISBLANK('Coupes départementales'!#REF!),'Coupes départementales'!#REF!,#REF!) -> #REF! | F4: =IF(ISBLANK('Coupes départementales'!#REF!),'Coupes départementales'!#REF!,#REF!) -> #REF! | H4: Table n° | M4: Date | N4: =+B4 | T4: Table n° | Y4: Date | Z4: =+B4 | AC4: 43382 | AF4: Table n°
G5: 1er Service : Gauche-Droite | S5: 1er Service : Gauche-Droite | AE5: 1er Service : Gauche-Droite
A6: Partie | B6: A – X | G6: Set 1 | H6: Set 2 | I6: Set 3 | J6: Set 4 | K6: Set 5 | M6: Partie | N6: B – Y | S6: Set 1 | T6: Set 2 | U6: Set 3 | V6: Set 4 | W6: Set 5 | Y6: Partie | Z6: B – X | AE6: Set 1 | AF6: Set 2 | AG6: Set 3 | AH6: Set 4 | AI6: Set 5
A7: =+'Coupes départementales'!C10 | M7: =+'Coupes départementales'!C11 | Y7: =+'Coupes départementales'!C11
A8: ='Coupes départementales'!I10 | M8: ='Coupes départementales'!I11 | Y8: ='Coupes départementales'!I11
A9: contre | M9: contre | Y9: contre
A10: =+'Coupes départementales'!$Q$10 | M10: =+'Coupes départementales'!$Q$11 | Y10: =+'Coupes départementales'!$Q$10
A11: ='Coupes départementales'!X10 | M11: ='Coupes départementales'!X11 | Y11: ='Coupes départementales'!X10
A12: Arbitre | B12: (Y) | C12: ='Coupes départementales'!Q11 | M12: Arbitre | N12: (X) | O12: ='Coupes départementales'!Q10 | Y12: Arbitre | Z12: (A) | AA12: ='Coupes départementales'!C10
A15: =A1 -> UFOLEP 77 – Coupes Départementales 2025 - 2026 | M15: =A1 -> UFOLEP 77 – Coupes Départementales 2025 - 2026
B16: =+'Coupes départementales'!$I$4 -> 0 | G16: Poule | H16: =+'Coupes départementales'!$N$3 -> 0 | I16: journée | K16: =+'Coupes départementales'!$R$3 -> 0 | N16: =+'Coupes départementales'!$I$4 -> 0 | S16: Poule | T16: =+'Coupes départementales'!$N$3 -> 0 | U16: journée | W16: =+'Coupes départementales'!$R$3 -> 0 | AE16: Poule | AG16: journée
A17: =+'Coupes départementales'!$B$6&" "&'Coupes départementales'!$F$6 | G17: reçoit | H17: =+'Coupes départementales'!$N$6&" "&'Coupes départementales'!$R$6 | M17: =+'Coupes départementales'!$B$6&" "&'Coupes départementales'!$F$6 | S17: reçoit | T17: =+'Coupes départementales'!$N$6&" "&'Coupes départementales'!$R$6 | AE17: reçoit
A18: Date | B18: =+B4 | H18: Table n° | M18: Date | N18: =+B4 | T18: Table n° | Y18: Date | AF18: Table n°
G19: 1er Service : Gauche-Droite | S19: 1er Service : Gauche-Droite | AE19: 1er Service : Gauche-Droite
A20: Partie | B20: A – Y | G20: Set 1 | H20: Set 2 | I20: Set 3 | J20: Set 4 | K20: Set 5 | M20: Partie | N20: DOUBLE A | S20: Set 1 | T20: Set 2 | U20: Set 3 | V20: Set 4 | W20: Set 5
A21: =+A7 | M21: ='Coupes départementales'!C12
A22: ='Coupes départementales'!I10 | M22: ='Coupes départementales'!C13
A23: contre | M23: contre
A24: =+M10 | M24: ='Coupes départementales'!Q12
A25: ='Coupes départementales'!X11 | M25: ='Coupes départementales'!Q13
A26: Arbitre | B26: B) | C26: ='Coupes départementales'!C11 | M26: Arbitre
G31: Poule | I31: journée | S31: Poule | U31: journée | AE31: Poule | AG31: journée
G32: reçoit | S32: reçoit | AE32: reçoit
A33: Date | H33: Table n° | M33: Date | T33: Table n° | Y33: Date | AF33: Table n°
G34: 1er Service : Gauche-Droite | S34: 1er Service : Gauche-Droite | AE34: 1er Service : Gauche-Droite
A35: Partie | G35: Set 1 | H35: Set 2 | I35: Set 3 | J35: Set 4 | K35: Set 5 | M35: Partie | S35: Set 1 | T35: Set 2 | U35: Set 3 | V35: Set 4 | W35: Set 5 | Y35: Partie | AE35: Set 1 | AF35: Set 2 | AG35: Set 3 | AH35: Set 4 | AI35: Set 5
A38: contre | M38: contre | Y38: contre
A41: Arbitre | M41: Arbitre | Y41: Arbitre
G45: Poule | I45: journée | S45: Poule | U45: journée | AE45: Poule | AG45: journée
G46: reçoit | S46: reçoit | AE46: reçoit
A47: Date | H47: Table n° | M47: Date | N47: 43382 | Q47: 43382 | T47: Table n° | Y47: Date | AC47: 43382 | AF47: Table n°
G48: 1er Service : Gauche-Droite | S48: 1er Service : Gauche-Droite | AE48: 1er Service : Gauche-Droite
A49: Partie | G49: Set 1 | H49: Set 2 | I49: Set 3 | J49: Set 4 | K49: Set 5 | M49: Partie | S49: Set 1 | T49: Set 2 | U49: Set 3 | V49: Set 4 | W49: Set 5 | Y49: Partie | AE49: Set 1 | AF49: Set 2 | AG49: Set 3 | AH49: Set 4 | AI49: Set 5
A52: contre | M52: contre | Y52: contre
A55: Arbitre | M55: Arbitre | Y55: Arbitre

Sheet Coupes Nationales
A1: Coupes Nationales Île de France - Saison 2025 - 2026 | BS1: Résultat | BT1: CNJ | BU1: =R3 -> 0 | BV1: =+D2 | BW1: =IF(ISBLANK(D3),D2,D3) | BX1: =G3 -> 0 | BY1: =R3 -> 0 | BZ1: =B6&" "&F6 | CA1: contre | CB1: =N6&" "&R6 | CD1: =L23 -> 0 | CE1: =N23 -> 0 | CG1: =AK33 -> 0 | CH1: =AK34 -> 0 | CJ1: =ROUND(AL33,0) -> 0 | CK1: =ROUND(AL34,0) -> 0
A2: Date prévue | D2: =IFERROR(VLOOKUP(R3,JourneeCN,2,FALSE), "") | AC2: NOTICE : Important toujours utiliser une feuille de match originale
A3: Date réelle : | F3: Catégorie | P3: Journée | AC3: Selectionner la journée, la catégorie et la date rélle si différente de la date prévue officiellemnt
AC4: Sélectionner les équipes et et numeros | BG4: 1
B5: Equipe receveuse | N5: Equipe visiteuse | AC5: Saisir les codes de chaque joueur, utiliser la liste ci-dessous après avoir selectionne le club | BG5: 2
AC6: Si joueur inconnu ne pas mettre de code et saisir Nom prenom directement | BG6: 3
W7: =+'Coupes départementales'!W6 -> Mise à jour du 24 Novembre 2025 | AC7: Indiquer un score positif si c'est le joueur à domicile qui gagne le set et un score négatif si le joueur extérieur gagne le set. | BG7: 1
AC8: Marquer 0,1 ou -0,1 lorsqu'un des joueurs gagne 11/0 en respectant le signe indiqué au dessus, 0 sera alors affiché | BG8: 2
B9: Code | C9: NOM - Prénom | I9: Clt. | J9: Licence | P9: Code | Q9: NOM - Prénom | X9: Clt. | Y9: Licence | AC9: Si joueur forfait saisir 0 (zéro) pour code, pas de score à sasir, le tableau se remplira automatiqement | BG9: 3
A10: A | C10: =IF(B10="","",IFERROR(VLOOKUP($B$6&$B10,'LISTE JOUEURS'!$P:$S,2,0),"")) &" "& IF(B10="","",IFERROR(VLOOKUP($B$6&$B10,'LISTE JOUEURS'!$P:$S,3,0),"")) | I10: =IF(B10="","",IFERROR(VLOOKUP($B$6&$B10,'LISTE JOUEURS'!$P:$U,4,0),500)) | J10: =IF(B10="","",IFERROR(VLOOKUP($B$6&$B10,'LISTE JOUEURS'!$P:$U,5,0),"")) | O10: X | Q10: =IF(P10="","",IFERROR(VLOOKUP($N$6&$P10,'LISTE JOUEURS'!$P:$S,2,0),""))& " "&IF(P10="","",IFERROR(VLOOKUP($N$6&$P10,'LISTE JOUEURS'!$P:$S,3,0),"")) | X10: =IF(P10="","",IFERROR(VLOOKUP($N$6&$P10,'LISTE JOUEURS'!$P:$U,4,0),500)) | Y10: =IF(P10="","",IFERROR(VLOOKUP($N$6&$P10,'LISTE JOUEURS'!$P:$U,5,0),"")) | AC10: Si abandon d'un joueur avant de commencer la partie saisir 99 (ou -99) dans la case du premier set uniquement et pour tous ses matches suivants | BH10: V/D | BI10: Date | BJ10: Code joueur
A11: B | C11: =IF(B11="","",IFERROR(VLOOKUP($B$6&$B11,'LISTE JOUEURS'!$P:$S,2,0),"")) &" "& IF(B11="","",IFERROR(VLOOKUP($B$6&$B11,'LISTE JOUEURS'!$P:$S,3,0),"")) | I11: =IF(B11="","",IFERROR(VLOOKUP($B$6&$B11,'LISTE JOUEURS'!$P:$U,4,0),500)) | J11: =IF(B11="","",IFERROR(VLOOKUP($B$6&$B11,'LISTE JOUEURS'!$P:$U,5,0),"")) | O11: Y | Q11: =IF(P11="","",IFERROR(VLOOKUP($N$6&$P11,'LISTE JOUEURS'!$P:$S,2,0),""))& " "&IF(P11="","",IFERROR(VLOOKUP($N$6&$P11,'LISTE JOUEURS'!$P:$S,3,0),"")) | X11: =IF(P11="","",IFERROR(VLOOKUP($N$6&$P11,'LISTE JOUEURS'!$P:$U,4,0),500)) | Y11: =IF(P11="","",IFERROR(VLOOKUP($N$6&$P11,'LISTE JOUEURS'!$P:$U,5,0),"")) | AC11: Si abandon d'un joueur en cours de partie mettre 88 (ou -88) dans la case du premer set uniquement et pour tous ses matches suivants. | BH11: vainqueur | BI11: ='Coupes Nationales'!$D$2 | BJ11: =IFERROR(IF(L17=1,VLOOKUP(B6&B10,'LISTE JOUEURS'!$P:$U,6,0),VLOOKUP(N6&P10,'LISTE JOUEURS'!$P:$U,6,0)),0) -> 0 | BK11: =+_xlfn.XLOOKUP(BJ11,'LISTE JOUEURS'!$U:$U,'LISTE JOUEURS'!$Q:$Q)&" "&_xlfn.XLOOKUP(BJ11,'LISTE JOUEURS'!$U:$U,'LISTE JOUEURS'!$R:$R) -> #N/A
A12: Double | C12: =IF(B12="","",IFERROR(VLOOKUP($B$6&$B12,'LISTE JOUEURS'!$P:$S,2,0),"")) &" "& IF(B12="","",IFERROR(VLOOKUP($B$6&$B12,'LISTE JOUEURS'!$P:$S,3,0),"")) | I12: =IF(B12="","",IFERROR(VLOOKUP($B$6&$B12,'LISTE JOUEURS'!$P:$U,4,0),500)) | J12: =IF(B12="","",IFERROR(VLOOKUP($B$6&$B12,'LISTE JOUEURS'!$P:$U,5,0),"")) | O12: Double | Q12: =IF(P12="","",IFERROR(VLOOKUP($N$6&$P12,'LISTE JOUEURS'!$P:$S,2,0),""))& " "&IF(P12="","",IFERROR(VLOOKUP($N$6&$P12,'LISTE JOUEURS'!$P:$S,3,0),"")) | X12: =IF(P12="","",IFERROR(VLOOKUP($N$6&$P12,'LISTE JOUEURS'!$P:$U,4,0),500)) | Y12: =IF(P12="","",IFERROR(VLOOKUP($N$6&$P12,'LISTE JOUEURS'!$P:$U,5,0),"")) | AC12: Un joueur déclarant forfait l'est également pour les matches suivants de la rencontre | BH12: perdant | BI12: ='Coupes Nationales'!$D$2 | BJ12: =IFERROR(IF(L17=0,VLOOKUP(B6&B10,'LISTE JOUEURS'!$P:$U,6,0),VLOOKUP(N6&P10,'LISTE JOUEURS'!$P:$U,6,0)),0) -> 0 | BK12: =+_xlfn.XLOOKUP(BJ12,'LISTE JOUEURS'!$U:$U,'LISTE JOUEURS'!$Q:$Q)&" "&_xlfn.XLOOKUP(BJ12,'LISTE JOUEURS'!$U:$U,'LISTE JOUEURS'!$R:$R) -> #N/A
C13: =IF(B13="","",IFERROR(VLOOKUP($B$6&$B13,'LISTE JOUEURS'!$P:$S,2,0),"")) &" "& IF(B13="","",IFERROR(VLOOKUP($B$6&$B13,'LISTE JOUEURS'!$P:$S,3,0),"")) | I13: =IF(B13="","",IFERROR(VLOOKUP($B$6&$B13,'LISTE JOUEURS'!$P:$U,4,0),500)) | J13: =IF(B13="","",IFERROR(VLOOKUP($B$6&$B13,'LISTE JOUEURS'!$P:$U,5,0),"")) | Q13: =IF(P13="","",IFERROR(VLOOKUP($N$6&$P13,'LISTE JOUEURS'!$P:$S,2,0),""))& " "&IF(P13="","",IFERROR(VLOOKUP($N$6&$P13,'LISTE JOUEURS'!$P:$S,3,0),"")) | X13: =IF(P13="","",IFERROR(VLOOKUP($N$6&$P13,'LISTE JOUEURS'!$P:$U,4,0),500)) | Y13: =IF(P13="","",IFERROR(VLOOKUP($N$6&$P13,'LISTE JOUEURS'!$P:$U,5,0),"")) | AC13: Sur les feuilles d'arbitrage fournies à titre indicatif les noms des joueurs sont ajoutés automatiquement | BH13: vainqueur | BI13: ='Coupes Nationales'!$D$2 | BJ13: =IFERROR(IF(L18=1,VLOOKUP(B6&B11,'LISTE JOUEURS'!$P:$U,6,0),VLOOKUP(N6&P11,'LISTE JOUEURS'!$P:$U,6,0)),0) -> 0 | BK13: =+_xlfn.XLOOKUP(BJ13,'LISTE JOUEURS'!$U:$U,'LISTE JOUEURS'!$Q:$Q)&" "&_xlfn.XLOOKUP(BJ13,'LISTE JOUEURS'!$U:$U,'LISTE JOUEURS'!$R:$R) -> #N/A
AC14: Envoyer sous format EXCEL la feuille de résultat | BH14: perdant | BI14: ='Coupes Nationales'!$D$2 | BJ14: =IFERROR(IF(L18=0,VLOOKUP(B6&B11,'LISTE JOUEURS'!$P:$U,6,0),VLOOKUP(N6&P11,'LISTE JOUEURS'!$P:$U,6,0)),0) -> 0 | BK14: =+_xlfn.XLOOKUP(BJ14,'LISTE JOUEURS'!$U:$U,'LISTE JOUEURS'!$Q:$Q)&" "&_xlfn.XLOOKUP(BJ14,'LISTE JOUEURS'!$U:$U,'LISTE JOUEURS'!$R:$R) -> #N/A
J15: (victoire en Simple 1 pt, en double 1 pt) | BH15: vainqueur | BI15: ='Coupes Nationales'!$D$2 | BJ15: =IFERROR(IF(L20=1,VLOOKUP(B6&B11,'LISTE JOUEURS'!$P:$U,6,0),VLOOKUP(N6&P10,'LISTE JOUEURS'!$P:$U,6,0)),0) -> 0 | BK15: =+_xlfn.XLOOKUP(BJ15,'LISTE JOUEURS'!$U:$U,'LISTE JOUEURS'!$Q:$Q)&" "&_xlfn.XLOOKUP(BJ15,'LISTE JOUEURS'!$U:$U,'LISTE JOUEURS'!$R:$R) -> #N/A
A16: Set 1 | B16: Set 2 | C16: Set 3 | D16: Set 4 | E16: Set 5 | F16: =B6&" "&F6 | L16: A B | N16: XY | O16: =N6&" "&R6 | U16: Remarque | AC16: CLUB | AD16: (Plusieurs éléments) | AI16: SET1 | AJ16: SET2 | AK16: SET3 | AL16: SET4 | AM16: SET5 | AN16: SET1 | AO16: SET2 | AP16: SET3 | AQ16: SET4 | AR16: SET5 | AS16: SET1 | AT16: SET2 | AU16: SET3 | AV16: SET4 | AW16: SET5 | BH16: perdant | BI16: ='Coupes Nationales'!$D$2 | BJ16: =IFERROR(IF(L20=0,VLOOKUP(B6&B11,'LISTE JOUEURS'!$P:$U,6,0),VLOOKUP(N6&P10,'LISTE JOUEURS'!$P:$U,6,0)),0) -> 0 | BK16: =+_xlfn.XLOOKUP(BJ16,'LISTE JOUEURS'!$U:$U,'LISTE JOUEURS'!$Q:$Q)&" "&_xlfn.XLOOKUP(BJ16,'LISTE JOUEURS'!$U:$U,'LISTE JOUEURS'!$R:$R) -> #N/A
F17: =C10 | L17: =IF(ISNUMBER(A17),IF(OR(COUNTIF(A17:E17,">=0")>3,COUNTIF(A17:E17,"<0")>3),"XXX",IF((COUNTIF(A17:E17,">=0")-COUNTIF(A17:E17,"<0"))<0,0,1)),IF(OR(RIGHT(F17,4)="W.O.",A17=-88,A17=-99),0,IF(OR(RIGHT(O17,4)="W.O.",A17=99,A17=88),1,""))) | M17: A - X | N17: =IF(AND(ISNUMBER(A17),ISNUMBER(L17)),1-L17,IF(O17="Forfait W.O.",0,IF(F17="Forfait W.O.",1,""))) | O17: =+Q10 | U17: =IF(OR(COUNTIF(A17:E17,">=0")>3,COUNTIF(A17:E17,"<0")>3),"Sets mal notés. Refaire la saisie svp",IF(ABS(A17)=99,"Abandon avant le début de la partie",IF(ABS(A17)=88,"Abandon en cours de partie"," "))) | AI17: =IF(A17>0,1,IF(A17<0,-1,0)) -> 0 | AJ17: =IF(B17>0,1,IF(B17<0,-1,0)) -> 0 | AK17: =IF(C17>0,1,IF(C17<0,-1,0)) -> 0 | AL17: =IF(D17>0,1,IF(D17<0,-1,0)) -> 0 | AM17: =IF(E17>0,1,IF(E17<0,-1,0)) -> 0 | AN17: =IF(AND(A17>0,A17<10),11,IF(AND(A17>0,A17>9),A17+2,IF(AND(A17<0,A17>-10),-11,IF(AND(A17<0,A17<-9),A17-2,0)))) -> 0 | AO17: =IF(AND(B17>0,B17<10),11,IF(AND(B17>0,B17>9),B17+2,IF(AND(B17<0,B17>-10),-11,IF(AND(B17<0,B17<-9),B17-2,0)))) -> 0 | AP17: =IF(AND(C17>0,C17<10),11,IF(AND(C17>0,C17>9),C17+2,IF(AND(C17<0,C17>-10),-11,IF(AND(C17<0,C17<-9),C17-2,0)))) -> 0 | AQ17: =IF(AND(D17>0,D17<10),11,IF(AND(D17>0,D17>9),D17+2,IF(AND(D17<0,D17>-10),-11,IF(AND(D17<0,D17<-9),D17-2,0)))) -> 0 | AR17: =IF(AND(E17>0,E17<10),11,IF(AND(E17>0,E17>9),E17+2,IF(AND(E17<0,E17>-10),-11,IF(AND(E17<0,E17<-9),E17-2,0)))) -> 0 | AS17: =-A17 -> 0 | AT17: =-B17 -> 0 | AU17: =-C17 -> 0 | AV17: =-D17 -> 0 | AW17: =-E17 -> 0 | BH17: vainqueur | BI17: ='Coupes Nationales'!$D$2 | BJ17: =IFERROR(IF(L21=1,VLOOKUP(B6&B10,'LISTE JOUEURS'!$P:$U,6,0),VLOOKUP(N6&P11,'LISTE JOUEURS'!$P:$U,6,0)),0) -> 0 | BK17: =+_xlfn.XLOOKUP(BJ17,'LISTE JOUEURS'!$U:$U,'LISTE JOUEURS'!$Q:$Q)&" "&_xlfn.XLOOKUP(BJ17,'LISTE JOUEURS'!$U:$U,'LISTE JOUEURS'!$R:$R) -> #N/A
F18: =C11 | L18: =IF(ISNUMBER(A18),IF(OR(COUNTIF(A18:E18,">=0")>3,COUNTIF(A18:E18,"<0")>3),"XXX",IF((COUNTIF(A18:E18,">=0")-COUNTIF(A18:E18,"<0"))<0,0,1)),IF(OR(RIGHT(F18,4)="W.O.",A18=-88,A18=-99),0,IF(OR(RIGHT(O18,4)="W.O.",A18=99,A18=88),1,""))) | M18: B - Y | N18: =IF(AND(ISNUMBER(A18),ISNUMBER(L18)),1-L18,IF(O18="Forfait W.O.",0,IF(F18="Forfait W.O.",1,""))) | O18: =+Q11 | U18: =IF(OR(COUNTIF(A18:E18,">=0")>3,COUNTIF(A18:E18,"<0")>3),"Sets mal notés. Refaire la saisie svp",IF(ABS(A18)=99,"Abandon avant le début de la partie",IF(ABS(A18)=88,"Abandon en cours de partie"," "))) | AC18: NOM | AD18: PRENOM | AE18: Code | AF18: Licence ? | AI18: =IF(A18>0,1,IF(A18<0,-1,0)) -> 0 | AJ18: =IF(B18>0,1,IF(B18<0,-1,0)) -> 0 | AK18: =IF(C18>0,1,IF(C18<0,-1,0)) -> 0 | AL18: =IF(D18>0,1,IF(D18<0,-1,0)) -> 0 | AM18: =IF(E18>0,1,IF(E18<0,-1,0)) -> 0 | AN18: =IF(AND(A18>0,A18<10),11,IF(AND(A18>0,A18>9),A18+2,IF(AND(A18<0,A18>-10),-11,IF(AND(A18<0,A18<-9),A18-2,0)))) -> 0 | AO18: =IF(AND(B18>0,B18<10),11,IF(AND(B18>0,B18>9),B18+2,IF(AND(B18<0,B18>-10),-11,IF(AND(B18<0,B18<-9),B18-2,0)))) -> 0 | AP18: =IF(AND(C18>0,C18<10),11,IF(AND(C18>0,C18>9),C18+2,IF(AND(C18<0,C18>-10),-11,IF(AND(C18<0,C18<-9),C18-2,0)))) -> 0 | AQ18: =IF(AND(D18>0,D18<10),11,IF(AND(D18>0,D18>9),D18+2,IF(AND(D18<0,D18>-10),-11,IF(AND(D18<0,D18<-9),D18-2,0)))) -> 0 | AR18: =IF(AND(E18>0,E18<10),11,IF(AND(E18>0,E18>9),E18+2,IF(AND(E18<0,E18>-10),-11,IF(AND(E18<0,E18<-9),E18-2,0)))) -> 0 | AS18: =-A18 -> 0 | AT18: =-B18 -> 0 | AU18: =-C18 -> 0 | AV18: =-D18 -> 0 | AW18: =-E18 -> 0 | BH18: perdant | BI18: ='Coupes Nationales'!$D$2 | BJ18: =IFERROR(IF(L21=0,VLOOKUP(B6&B10,'LISTE JOUEURS'!$P:$U,6,0),VLOOKUP(N6&P11,'LISTE JOUEURS'!$P:$U,6,0)),0) -> 0 | BK18: =+_xlfn.XLOOKUP(BJ18,'LISTE JOUEURS'!$U:$U,'LISTE JOUEURS'!$Q:$Q)&" "&_xlfn.XLOOKUP(BJ18,'LISTE JOUEURS'!$U:$U,'LISTE JOUEURS'!$R:$R) -> #N/A
F19: =IF(OR(B12="",B13=""),"",IF(OR(F17="Forfait W.O.",F18="Forfait W.O."),B6&" "&F6&" W.O.",VLOOKUP($B$6&$B12,'LISTE JOUEURS'!$P:$S,2,0)&" et "&VLOOKUP($B$6&$B13,'LISTE JOUEURS'!$P:$S,2,0))) | L19: =IF(ISNUMBER(A19),IF(OR(COUNTIF(A19:E19,">=0")>3,COUNTIF(A19:E19,"<0")>3),"XXX",IF((COUNTIF(A19:E19,">=0")-COUNTIF(A19:E19,"<0"))<0,0,1)),IF(OR(RIGHT(F19,4)="W.O.",A19=-88,A19=-99),0,IF(OR(RIGHT(O19,4)="W.O.",A19=99,A19=88),1,""))) | M19: Double | N19: =IF(AND(ISNUMBER(A19),ISNUMBER(L19)),1-L19,IF(O19="Forfait W.O.",0,IF(F19="Forfait W.O.",1,""))) | O19: =IF(OR(P12="",P13=""),"",IF(OR(O17="Forfait W.O.",O18="Forfait W.O."),N6&" "&R6&" W.O.",VLOOKUP($N$6&$P12,'LISTE JOUEURS'!$P:$S,2,0)&" et "&VLOOKUP($N$6&$P13,'LISTE JOUEURS'!$P:$S,2,0))) | U19: =IF(OR(COUNTIF(A19:E19,">=0")>3,COUNTIF(A19:E19,"<0")>3),"Sets mal notés. Refaire la saisie svp",IF(ABS(A19)=99,"Abandon avant le début de la partie",IF(ABS(A19)=88,"Abandon en cours de partie"," "))) | AI19: =IF(A19>0,1,IF(A19<0,-1,0)) -> 0 | AJ19: =IF(B19>0,1,IF(B19<0,-1,0)) -> 0 | AK19: =IF(C19>0,1,IF(C19<0,-1,0)) -> 0 | AL19: =IF(D19>0,1,IF(D19<0,-1,0)) -> 0 | AM19: =IF(E19>0,1,IF(E19<0,-1,0)) -> 0 | AN19: =IF(AND(A19>0,A19<10),11,IF(AND(A19>0,A19>9),A19+2,IF(AND(A19<0,A19>-10),-11,IF(AND(A19<0,A19<-9),A19-2,0)))) -> 0 | AO19: =IF(AND(B19>0,B19<10),11,IF(AND(B19>0,B19>9),B19+2,IF(AND(B19<0,B19>-10),-11,IF(AND(B19<0,B19<-9),B19-2,0)))) -> 0 | AP19: =IF(AND(C19>0,C19<10),11,IF(AND(C19>0,C19>9),C19+2,IF(AND(C19<0,C19>-10),-11,IF(AND(C19<0,C19<-9),C19-2,0)))) -> 0 | AQ19: =IF(AND(D19>0,D19<10),11,IF(AND(D19>0,D19>9),D19+2,IF(AND(D19<0,D19>-10),-11,IF(AND(D19<0,D19<-9),D19-2,0)))) -> 0 | AR19: =IF(AND(E19>0,E19<10),11,IF(AND(E19>0,E19>9),E19+2,IF(AND(E19<0,E19>-10),-11,IF(AND(E19<0,E19<-9),E19-2,0)))) -> 0 | AS19: =-A19 -> 0 | AT19: =-B19 -> 0 | AU19: =-C19 -> 0 | AV19: =-D19 -> 0 | AW19: =-E19 -> 0
F20: =C11 | L20: =IF(ISNUMBER(A20),IF(OR(COUNTIF(A20:E20,">=0")>3,COUNTIF(A20:E20,"<0")>3),"XXX",IF((COUNTIF(A20:E20,">=0")-COUNTIF(A20:E20,"<0"))<0,0,1)),IF(OR(RIGHT(F20,4)="W.O.",A20=-88,A20=-99),0,IF(OR(RIGHT(O20,4)="W.O.",A20=99,A20=88),1,""))) | M20: B - X | N20: =IF(AND(ISNUMBER(A20),ISNUMBER(L20)),1-L20,IF(O20="Forfait W.O.",0,IF(F20="Forfait W.O.",1,""))) | O20: =Q10 | U20: =IF(OR(COUNTIF(A20:E20,">=0")>3,COUNTIF(A20:E20,"<0")>3),"Sets mal notés. Refaire la saisie svp",IF(ABS(A20)=99,"Abandon avant le début de la partie",IF(ABS(A20)=88,"Abandon en cours de partie"," "))) | AI20: =IF(A20>0,1,IF(A20<0,-1,0)) -> 0 | AJ20: =IF(B20>0,1,IF(B20<0,-1,0)) -> 0 | AK20: =IF(C20>0,1,IF(C20<0,-1,0)) -> 0 | AL20: =IF(D20>0,1,IF(D20<0,-1,0)) -> 0 | AM20: =IF(E20>0,1,IF(E20<0,-1,0)) -> 0 | AN20: =IF(AND(A20>0,A20<10),11,IF(AND(A20>0,A20>9),A20+2,IF(AND(A20<0,A20>-10),-11,IF(AND(A20<0,A20<-9),A20-2,0)))) -> 0 | AO20: =IF(AND(B20>0,B20<10),11,IF(AND(B20>0,B20>9),B20+2,IF(AND(B20<0,B20>-10),-11,IF(AND(B20<0,B20<-9),B20-2,0)))) -> 0 | AP20: =IF(AND(C20>0,C20<10),11,IF(AND(C20>0,C20>9),C20+2,IF(AND(C20<0,C20>-10),-11,IF(AND(C20<0,C20<-9),C20-2,0)))) -> 0 | AQ20: =IF(AND(D20>0,D20<10),11,IF(AND(D20>0,D20>9),D20+2,IF(AND(D20<0,D20>-10),-11,IF(AND(D20<0,D20<-9),D20-2,0)))) -> 0 | AR20: =IF(AND(E20>0,E20<10),11,IF(AND(E20>0,E20>9),E20+2,IF(AND(E20<0,E20>-10),-11,IF(AND(E20<0,E20<-9),E20-2,0)))) -> 0 | AS20: =-A20 -> 0 | AT20: =-B20 -> 0 | AU20: =-C20 -> 0 | AV20: =-D20 -> 0 | AW20: =-E20 -> 0
F21: =C10 | L21: =IF(ISNUMBER(A21),IF(OR(COUNTIF(A21:E21,">=0")>3,COUNTIF(A21:E21,"<0")>3),"XXX",IF((COUNTIF(A21:E21,">=0")-COUNTIF(A21:E21,"<0"))<0,0,1)),IF(OR(RIGHT(F21,4)="W.O.",A21=-88,A21=-99),0,IF(OR(RIGHT(O21,4)="W.O.",A21=99,A21=88),1,""))) | M21: A - Y | N21: =IF(AND(ISNUMBER(A21),ISNUMBER(L21)),1-L21,IF(O21="Forfait W.O.",0,IF(F21="Forfait W.O.",1,""))) | O21: =Q11 | U21: =IF(OR(COUNTIF(A21:E21,">=0")>3,COUNTIF(A21:E21,"<0")>3),"Sets mal notés. Refaire la saisie svp",IF(ABS(A21)=99,"Abandon avant le début de la partie",IF(ABS(A21)=88,"Abandon en cours de partie"," "))) | AI21: =IF(A21>0,1,IF(A21<0,-1,0)) -> 0 | AJ21: =IF(B21>0,1,IF(B21<0,-1,0)) -> 0 | AK21: =IF(C21>0,1,IF(C21<0,-1,0)) -> 0 | AL21: =IF(D21>0,1,IF(D21<0,-1,0)) -> 0 | AM21: =IF(E21>0,1,IF(E21<0,-1,0)) -> 0 | AN21: =IF(AND(A21>0,A21<10),11,IF(AND(A21>0,A21>9),A21+2,IF(AND(A21<0,A21>-10),-11,IF(AND(A21<0,A21<-9),A21-2,0)))) -> 0 | AO21: =IF(AND(B21>0,B21<10),11,IF(AND(B21>0,B21>9),B21+2,IF(AND(B21<0,B21>-10),-11,IF(AND(B21<0,B21<-9),B21-2,0)))) -> 0 | AP21: =IF(AND(C21>0,C21<10),11,IF(AND(C21>0,C21>9),C21+2,IF(AND(C21<0,C21>-10),-11,IF(AND(C21<0,C21<-9),C21-2,0)))) -> 0 | AQ21: =IF(AND(D21>0,D21<10),11,IF(AND(D21>0,D21>9),D21+2,IF(AND(D21<0,D21>-10),-11,IF(AND(D21<0,D21<-9),D21-2,0)))) -> 0 | AR21: =IF(AND(E21>0,E21<10),11,IF(AND(E21>0,E21>9),E21+2,IF(AND(E21<0,E21>-10),-11,IF(AND(E21<0,E21<-9),E21-2,0)))) -> 0 | AS21: =-A21 -> 0 | AT21: =-B21 -> 0 | AU21: =-C21 -> 0 | AV21: =-D21 -> 0 | AW21: =-E21 -> 0 | BE21: Division | BF21: SuperDiv | BH21: BUSSY
BF22: Div 1 | BH22: CHAINTREAUX
I23: Total points | L23: =SUM(L17:L21) -> 0 | N23: =SUM(N17:N21) -> 0 | BF23: Div 2 | BH23: CHAMBRY
BF24: Div 3 | BH24: COULOMMIERS
BH25: COURTOMER
BH26: FAVIERES
A27: RESULTAT | BH27: FERRIERES
A28: =IF((L23 )>(N23),B6&" "&F6,IF((L23)=(N23),B6&" "&F6,N6&" "&R6)) | E28: =IF(A29=H29,"à égalité avec ","BAT") -> à égalité avec | H28: =IF((L23)<(N23),B6&" "&F6,IF((L23)=(N23),N6&" "&R6,N6&" "&R6)) | J28: ="Cap. "&O16 -> Cap. | S28: Juge Arbitre | BE28: Numero | BF28: 1 | BH28: JOUY SUR MORIN
A29: =IF((L23)>(N23),(L23)&" points",(N23)&" points") -> 0 points | H29: =IF((L23 )>(N23),(N23)&" points",(L23)&" points") -> 0 points | BF29: 2 | BH29: MAROLLES
A30: =VLOOKUP(A28,$AJ$33:$AL$34,2,0)&" Sets à "&VLOOKUP(H28,$AJ$33:$AL$34,2,0) -> 0 Sets à 0 | J30: ="Cap. "&F16 -> Cap. | BF30: 3 | BH30: MELUN
A31: =ROUND(VLOOKUP(A28,$AJ$33:$AL$34,3,0),0)&" points à "&ROUND(VLOOKUP(H28,$AJ$33:$AL$34,3,0),0) -> 0 points à 0 | BF31: 4 | BH31: MONTHYON
BF32: 5 | BH32: MOUSSY
A33: IMPORTANT : Envoyer la feuille de match au responsable des Coupes Nationales: Alain GUILLOMET 06 71 86 04 86 | O33: alain.guillomet@orange.fr | AJ33: =B6&" "&F6 | AK33: =COUNTIF(AI17:AM21,1) -> 0 | AL33: =SUMIF(AN17:AW21,">0",AN17:AW21) -> 0 | BF33: 6 | BH33: NANTOUILLET
A34: Mettre en copie le Club visiteur : | F34: =IFERROR(VLOOKUP(N6,'LISTING CLUB'!A:C,3,0),"") | K34: SAUVER FICHIER SOUS | O34: ="CN-J"&IFERROR(VLOOKUP(R3,BG4:BG10,3,0),"")&"-"&G3&"-"&F16&"-"&O16 -> CN-J-- - | AJ34: =N6&" "&R6 | AK34: =COUNTIF(AI17:AM21,-1) -> 0 | AL34: =-SUMIF(AN17:AW21,"<0",AN17:AW21) -> 0 | BH34: NOISIEL
A35: RESERVES (à faire avant la rencontre par le capitaine réclamant en présence du capitaine adverse) | BE35: Poule | BF35: Nord | BH35: PONTHIERRY
BF36: Sud | BH36: PROVINS
BF37: Unique | BH37: QUINCY
BH38: ROZAY
BA39: RECEVEUSE | BB39: =C10 | BE39: Coupes Messieurs | BH39: VENEUX
BA40: RECEVEUSE | BB40: =C11 | BE40: Coupes Dames | BH40: VILLEMER
BA41: EXTERIEUR | BB41: =+Q10 | BE41: Coupes Jeunes | BH41: VOISENON
BA42: EXTERIEUR | BB42: =+Q11 | BH42: VULAINES
BH43: Coudray-Montceaux TT
BH44: La Ville du Bois
BH45: Breuillet
BH46: Milly Maisse
A47: RECLAMATIONS (à faire par le réclamant au cours de la rencontre ou après celle-ci)
A59: REGLEMENT
A60: - Le juge arbitre est désigné, en commun accord par les capitaines. En cas de litige, c'est le capitaine visiteur qui remplit cette fonction.
A61: - Avant la rencontre, l'attribution des lettres est faite par tirage au sort.
A62: - Chaque capitaine désigne ensuite la composition de son équipe, avec présentation obligatoire des licences.
