Workbook
Name Club: 'EQUIPE A 3'!$BF$5:$BF$26
Name JourneeCD: 'Jour Match'!$B$35:$C$40
Name JourneeCN: 'Jour Match'!$B$41:$C$47
Name JourneeE4: 'Jour Match'!$B$14:$C$25
Name JourneeE6: 'Jour Match'!$B$1:$C$13
Name JourneeEJ: 'Jour Match'!#REF!
Name JourneeEJ: 'Jour Match'!$B$26:$C$34
Name Listing: 'LISTE JOUEURS'!$A$2:$G$713

Sheet EQUIPE A 3
A1: Championnat départemental par équipes de TROIS (3) SEINE et MARNE - Saison 2025 - 2026 | CA1: Résultat | CB1: 3J | CC1: =R3 -> 0 | CD1: =+D2 | CE1: =IF(ISBLANK(D3),D2,D3) | CF1: =I3 -> 0 | CG1: =N3 -> 0 | CH1: =B6&" "&F6 | CI1: contre | CJ1: =N6&" "&R6 | CL1: =L26 -> 0 | CM1: =N26 -> 0 | CO1: =AK27 -> 0 | CP1: =AK28 -> 0 | CR1: =AL27 -> 0 | CS1: =ROUND(AL28,0) -> 0
A2: Date prévue | D2: =IFERROR(VLOOKUP(R3,JourneeE6,2,FALSE),"") | AC2: NOTICE : Important toujours utiliser une feuille de match originale
A3: Date réelle : | G3: DIVISION | M3: Poule | P3: Journée | AC3: Selectionner la journée, la division et la poule et la date rélle si différente de la date prévue officiellement | AY3: V/D | AZ3: Date | BA3: Code joueur | BI3: EXTERIEUR | BJ3: =Q9
AC4: Sélectionner les équipes et et numeros | AY4: vainqueur | AZ4: ='EQUIPE A 3'!$D$2 | BA4: =IFERROR(IF('EQUIPE A 3'!L16=1,VLOOKUP('EQUIPE A 3'!B6&'EQUIPE A 3'!B9,'LISTE JOUEURS'!$P:$U,6,0),VLOOKUP('EQUIPE A 3'!N6&'EQUIPE A 3'!P9,'LISTE JOUEURS'!$P:$U,6,0)),0) -> 0 | BB4: =+_xlfn.XLOOKUP(BA4,'LISTE JOUEURS'!$U:$U,'LISTE JOUEURS'!$Q:$Q)&" "&_xlfn.XLOOKUP(BA4,'LISTE JOUEURS'!$U:$U,'LISTE JOUEURS'!$R:$R) -> #N/A | BI4: EXTERIEUR | BJ4: =Q10
B5: Equipe receveuse | N5: Equipe visiteuse | AC5: Saisir les codes de chaque joueur, utiliser la liste ci-dessous apres avoir selectionne le club | AY5: perdant | AZ5: ='EQUIPE A 3'!$D$2 | BA5: =IFERROR(IF('EQUIPE A 3'!L16=0,VLOOKUP('EQUIPE A 3'!B6&'EQUIPE A 3'!B9,'LISTE JOUEURS'!$P:$U,6,0),VLOOKUP('EQUIPE A 3'!N6&'EQUIPE A 3'!P9,'LISTE JOUEURS'!$P:$U,6,0)),0) -> 0 | BB5: =+_xlfn.XLOOKUP(BA5,'LISTE JOUEURS'!$U:$U,'LISTE JOUEURS'!$Q:$Q)&" "&_xlfn.XLOOKUP(BA5,'LISTE JOUEURS'!$U:$U,'LISTE JOUEURS'!$R:$R) -> #N/A | BF5: BUSSY | BI5: EXTERIEUR | BJ5: =Q11
W6: =+'Coupes départementales'!W6 -> Mise à jour du 24 Novembre 2025 | AC6: Si joueur inconnu ne pas mettre de code et saisir Nom prenom directement | AY6: vainqueur | AZ6: ='EQUIPE A 3'!$D$2 | BA6: =IFERROR(IF('EQUIPE A 3'!L17=1,VLOOKUP('EQUIPE A 3'!B6&'EQUIPE A 3'!B10,'LISTE JOUEURS'!$P:$U,6,0),VLOOKUP('EQUIPE A 3'!N6&'EQUIPE A 3'!P10,'LISTE JOUEURS'!$P:$U,6,0)),0) -> 0 | BB6: =+_xlfn.XLOOKUP(BA6,'LISTE JOUEURS'!$U:$U,'LISTE JOUEURS'!$Q:$Q)&" "&_xlfn.XLOOKUP(BA6,'LISTE JOUEURS'!$U:$U,'LISTE JOUEURS'!$R:$R) -> #N/A | BF6: CHAINTREAUX | BI6: RECEVEUSE | BJ6: =C9
AC7: Indiquer un score positif si c'est le joueur à domicile qui gagne le set et un score négatif si le joueur extérieur gagne le set. | AY7: perdant | AZ7: ='EQUIPE A 3'!$D$2 | BA7: =IFERROR(IF('EQUIPE A 3'!L17=0,VLOOKUP('EQUIPE A 3'!B6&'EQUIPE A 3'!B10,'LISTE JOUEURS'!$P:$U,6,0),VLOOKUP('EQUIPE A 3'!N6&'EQUIPE A 3'!P10,'LISTE JOUEURS'!$P:$U,6,0)),0) -> 0 | BB7: =+_xlfn.XLOOKUP(BA7,'LISTE JOUEURS'!$U:$U,'LISTE JOUEURS'!$Q:$Q)&" "&_xlfn.XLOOKUP(BA7,'LISTE JOUEURS'!$U:$U,'LISTE JOUEURS'!$R:$R) -> #N/A | BF7: CHAMBRY | BI7: RECEVEUSE | BJ7: =C10
C8: NOM - Prénom | I8: Clt. | J8: Licence | P8: Code | Q8: NOM - Prénom | X8: Clt. | Y8: Licence | AC8: Marquer 0,1 ou -0,1 lorsqu'un des joueurs gagne 11/0 en respectant le signe indiqué au dessus, 0 sera alors affiché | AY8: vainqueur | AZ8: ='EQUIPE A 3'!$D$2 | BA8: =IFERROR(IF('EQUIPE A 3'!L18=1,VLOOKUP('EQUIPE A 3'!B6&'EQUIPE A 3'!B11,'LISTE JOUEURS'!$P:$U,6,0),VLOOKUP('EQUIPE A 3'!N6&'EQUIPE A 3'!P11,'LISTE JOUEURS'!$P:$U,6,0)),0) -> 0 | BB8: =+_xlfn.XLOOKUP(BA8,'LISTE JOUEURS'!$U:$U,'LISTE JOUEURS'!$Q:$Q)&" "&_xlfn.XLOOKUP(BA8,'LISTE JOUEURS'!$U:$U,'LISTE JOUEURS'!$R:$R) -> #N/A | BF8: COULOMMIERS | BI8: RECEVEUSE | BJ8: =C11
A9: A | C9: =IF(B9="","",IFERROR(VLOOKUP($B$6&$B9,'LISTE JOUEURS'!$P:$S,2,0),"")) &" "& IF(B9="","",IFERROR(VLOOKUP($B$6&$B9,'LISTE JOUEURS'!$P:$S,3,0),"")) | I9: =IF(B9="","",IFERROR(VLOOKUP($B$6&$B9,'LISTE JOUEURS'!$P:$S,4,0),500)) | J9: =IF(B9="","",IFERROR(VLOOKUP($B$6&$B9,'LISTE JOUEURS'!$P:$T,5,0),"")) | O9: X | Q9: =IF(P9="","",IFERROR(VLOOKUP($N$6&$P9,'LISTE JOUEURS'!$P:$S,2,0),""))& " "&IF(P9="","",IFERROR(VLOOKUP($N$6&$P9,'LISTE JOUEURS'!$P:$S,3,0),"")) | X9: =IF(P9="","",IFERROR(VLOOKUP($N$6&$P9,'LISTE JOUEURS'!$P:$S,4,0),500)) | Y9: =IF(P9="","",IFERROR(VLOOKUP($N$6&$P9,'LISTE JOUEURS'!$P:$T,5,0),"")) | AC9: Si joueur forfait saisir 0 (zéro) pour code, pas de score à sasir, le tableau se remplira automatiqement | AY9: perdant | AZ9: ='EQUIPE A 3'!$D$2 | BA9: =IFERROR(IF('EQUIPE A 3'!L18=0,VLOOKUP('EQUIPE A 3'!B6&'EQUIPE A 3'!B11,'LISTE JOUEURS'!$P:$U,6,0),VLOOKUP('EQUIPE A 3'!N6&'EQUIPE A 3'!P11,'LISTE JOUEURS'!$P:$U,6,0)),0) -> 0 | BB9: =+_xlfn.XLOOKUP(BA9,'LISTE JOUEURS'!$U:$U,'LISTE JOUEURS'!$Q:$Q)&" "&_xlfn.XLOOKUP(BA9,'LISTE JOUEURS'!$U:$U,'LISTE JOUEURS'!$R:$R) -> #N/A | BF9: COURTOMER
A10: B | C10: =IF(B10="","",IFERROR(VLOOKUP($B$6&$B10,'LISTE JOUEURS'!$P:$S,2,0),"")) &" "& IF(B10="","",IFERROR(VLOOKUP($B$6&$B10,'LISTE JOUEURS'!$P:$S,3,0),"")) | I10: =IF(B10="","",IFERROR(VLOOKUP($B$6&$B10,'LISTE JOUEURS'!$P:$S,4,0),500)) | J10: =IF(B10="","",IFERROR(VLOOKUP($B$6&$B10,'LISTE JOUEURS'!$P:$T,5,0),"")) | O10: Y | Q10: =IF(P10="","",IFERROR(VLOOKUP($N$6&$P10,'LISTE JOUEURS'!$P:$S,2,0),""))& " "&IF(P10="","",IFERROR(VLOOKUP($N$6&$P10,'LISTE JOUEURS'!$P:$S,3,0),"")) | X10: =IF(P10="","",IFERROR(VLOOKUP($N$6&$P10,'LISTE JOUEURS'!$P:$S,4,0),500)) | Y10: =IF(P10="","",IFERROR(VLOOKUP($N$6&$P10,'LISTE JOUEURS'!$P:$T,5,0),"")) | AC10: Si abandon d'un joueur avant de commencer la partie saisir 99 (ou -99) dans la case du premier set uniquement et pour tous ses matches suivants | AY10: vainqueur | AZ10: ='EQUIPE A 3'!$D$2 | BA10: =IFERROR(IF('EQUIPE A 3'!L20=1,VLOOKUP('EQUIPE A 3'!B6&'EQUIPE A 3'!B10,'LISTE JOUEURS'!$P:$U,6,0),VLOOKUP('EQUIPE A 3'!N6&'EQUIPE A 3'!P9,'LISTE JOUEURS'!$P:$U,6,0)),0) -> 0 | BB10: =+_xlfn.XLOOKUP(BA10,'LISTE JOUEURS'!$U:$U,'LISTE JOUEURS'!$Q:$Q)&" "&_xlfn.XLOOKUP(BA10,'LISTE JOUEURS'!$U:$U,'LISTE JOUEURS'!$R:$R) -> #N/A | BF10: FAVIERES
A11: C | C11: =IF(B11="","",IFERROR(VLOOKUP($B$6&$B11,'LISTE JOUEURS'!$P:$S,2,0),"")) &" "& IF(B11="","",IFERROR(VLOOKUP($B$6&$B11,'LISTE JOUEURS'!$P:$S,3,0),"")) | I11: =IF(B11="","",IFERROR(VLOOKUP($B$6&$B11,'LISTE JOUEURS'!$P:$S,4,0),500)) | J11: =IF(B11="","",IFERROR(VLOOKUP($B$6&$B11,'LISTE JOUEURS'!$P:$T,5,0),"")) | O11: Z | Q11: =IF(P11="","",IFERROR(VLOOKUP($N$6&$P11,'LISTE JOUEURS'!$P:$S,2,0),""))& " "&IF(P11="","",IFERROR(VLOOKUP($N$6&$P11,'LISTE JOUEURS'!$P:$S,3,0),"")) | X11: =IF(P11="","",IFERROR(VLOOKUP($N$6&$P11,'LISTE JOUEURS'!$P:$S,4,0),500)) | Y11: =IF(P11="","",IFERROR(VLOOKUP($N$6&$P11,'LISTE JOUEURS'!$P:$T,5,0),"")) | AC11: Si abandon d'un joueur en cours de partie mettre 88 (ou -88) dans la case du premer set uniquement et pour tous ses matches suivants. | AY11: perdant | AZ11: ='EQUIPE A 3'!$D$2 | BA11: =IFERROR(IF('EQUIPE A 3'!L20=0,VLOOKUP('EQUIPE A 3'!B6&'EQUIPE A 3'!B10,'LISTE JOUEURS'!$P:$U,6,0),VLOOKUP('EQUIPE A 3'!N6&'EQUIPE A 3'!P9,'LISTE JOUEURS'!$P:$U,6,0)),0) -> 0 | BB11: =+_xlfn.XLOOKUP(BA11,'LISTE JOUEURS'!$U:$U,'LISTE JOUEURS'!$Q:$Q)&" "&_xlfn.XLOOKUP(BA11,'LISTE JOUEURS'!$U:$U,'LISTE JOUEURS'!$R:$R) -> #N/A | BF11: FERRIERES
A12: Double | C12: =IF(B12="","",IFERROR(VLOOKUP($B$6&$B12,'LISTE JOUEURS'!$P:$S,2,0),"")) &" "& IF(B12="","",IFERROR(VLOOKUP($B$6&$B12,'LISTE JOUEURS'!$P:$S,3,0),"")) | I12: =IF(B12="","",IFERROR(VLOOKUP($B$6&$B12,'LISTE JOUEURS'!$P:$S,4,0),500)) | J12: =IF(B12="","",IFERROR(VLOOKUP($B$6&$B12,'LISTE JOUEURS'!$P:$T,5,0),"")) | O12: Double | Q12: =IF(P12="","",IFERROR(VLOOKUP($N$6&$P12,'LISTE JOUEURS'!$P:$S,2,0),""))& " "&IF(P12="","",IFERROR(VLOOKUP($N$6&$P12,'LISTE JOUEURS'!$P:$S,3,0),"")) | X12: =IF(P12="","",IFERROR(VLOOKUP($N$6&$P12,'LISTE JOUEURS'!$P:$S,4,0),500)) | Y12: =IF(P12="","",IFERROR(VLOOKUP($N$6&$P12,'LISTE JOUEURS'!$P:$T,5,0),"")) | AC12: Un joueur déclarant forfait l'est également pour les matches suivants de la rencontre | AY12: vainqueur | AZ12: ='EQUIPE A 3'!$D$2 | BA12: =IFERROR(IF('EQUIPE A 3'!L21=1,VLOOKUP('EQUIPE A 3'!B6&'EQUIPE A 3'!B9,'LISTE JOUEURS'!$P:$U,6,0),VLOOKUP('EQUIPE A 3'!N6&'EQUIPE A 3'!P11,'LISTE JOUEURS'!$P:$U,6,0)),0) -> 0 | BB12: =+_xlfn.XLOOKUP(BA12,'LISTE JOUEURS'!$U:$U,'LISTE JOUEURS'!$Q:$Q)&" "&_xlfn.XLOOKUP(BA12,'LISTE JOUEURS'!$U:$U,'LISTE JOUEURS'!$R:$R) -> #N/A | BF12: JOUY SUR MORIN
C13: =IF(B13="","",IFERROR(VLOOKUP($B$6&$B13,'LISTE JOUEURS'!$P:$S,2,0),"")) &" "& IF(B13="","",IFERROR(VLOOKUP($B$6&$B13,'LISTE JOUEURS'!$P:$S,3,0),"")) | I13: =IF(B13="","",IFERROR(VLOOKUP($B$6&$B13,'LISTE JOUEURS'!$P:$S,4,0),500)) | J13: =IF(B13="","",IFERROR(VLOOKUP($B$6&$B13,'LISTE JOUEURS'!$P:$T,5,0),"")) | Q13: =IF(P13="","",IFERROR(VLOOKUP($N$6&$P13,'LISTE JOUEURS'!$P:$S,2,0),""))& " "&IF(P13="","",IFERROR(VLOOKUP($N$6&$P13,'LISTE JOUEURS'!$P:$S,3,0),"")) | X13: =IF(P13="","",IFERROR(VLOOKUP($N$6&$P13,'LISTE JOUEURS'!$P:$S,4,0),500)) | Y13: =IF(P13="","",IFERROR(VLOOKUP($N$6&$P13,'LISTE JOUEURS'!$P:$T,5,0),"")) | AC13: Sur les feuilles d'arbitrage fournies à titre indicatif les noms des joueurs sont ajoutés automatiquement | AY13: perdant | AZ13: ='EQUIPE A 3'!$D$2 | BA13: =IFERROR(IF('EQUIPE A 3'!L21=0,VLOOKUP('EQUIPE A 3'!B6&'EQUIPE A 3'!B9,'LISTE JOUEURS'!$P:$U,6,0),VLOOKUP('EQUIPE A 3'!N6&'EQUIPE A 3'!P11,'LISTE JOUEURS'!$P:$U,6,0)),0) -> 0 | BB13: =+_xlfn.XLOOKUP(BA13,'LISTE JOUEURS'!$U:$U,'LISTE JOUEURS'!$Q:$Q)&" "&_xlfn.XLOOKUP(BA13,'LISTE JOUEURS'!$U:$U,'LISTE JOUEURS'!$R:$R) -> #N/A | BF13: MAROLLES
A14: (victoire en simple 1 pt, en double 2 pt) | AC14: Envoyer sous format EXCEL la feuille de résultat | AY14: vainqueur | AZ14: ='EQUIPE A 3'!$D$2 | BA14: =IFERROR(IF('EQUIPE A 3'!L22=1,VLOOKUP('EQUIPE A 3'!B6&'EQUIPE A 3'!B11,'LISTE JOUEURS'!$P:$U,6,0),VLOOKUP('EQUIPE A 3'!N6&'EQUIPE A 3'!P10,'LISTE JOUEURS'!$P:$U,6,0)),0) -> 0 | BB14: =+_xlfn.XLOOKUP(BA14,'LISTE JOUEURS'!$U:$U,'LISTE JOUEURS'!$Q:$Q)&" "&_xlfn.XLOOKUP(BA14,'LISTE JOUEURS'!$U:$U,'LISTE JOUEURS'!$R:$R) -> #N/A | BF14: MELUN
A15: Set 1 | B15: Set 2 | C15: Set 3 | D15: Set 4 | E15: Set 5 | F15: =+B6&" "&F6 | L15: ABC | N15: XYZ | O15: =+N6& " "&R6 | U15: Remarque | AI15: SET1 | AJ15: SET2 | AK15: SET3 | AL15: SET4 | AM15: SET5 | AN15: SET1 | AO15: SET2 | AP15: SET3 | AQ15: SET4 | AR15: SET5 | AS15: SET1 | AT15: SET2 | AU15: SET3 | AV15: SET4 | AW15: SET5 | AY15: perdant | AZ15: ='EQUIPE A 3'!$D$2 | BA15: =IFERROR(IF('EQUIPE A 3'!L22=0,VLOOKUP('EQUIPE A 3'!B6&'EQUIPE A 3'!B11,'LISTE JOUEURS'!$P:$U,6,0),VLOOKUP('EQUIPE A 3'!N6&'EQUIPE A 3'!P10,'LISTE JOUEURS'!$P:$U,6,0)),0) -> 0 | BB15: =+_xlfn.XLOOKUP(BA15,'LISTE JOUEURS'!$U:$U,'LISTE JOUEURS'!$Q:$Q)&" "&_xlfn.XLOOKUP(BA15,'LISTE JOUEURS'!$U:$U,'LISTE JOUEURS'!$R:$R) -> #N/A | BF15: MONTHYON
F16: =C9 | L16: =IF(ISNUMBER(A16),IF(OR(COUNTIF(A16:E16,">=0")>3,COUNTIF(A16:E16,"<0")>3),"",IF((COUNTIF(A16:E16,">=0")-COUNTIF(A16:E16,"<0"))<0,0,1)),IF(OR(F16="Forfait W.O.",A16=-88,A16=-99),0,IF(OR(O16="Forfait W.O.",A16=99,A16=88),1,""))) | M16: A - X | N16: =IF(AND(ISNUMBER(A16),ISNUMBER(L16)),1-L16,IF(O16="Forfait W.O.",0,IF(F16="Forfait W.O.",1,""))) | O16: =Q9 | U16: =IF(OR(COUNTIF(A16:E16,">=0")>3,COUNTIF(A16:E16,"<0")>3),"Sets mal notés. Refaire la saisie svp",IF(ABS(A16)=99,"Abandon avant le début de la partie",IF(ABS(A16)=88,"Abandon en cours de partie"," "))) | AC16: CLUB | AD16: VENEUX | AI16: =IF(A16>0,1,IF(A16<0,-1,0)) -> 0 | AJ16: =IF(B16>0,1,IF(B16<0,-1,0)) -> 0 | AK16: =IF(C16>0,1,IF(C16<0,-1,0)) -> 0 | AL16: =IF(D16>0,1,IF(D16<0,-1,0)) -> 0 | AM16: =IF(E16>0,1,IF(E16<0,-1,0)) -> 0 | AN16: =IF(AND(A16>0,A16<10),11,IF(AND(A16>0,A16>9),A16+2,IF(AND(A16<0,A16>-10),-11,IF(AND(A16<0,A16<-9),A16-2,0)))) -> 0 | AO16: =IF(AND(B16>0,B16<10),11,IF(AND(B16>0,B16>9),B16+2,IF(AND(B16<0,B16>-10),-11,IF(AND(B16<0,B16<-9),B16-2,0)))) -> 0 | AP16: =IF(AND(C16>0,C16<10),11,IF(AND(C16>0,C16>9),C16+2,IF(AND(C16<0,C16>-10),-11,IF(AND(C16<0,C16<-9),C16-2,0)))) -> 0 | AQ16: =IF(AND(D16>0,D16<10),11,IF(AND(D16>0,D16>9),D16+2,IF(AND(D16<0,D16>-10),-11,IF(AND(D16<0,D16<-9),D16-2,0)))) -> 0 | AR16: =IF(AND(E16>0,E16<10),11,IF(AND(E16>0,E16>9),E16+2,IF(AND(E16<0,E16>-10),-11,IF(AND(E16<0,E16<-9),E16-2,0)))) -> 0 | AS16: =-A16 -> 0 | AT16: =-B16 -> 0 | AU16: =-C16 -> 0 | AV16: =-D16 -> 0 | AW16: =-E16 -> 0 | AY16: vainqueur | AZ16: ='EQUIPE A 3'!$D$2 | BA16: =IFERROR(IF('EQUIPE A 3'!L23=1,VLOOKUP('EQUIPE A 3'!B6&'EQUIPE A 3'!B10,'LISTE JOUEURS'!$P:$U,6,0),VLOOKUP('EQUIPE A 3'!N6&'EQUIPE A 3'!P11,'LISTE JOUEURS'!$P:$U,6,0)),0) -> 0 | BB16: =+_xlfn.XLOOKUP(BA16,'LISTE JOUEURS'!$U:$U,'LISTE JOUEURS'!$Q:$Q)&" "&_xlfn.XLOOKUP(BA16,'LISTE JOUEURS'!$U:$U,'LISTE JOUEURS'!$R:$R) -> #N/A | BF16: MOUSSY
F17: =C10 | L17: =IF(ISNUMBER(A17),IF(OR(COUNTIF(A17:E17,">=0")>3,COUNTIF(A17:E17,"<0")>3),"",IF((COUNTIF(A17:E17,">=0")-COUNTIF(A17:E17,"<0"))<0,0,1)),IF(OR(F17="Forfait W.O.",A17=-88,A17=-99),0,IF(OR(O17="Forfait W.O.",A17=99,A17=88),1,""))) | M17: B - Y | N17: =IF(AND(ISNUMBER(A17),ISNUMBER(L17)),1-L17,IF(O17="Forfait W.O.",0,IF(F17="Forfait W.O.",1,""))) | O17: =Q10 | U17: =IF(OR(COUNTIF(A17:E17,">=0")>3,COUNTIF(A17:E17,"<0")>3),"Sets mal notés. Refaire la saisie svp",IF(ABS(A17)=99,"Abandon avant le début de la partie",IF(ABS(A17)=88,"Abandon en cours de partie"," "))) | AI17: =IF(A17>0,1,IF(A17<0,-1,0)) -> 0 | AJ17: =IF(B17>0,1,IF(B17<0,-1,0)) -> 0 | AK17: =IF(C17>0,1,IF(C17<0,-1,0)) -> 0 | AL17: =IF(D17>0,1,IF(D17<0,-1,0)) -> 0 | AM17: =IF(E17>0,1,IF(E17<0,-1,0)) -> 0 | AN17: =IF(AND(A17>0,A17<10),11,IF(AND(A17>0,A17>9),A17+2,IF(AND(A17<0,A17>-10),-11,IF(AND(A17<0,A17<-9),A17-2,0)))) -> 0 | AO17: =IF(AND(B17>0,B17<10),11,IF(AND(B17>0,B17>9),B17+2,IF(AND(B17<0,B17>-10),-11,IF(AND(B17<0,B17<-9),B17-2,0)))) -> 0 | AP17: =IF(AND(C17>0,C17<10),11,IF(AND(C17>0,C17>9),C17+2,IF(AND(C17<0,C17>-10),-11,IF(AND(C17<0,C17<-9),C17-2,0)))) -> 0 | AQ17: =IF(AND(D17>0,D17<10),11,IF(AND(D17>0,D17>9),D17+2,IF(AND(D17<0,D17>-10),-11,IF(AND(D17<0,D17<-9),D17-2,0)))) -> 0 | AR17: =IF(AND(E17>0,E17<10),11,IF(AND(E17>0,E17>9),E17+2,IF(AND(E17<0,E17>-10),-11,IF(AND(E17<0,E17<-9),E17-2,0)))) -> 0 | AS17: =-A17 -> 0 | AT17: =-B17 -> 0 | AU17: =-C17 -> 0 | AV17: =-D17 -> 0 | AW17: =-E17 -> 0 | AY17: perdant | AZ17: ='EQUIPE A 3'!$D$2 | BA17: =IFERROR(IF('EQUIPE A 3'!L23=0,VLOOKUP('EQUIPE A 3'!B6&'EQUIPE A 3'!B10,'LISTE JOUEURS'!$P:$U,6,0),VLOOKUP('EQUIPE A 3'!N6&'EQUIPE A 3'!P11,'LISTE JOUEURS'!$P:$U,6,0)),0) -> 0 | BB17: =+_xlfn.XLOOKUP(BA17,'LISTE JOUEURS'!$U:$U,'LISTE JOUEURS'!$Q:$Q)&" "&_xlfn.XLOOKUP(BA17,'LISTE JOUEURS'!$U:$U,'LISTE JOUEURS'!$R:$R) -> #N/A | BF17: NANTOUILLET
F18: =C11 | L18: =IF(ISNUMBER(A18),IF(OR(COUNTIF(A18:E18,">=0")>3,COUNTIF(A18:E18,"<0")>3),"",IF((COUNTIF(A18:E18,">=0")-COUNTIF(A18:E18,"<0"))<0,0,1)),IF(OR(F18="Forfait W.O.",A18=-88,A18=-99),0,IF(OR(O18="Forfait W.O.",A18=99,A18=88),1,""))) | M18: C - Z | N18: =IF(AND(ISNUMBER(A18),ISNUMBER(L18)),1-L18,IF(O18="Forfait W.O.",0,IF(F18="Forfait W.O.",1,""))) | O18: =Q11 | U18: =IF(OR(COUNTIF(A18:E18,">=0")>3,COUNTIF(A18:E18,"<0")>3),"Sets mal notés. Refaire la saisie svp",IF(ABS(A18)=99,"Abandon avant le début de la partie",IF(ABS(A18)=88,"Abandon en cours de partie"," "))) | AC18: NOM | AD18: PRENOM | AE18: Code | AF18: Licence ? | AI18: =IF(A18>0,1,IF(A18<0,-1,0)) -> 0 | AJ18: =IF(B18>0,1,IF(B18<0,-1,0)) -> 0 | AK18: =IF(C18>0,1,IF(C18<0,-1,0)) -> 0 | AL18: =IF(D18>0,1,IF(D18<0,-1,0)) -> 0 | AM18: =IF(E18>0,1,IF(E18<0,-1,0)) -> 0 | AN18: =IF(AND(A18>0,A18<10),11,IF(AND(A18>0,A18>9),A18+2,IF(AND(A18<0,A18>-10),-11,IF(AND(A18<0,A18<-9),A18-2,0)))) -> 0 | AO18: =IF(AND(B18>0,B18<10),11,IF(AND(B18>0,B18>9),B18+2,IF(AND(B18<0,B18>-10),-11,IF(AND(B18<0,B18<-9),B18-2,0)))) -> 0 | AP18: =IF(AND(C18>0,C18<10),11,IF(AND(C18>0,C18>9),C18+2,IF(AND(C18<0,C18>-10),-11,IF(AND(C18<0,C18<-9),C18-2,0)))) -> 0 | AQ18: =IF(AND(D18>0,D18<10),11,IF(AND(D18>0,D18>9),D18+2,IF(AND(D18<0,D18>-10),-11,IF(AND(D18<0,D18<-9),D18-2,0)))) -> 0 | AR18: =IF(AND(E18>0,E18<10),11,IF(AND(E18>0,E18>9),E18+2,IF(AND(E18<0,E18>-10),-11,IF(AND(E18<0,E18<-9),E18-2,0)))) -> 0 | AS18: =-A18 -> 0 | AT18: =-B18 -> 0 | AU18: =-C18 -> 0 | AV18: =-D18 -> 0 | AW18: =-E18 -> 0 | AY18: vainqueur | AZ18: ='EQUIPE A 3'!$D$2 | BA18: =IFERROR(IF('EQUIPE A 3'!L24=1,VLOOKUP('EQUIPE A 3'!B6&'EQUIPE A 3'!B11,'LISTE JOUEURS'!$P:$U,6,0),VLOOKUP('EQUIPE A 3'!N6&'EQUIPE A 3'!P9,'LISTE JOUEURS'!$P:$U,6,0)),0) -> 0 | BB18: =+_xlfn.XLOOKUP(BA18,'LISTE JOUEURS'!$U:$U,'LISTE JOUEURS'!$Q:$Q)&" "&_xlfn.XLOOKUP(BA18,'LISTE JOUEURS'!$U:$U,'LISTE JOUEURS'!$R:$R) -> #N/A | BC18: Division | BD18: Excellence | BF18: PONTHIERRY
F19: =B6&" "&F6 | L19: =IF(ISNUMBER(A19),IF(OR(COUNTIF(A19:E19,">=0")>3,COUNTIF(A19:E19,"<0")>3),"XXX",IF((COUNTIF(A19:E19,">=0")-COUNTIF(A19:E19,"<0"))<0,0,IF($I$3="SuperDiv",8,2))),IF(OR(RIGHT(F19,4)="W.O.",A19=-88,A19=-99),0,IF(OR(RIGHT(O19,4)="W.O.",A19=99,A19=88),IF($I$3="SuperDiv",8,2),""))) | M19: DOUBLE | N19: =IF(AND(ISNUMBER(A19),ISNUMBER(L19)),IF($I$3="SuperDiv",2-L19,2-L19),IF(RIGHT(O19,4)="W.O.",0,IF(RIGHT(F19,4)="W.O.",IF($I$3="SuperDiv",8,2),""))) | O19: =N6&" "&R6 | AC19: AVRIL | AD19: Romain | AE19: 4 | AF19: Licence Nok | AI19: =IF(A19>0,1,IF(A19<0,-1,0)) -> 0 | AJ19: =IF(B19>0,1,IF(B19<0,-1,0)) -> 0 | AK19: =IF(C19>0,1,IF(C19<0,-1,0)) -> 0 | AL19: =IF(D19>0,1,IF(D19<0,-1,0)) -> 0 | AM19: =IF(E19>0,1,IF(E19<0,-1,0)) -> 0 | AN19: =IF(AND(A19>0,A19<10),11,IF(AND(A19>0,A19>9),A19+2,IF(AND(A19<0,A19>-10),-11,IF(AND(A19<0,A19<-9),A19-2,0)))) -> 0 | AO19: =IF(AND(B19>0,B19<10),11,IF(AND(B19>0,B19>9),B19+2,IF(AND(B19<0,B19>-10),-11,IF(AND(B19<0,B19<-9),B19-2,0)))) -> 0 | AP19: =IF(AND(C19>0,C19<10),11,IF(AND(C19>0,C19>9),C19+2,IF(AND(C19<0,C19>-10),-11,IF(AND(C19<0,C19<-9),C19-2,0)))) -> 0 | AQ19: =IF(AND(D19>0,D19<10),11,IF(AND(D19>0,D19>9),D19+2,IF(AND(D19<0,D19>-10),-11,IF(AND(D19<0,D19<-9),D19-2,0)))) -> 0 | AR19: =IF(AND(E19>0,E19<10),11,IF(AND(E19>0,E19>9),E19+2,IF(AND(E19<0,E19>-10),-11,IF(AND(E19<0,E19<-9),E19-2,0)))) -> 0 | AS19: =-A19 -> 0 | AT19: =-B19 -> 0 | AU19: =-C19 -> 0 | AV19: =-D19 -> 0 | AW19: =-E19 -> 0 | AY19: perdant | AZ19: ='EQUIPE A 3'!$D$2 | BA19: =IFERROR(IF('EQUIPE A 3'!L24=0,VLOOKUP('EQUIPE A 3'!B6&'EQUIPE A 3'!B11,'LISTE JOUEURS'!$P:$U,6,0),VLOOKUP('EQUIPE A 3'!N6&'EQUIPE A 3'!P9,'LISTE JOUEURS'!$P:$U,6,0)),0) -> 0 | BB19: =+_xlfn.XLOOKUP(BA19,'LISTE JOUEURS'!$U:$U,'LISTE JOUEURS'!$Q:$Q)&" "&_xlfn.XLOOKUP(BA19,'LISTE JOUEURS'!$U:$U,'LISTE JOUEURS'!$R:$R) -> #N/A | BD19: Honneur | BF19: PROVINS
F20: =C10 | L20: =IF(ISNUMBER(A20),IF(OR(COUNTIF(A20:E20,">=0")>3,COUNTIF(A20:E20,"<0")>3),"",IF((COUNTIF(A20:E20,">=0")-COUNTIF(A20:E20,"<0"))<0,0,1)),IF(OR(F20="Forfait W.O.",A20=-88,A20=-99),0,IF(OR(O20="Forfait W.O.",A20=99,A20=88),1,""))) | M20: B - X | N20: =IF(AND(ISNUMBER(A20),ISNUMBER(L20)),1-L20,IF(O20="Forfait W.O.",0,IF(F20="Forfait W.O.",1,""))) | O20: =Q9 | U20: =IF(OR(COUNTIF(A20:E20,">=0")>3,COUNTIF(A20:E20,"<0")>3),"Sets mal notés. Refaire la saisie svp",IF(ABS(A20)=99,"Abandon avant le début de la partie",IF(ABS(A20)=88,"Abandon en cours de partie"," "))) | AC20: AGNIER | AD20: Léo | AE20: 1 | AF20: Licence ok | AI20: =IF(A20>0,1,IF(A20<0,-1,0)) -> 0 | AJ20: =IF(B20>0,1,IF(B20<0,-1,0)) -> 0 | AK20: =IF(C20>0,1,IF(C20<0,-1,0)) -> 0 | AL20: =IF(D20>0,1,IF(D20<0,-1,0)) -> 0 | AM20: =IF(E20>0,1,IF(E20<0,-1,0)) -> 0 | AN20: =IF(AND(A20>0,A20<10),11,IF(AND(A20>0,A20>9),A20+2,IF(AND(A20<0,A20>-10),-11,IF(AND(A20<0,A20<-9),A20-2,0)))) -> 0 | AO20: =IF(AND(B20>0,B20<10),11,IF(AND(B20>0,B20>9),B20+2,IF(AND(B20<0,B20>-10),-11,IF(AND(B20<0,B20<-9),B20-2,0)))) -> 0 | AP20: =IF(AND(C20>0,C20<10),11,IF(AND(C20>0,C20>9),C20+2,IF(AND(C20<0,C20>-10),-11,IF(AND(C20<0,C20<-9),C20-2,0)))) -> 0 | AQ20: =IF(AND(D20>0,D20<10),11,IF(AND(D20>0,D20>9),D20+2,IF(AND(D20<0,D20>-10),-11,IF(AND(D20<0,D20<-9),D20-2,0)))) -> 0 | AR20: =IF(AND(E20>0,E20<10),11,IF(AND(E20>0,E20>9),E20+2,IF(AND(E20<0,E20>-10),-11,IF(AND(E20<0,E20<-9),E20-2,0)))) -> 0 | AS20: =-A20 -> 0 | AT20: =-B20 -> 0 | AU20: =-C20 -> 0 | AV20: =-D20 -> 0 | AW20: =-E20 -> 0 | AY20: vainqueur | AZ20: ='EQUIPE A 3'!$D$2 | BA20: =IFERROR(IF('EQUIPE A 3'!L25=1,VLOOKUP('EQUIPE A 3'!B6&'EQUIPE A 3'!B9,'LISTE JOUEURS'!$P:$U,6,0),VLOOKUP('EQUIPE A 3'!N6&'EQUIPE A 3'!P10,'LISTE JOUEURS'!$P:$U,6,0)),0) -> 0 | BB20: =+_xlfn.XLOOKUP(BA20,'LISTE JOUEURS'!$U:$U,'LISTE JOUEURS'!$Q:$Q)&" "&_xlfn.XLOOKUP(BA20,'LISTE JOUEURS'!$U:$U,'LISTE JOUEURS'!$R:$R) -> #N/A | BD20: Promotion Honneur | BF20: QUINCY
F21: =C9 | L21: =IF(ISNUMBER(A21),IF(OR(COUNTIF(A21:E21,">=0")>3,COUNTIF(A21:E21,"<0")>3),"",IF((COUNTIF(A21:E21,">=0")-COUNTIF(A21:E21,"<0"))<0,0,1)),IF(OR(F21="Forfait W.O.",A21=-88,A21=-99),0,IF(OR(O21="Forfait W.O.",A21=99,A21=88),1,""))) | M21: A -Z | N21: =IF(AND(ISNUMBER(A21),ISNUMBER(L21)),1-L21,IF(O21="Forfait W.O.",0,IF(F21="Forfait W.O.",1,""))) | O21: =Q11 | U21: =IF(OR(COUNTIF(A21:E21,">=0")>3,COUNTIF(A21:E21,"<0")>3),"Sets mal notés. Refaire la saisie svp",IF(ABS(A21)=99,"Abandon avant le début de la partie",IF(ABS(A21)=88,"Abandon en cours de partie"," "))) | AC21: AGRON | AD21: Patrice | AE21: 2 | AF21: Licence Nok | AI21: =IF(A21>0,1,IF(A21<0,-1,0)) -> 0 | AJ21: =IF(B21>0,1,IF(B21<0,-1,0)) -> 0 | AK21: =IF(C21>0,1,IF(C21<0,-1,0)) -> 0 | AL21: =IF(D21>0,1,IF(D21<0,-1,0)) -> 0 | AM21: =IF(E21>0,1,IF(E21<0,-1,0)) -> 0 | AN21: =IF(AND(A21>0,A21<10),11,IF(AND(A21>0,A21>9),A21+2,IF(AND(A21<0,A21>-10),-11,IF(AND(A21<0,A21<-9),A21-2,0)))) -> 0 | AO21: =IF(AND(B21>0,B21<10),11,IF(AND(B21>0,B21>9),B21+2,IF(AND(B21<0,B21>-10),-11,IF(AND(B21<0,B21<-9),B21-2,0)))) -> 0 | AP21: =IF(AND(C21>0,C21<10),11,IF(AND(C21>0,C21>9),C21+2,IF(AND(C21<0,C21>-10),-11,IF(AND(C21<0,C21<-9),C21-2,0)))) -> 0 | AQ21: =IF(AND(D21>0,D21<10),11,IF(AND(D21>0,D21>9),D21+2,IF(AND(D21<0,D21>-10),-11,IF(AND(D21<0,D21<-9),D21-2,0)))) -> 0 | AR21: =IF(AND(E21>0,E21<10),11,IF(AND(E21>0,E21>9),E21+2,IF(AND(E21<0,E21>-10),-11,IF(AND(E21<0,E21<-9),E21-2,0)))) -> 0 | AS21: =-A21 -> 0 | AT21: =-B21 -> 0 | AU21: =-C21 -> 0 | AV21: =-D21 -> 0 | AW21: =-E21 -> 0 | AY21: perdant | AZ21: ='EQUIPE A 3'!$D$2 | BA21: =IFERROR(IF('EQUIPE A 3'!L25=0,VLOOKUP('EQUIPE A 3'!B6&'EQUIPE A 3'!B9,'LISTE JOUEURS'!$P:$U,6,0),VLOOKUP('EQUIPE A 3'!N6&'EQUIPE A 3'!P10,'LISTE JOUEURS'!$P:$U,6,0)),0) -> 0 | BB21: =+_xlfn.XLOOKUP(BA21,'LISTE JOUEURS'!$U:$U,'LISTE JOUEURS'!$Q:$Q)&" "&_xlfn.XLOOKUP(BA21,'LISTE JOUEURS'!$U:$U,'LISTE JOUEURS'!$R:$R) -> #N/A | BF21: ROZAY
F22: =C11 | L22: =IF(ISNUMBER(A22),IF(OR(COUNTIF(A22:E22,">=0")>3,COUNTIF(A22:E22,"<0")>3),"",IF((COUNTIF(A22:E22,">=0")-COUNTIF(A22:E22,"<0"))<0,0,1)),IF(OR(F22="Forfait W.O.",A22=-88,A22=-99),0,IF(OR(O22="Forfait W.O.",A22=99,A22=88),1,""))) | M22: C - Y | N22: =IF(AND(ISNUMBER(A22),ISNUMBER(L22)),1-L22,IF(O22="Forfait W.O.",0,IF(F22="Forfait W.O.",1,""))) | O22: =Q10 | U22: =IF(OR(COUNTIF(A22:E22,">=0")>3,COUNTIF(A22:E22,"<0")>3),"Sets mal notés. Refaire la saisie svp",IF(ABS(A22)=99,"Abandon avant le début de la partie",IF(ABS(A22)=88,"Abandon en cours de partie"," "))) | AC22: AIRAULT | AD22: Philippe | AE22: 3 | AF22: Licence ok | AI22: =IF(A22>0,1,IF(A22<0,-1,0)) -> 0 | AJ22: =IF(B22>0,1,IF(B22<0,-1,0)) -> 0 | AK22: =IF(C22>0,1,IF(C22<0,-1,0)) -> 0 | AL22: =IF(D22>0,1,IF(D22<0,-1,0)) -> 0 | AM22: =IF(E22>0,1,IF(E22<0,-1,0)) -> 0 | AN22: =IF(AND(A22>0,A22<10),11,IF(AND(A22>0,A22>9),A22+2,IF(AND(A22<0,A22>-10),-11,IF(AND(A22<0,A22<-9),A22-2,0)))) -> 0 | AO22: =IF(AND(B22>0,B22<10),11,IF(AND(B22>0,B22>9),B22+2,IF(AND(B22<0,B22>-10),-11,IF(AND(B22<0,B22<-9),B22-2,0)))) -> 0 | AP22: =IF(AND(C22>0,C22<10),11,IF(AND(C22>0,C22>9),C22+2,IF(AND(C22<0,C22>-10),-11,IF(AND(C22<0,C22<-9),C22-2,0)))) -> 0 | AQ22: =IF(AND(D22>0,D22<10),11,IF(AND(D22>0,D22>9),D22+2,IF(AND(D22<0,D22>-10),-11,IF(AND(D22<0,D22<-9),D22-2,0)))) -> 0 | AR22: =IF(AND(E22>0,E22<10),11,IF(AND(E22>0,E22>9),E22+2,IF(AND(E22<0,E22>-10),-11,IF(AND(E22<0,E22<-9),E22-2,0)))) -> 0 | AS22: =-A22 -> 0 | AT22: =-B22 -> 0 | AU22: =-C22 -> 0 | AV22: =-D22 -> 0 | AW22: =-E22 -> 0 | BF22: VENEUX
F23: =C10 | L23: =IF(ISNUMBER(A23),IF(OR(COUNTIF(A23:E23,">=0")>3,COUNTIF(A23:E23,"<0")>3),"",IF((COUNTIF(A23:E23,">=0")-COUNTIF(A23:E23,"<0"))<0,0,1)),IF(OR(F23="Forfait W.O.",A23=-88,A23=-99),0,IF(OR(O23="Forfait W.O.",A23=99,A23=88),1,""))) | M23: B - Z | N23: =IF(AND(ISNUMBER(A23),ISNUMBER(L23)),1-L23,IF(O23="Forfait W.O.",0,IF(F23="Forfait W.O.",1,""))) | O23: =Q11 | U23: =IF(OR(COUNTIF(A23:E23,">=0")>3,COUNTIF(A23:E23,"<0")>3),"Sets mal notés. Refaire la saisie svp",IF(ABS(A23)=99,"Abandon avant le début de la partie",IF(ABS(A23)=88,"Abandon en cours de partie"," "))) | AC23: BARRAULT GUEBIN | AD23: Enzo | AE23: 5 | AF23: Licence ok | AI23: =IF(A23>0,1,IF(A23<0,-1,0)) -> 0 | AJ23: =IF(B23>0,1,IF(B23<0,-1,0)) -> 0 | AK23: =IF(C23>0,1,IF(C23<0,-1,0)) -> 0 | AL23: =IF(D23>0,1,IF(D23<0,-1,0)) -> 0 | AM23: =IF(E23>0,1,IF(E23<0,-1,0)) -> 0 | AN23: =IF(AND(A23>0,A23<10),11,IF(AND(A23>0,A23>9),A23+2,IF(AND(A23<0,A23>-10),-11,IF(AND(A23<0,A23<-9),A23-2,0)))) -> 0 | AO23: =IF(AND(B23>0,B23<10),11,IF(AND(B23>0,B23>9),B23+2,IF(AND(B23<0,B23>-10),-11,IF(AND(B23<0,B23<-9),B23-2,0)))) -> 0 | AP23: =IF(AND(C23>0,C23<10),11,IF(AND(C23>0,C23>9),C23+2,IF(AND(C23<0,C23>-10),-11,IF(AND(C23<0,C23<-9),C23-2,0)))) -> 0 | AQ23: =IF(AND(D23>0,D23<10),11,IF(AND(D23>0,D23>9),D23+2,IF(AND(D23<0,D23>-10),-11,IF(AND(D23<0,D23<-9),D23-2,0)))) -> 0 | AR23: =IF(AND(E23>0,E23<10),11,IF(AND(E23>0,E23>9),E23+2,IF(AND(E23<0,E23>-10),-11,IF(AND(E23<0,E23<-9),E23-2,0)))) -> 0 | AS23: =-A23 -> 0 | AT23: =-B23 -> 0 | AU23: =-C23 -> 0 | AV23: =-D23 -> 0 | AW23: =-E23 -> 0 | BF23: VILLEMER
F24: =C11 | L24: =IF(ISNUMBER(A24),IF(OR(COUNTIF(A24:E24,">=0")>3,COUNTIF(A24:E24,"<0")>3),"",IF((COUNTIF(A24:E24,">=0")-COUNTIF(A24:E24,"<0"))<0,0,1)),IF(OR(F24="Forfait W.O.",A24=-88,A24=-99),0,IF(OR(O24="Forfait W.O.",A24=99,A24=88),1,""))) | M24: C- X | N24: =IF(AND(ISNUMBER(A24),ISNUMBER(L24)),1-L24,IF(O24="Forfait W.O.",0,IF(F24="Forfait W.O.",1,""))) | O24: =Q9 | U24: =IF(OR(COUNTIF(A24:E24,">=0")>3,COUNTIF(A24:E24,"<0")>3),"Sets mal notés. Refaire la saisie svp",IF(ABS(A24)=99,"Abandon avant le début de la partie",IF(ABS(A24)=88,"Abandon en cours de partie"," "))) | AC24: BERNARD | AD24: Catherine | AE24: 6 | AF24: Licence ok | AI24: =IF(A24>0,1,IF(A24<0,-1,0)) -> 0 | AJ24: =IF(B24>0,1,IF(B24<0,-1,0)) -> 0 | AK24: =IF(C24>0,1,IF(C24<0,-1,0)) -> 0 | AL24: =IF(D24>0,1,IF(D24<0,-1,0)) -> 0 | AM24: =IF(E24>0,1,IF(E24<0,-1,0)) -> 0 | AN24: =IF(AND(A24>0,A24<10),11,IF(AND(A24>0,A24>9),A24+2,IF(AND(A24<0,A24>-10),-11,IF(AND(A24<0,A24<-9),A24-2,0)))) -> 0 | AO24: =IF(AND(B24>0,B24<10),11,IF(AND(B24>0,B24>9),B24+2,IF(AND(B24<0,B24>-10),-11,IF(AND(B24<0,B24<-9),B24-2,0)))) -> 0 | AP24: =IF(AND(C24>0,C24<10),11,IF(AND(C24>0,C24>9),C24+2,IF(AND(C24<0,C24>-10),-11,IF(AND(C24<0,C24<-9),C24-2,0)))) -> 0 | AQ24: =IF(AND(D24>0,D24<10),11,IF(AND(D24>0,D24>9),D24+2,IF(AND(D24<0,D24>-10),-11,IF(AND(D24<0,D24<-9),D24-2,0)))) -> 0 | AR24: =IF(AND(E24>0,E24<10),11,IF(AND(E24>0,E24>9),E24+2,IF(AND(E24<0,E24>-10),-11,IF(AND(E24<0,E24<-9),E24-2,0)))) -> 0 | AS24: =-A24 -> 0 | AT24: =-B24 -> 0 | AU24: =-C24 -> 0 | AV24: =-D24 -> 0 | AW24: =-E24 -> 0 | BF24: VOISENON
F25: =C9 | L25: =IF(ISNUMBER(A25),IF(OR(COUNTIF(A25:E25,">=0")>3,COUNTIF(A25:E25,"<0")>3),"",IF((COUNTIF(A25:E25,">=0")-COUNTIF(A25:E25,"<0"))<0,0,1)),IF(OR(F25="Forfait W.O.",A25=-88,A25=-99),0,IF(OR(O25="Forfait W.O.",A25=99,A25=88),1,""))) | M25: A - Y | N25: =IF(AND(ISNUMBER(A25),ISNUMBER(L25)),1-L25,IF(O25="Forfait W.O.",0,IF(F25="Forfait W.O.",1,""))) | O25: =Q10 | U25: =IF(OR(COUNTIF(A25:E25,">=0")>3,COUNTIF(A25:E25,"<0")>3),"Sets mal notés. Refaire la saisie svp",IF(ABS(A25)=99,"Abandon avant le début de la partie",IF(ABS(A25)=88,"Abandon en cours de partie"," "))) | AC25: BLANCHARD | AD25: Thierry | AE25: 7 | AF25: Licence Nok | AI25: =IF(A25>0,1,IF(A25<0,-1,0)) -> 0 | AJ25: =IF(B25>0,1,IF(B25<0,-1,0)) -> 0 | AK25: =IF(C25>0,1,IF(C25<0,-1,0)) -> 0 | AL25: =IF(D25>0,1,IF(D25<0,-1,0)) -> 0 | AM25: =IF(E25>0,1,IF(E25<0,-1,0)) -> 0 | AN25: =IF(AND(A25>0,A25<10),11,IF(AND(A25>0,A25>9),A25+2,IF(AND(A25<0,A25>-10),-11,IF(AND(A25<0,A25<-9),A25-2,0)))) -> 0 | AO25: =IF(AND(B25>0,B25<10),11,IF(AND(B25>0,B25>9),B25+2,IF(AND(B25<0,B25>-10),-11,IF(AND(B25<0,B25<-9),B25-2,0)))) -> 0 | AP25: =IF(AND(C25>0,C25<10),11,IF(AND(C25>0,C25>9),C25+2,IF(AND(C25<0,C25>-10),-11,IF(AND(C25<0,C25<-9),C25-2,0)))) -> 0 | AQ25: =IF(AND(D25>0,D25<10),11,IF(AND(D25>0,D25>9),D25+2,IF(AND(D25<0,D25>-10),-11,IF(AND(D25<0,D25<-9),D25-2,0)))) -> 0 | AR25: =IF(AND(E25>0,E25<10),11,IF(AND(E25>0,E25>9),E25+2,IF(AND(E25<0,E25>-10),-11,IF(AND(E25<0,E25<-9),E25-2,0)))) -> 0 | AS25: =-A25 -> 0 | AT25: =-B25 -> 0 | AU25: =-C25 -> 0 | AV25: =-D25 -> 0 | AW25: =-E25 -> 0 | BC25: Numero | BD25: 1 | BF25: VULAINES
J26: Total | L26: =SUM(L16:L25) -> 0 | N26: =SUM(N16:N25) -> 0 | AC26: BOISSOT | AD26: Arthur | AE26: 8 | AF26: Licence ok | BD26: 2
AC27: BORDAGE | AD27: Jean-Yves | AE27: 9 | AF27: Licence ok | AJ27: =B6&" "&F6 | AK27: =COUNTIF(AI16:AM25,1) -> 0 | AL27: =SUMIF(AN16:AW25,">0",AN16:AW25) -> 0 | BD27: 3
A28: RESULTAT | AC28: BOUCHER | AD28: Cyril | AE28: 10 | AF28: Licence ok | AJ28: =N6&" "&R6 | AK28: =COUNTIF(AI16:AM25,-1) -> 0 | AL28: =-SUMIF(AN16:AW25,"<0",AN16:AW25) -> 0 | BD28: 4
A29: =IF((L26 )>(N26),B6&" "&F6,N6&" "&R6) | E29: BAT | H29: =IF((L26 )<(N26),B6&" "&F6,N6&" "&R6) | J29: ="Cap. "&O15 -> Cap. | S29: Juge Arbitre | AC29: BOURASSIN | AD29: Bruno | AE29: 11 | AF29: Licence ok | BD29: 5
A30: =IF((L26)>(N26),(L26)&" points",(N26)&" points") -> 0 points | H30: =IF((L26 )>(N26),(N26)&" points",(L26)&" points") -> 0 points | J30: ="Cap. "&F15 -> Cap. | AC30: BOURGIS | AD30: Jérôme | AE30: 12 | AF30: Licence ok | BD30: 6
A31: =VLOOKUP(A29,$AJ$27:$AL$28,2,0)&" Sets à "&VLOOKUP(H29,$AJ$27:$AL$28,2,0) -> 0 Sets à 0 | AD31: Leona | AE31: 13 | AF31: Licence ok
A32: =VLOOKUP(A29,$AJ$27:$AL$28,3,0)&" points à "&VLOOKUP(H29,$AJ$27:$AL$28,3,0) -> 0 points à 0 | AC32: BREBION | AD32: Bruno | AE32: 14 | AF32: Licence ok
AD33: Stephane | AE33: 15 | AF33: Licence ok | BD33: 7
A34: IMPORTANT : Envoyer la feuille de match au responsable du Championnat à Trois : Jerôme GUIGNARD mail csctt@wanadoo.fr | AC34: CANTELOUP | AD34: Frédéric | AE34: 16 | AF34: Licence ok | BD34: 8
A35: Mettre en copie le Club visiteur : | E35: =IFERROR(VLOOKUP(N6,'LISTING CLUB'!A:C,3,0),"") | K35: SAUVER FICHIER SOUS | O35: ="3J"&R3&"-"&I3&"-"&N3&"-"&F15&"-"&O15 -> 3J--- - | AC35: CHABAUD | AD35: Severine | AE35: 17 | AF35: Licence Nok | BC35: Poule | BD35: Nord
A36: RESERVES (à faire avant la rencontre par le capitaine réclamant en présence du capitaine adverse) | AC36: CHAMOURET | AD36: Ambroise | AE36: 18 | AF36: Licence Nok | BD36: Sud
AC37: CHANTIN | AD37: Valerie | AE37: 19 | AF37: Licence Nok
AC38: CHASSEVENT | AD38: Melvin | AE38: 20 | AF38: Licence Nok
AC39: CHAUMIER | AD39: Nicole | AE39: 21 | AF39: Licence ok
AC40: CHEKIR SALCEDO | AD40: Liahm | AE40: 22 | AF40: Licence Nok
...

Sheet arbitrage 3
A1: UFOLEP 77 – Championnat départemental à 3 - 2025 - 2026 | M1: =A1 -> UFOLEP 77 – Championnat départemental à 3 - 2025 - 2026 | Y1: =A1 -> UFOLEP 77 – Championnat départemental à 3 - 2025 - 2026
B2: =+'EQUIPE A 3'!$I$3 -> 0 | G2: Poule | H2: =+'EQUIPE A 3'!$N$3 -> 0 | I2: Jour | J2: =+'EQUIPE A 3'!$R$3 -> 0 | N2: =+B2 -> 0 | S2: Poule | T2: =+H2 -> 0 | U2: Jour | V2: =+J2 -> 0 | Z2: =+B2 -> 0 | AE2: Poule | AF2: =+H2 -> 0 | AG2: Jour | AH2: =+J2 -> 0
A3: =+'EQUIPE A 3'!B6& " "&'EQUIPE A 3'!F6 | G3: reçoit | H3: =+'EQUIPE A 3'!N6&" "&'EQUIPE A 3'!R6 | M3: =+A3 | S3: reçoit | T3: =+H3 | Y3: =+A3 | AE3: reçoit | AF3: =+H3
A4: Date | B4: =IF(ISBLANK(+'EQUIPE A 3'!D3),+'EQUIPE A 3'!D2,+'EQUIPE A 3'!D3) | C4: =IF(ISBLANK(' EQUIPE A 4'!#REF!),' EQUIPE A 4'!#REF!,#REF!) -> #REF! | D4: =IF(ISBLANK(' EQUIPE A 4'!#REF!),' EQUIPE A 4'!#REF!,#REF!) -> #REF! | E4: =IF(ISBLANK(' EQUIPE A 4'!#REF!),' EQUIPE A 4'!#REF!,#REF!) -> #REF! | F4: =IF(ISBLANK(' EQUIPE A 4'!#REF!),' EQUIPE A 4'!#REF!,#REF!) -> #REF! | H4: Table n° | M4: Date | N4: =+B4 | T4: Table n° | Y4: Date | Z4: =+B4 | AC4: 43382 | AF4: Table n°
G5: 1er Service : Gauche-Droite | S5: 1er Service : Gauche-Droite | AE5: 1er Service : Gauche-Droite
A6: Partie | B6: 01 : A – X | G6: Set 1 | H6: Set 2 | I6: Set 3 | J6: Set 4 | K6: Set 5 | M6: Partie | N6: 02 : B – Y | S6: Set 1 | T6: Set 2 | U6: Set 3 | V6: Set 4 | W6: Set 5 | Y6: Partie | Z6: 03 : C - Z | AE6: Set 1 | AF6: Set 2 | AG6: Set 3 | AH6: Set 4 | AI6: Set 5
A7: =+'EQUIPE A 3'!C9 | M7: =+'EQUIPE A 3'!C10 | Y7: =+'EQUIPE A 3'!C11
A8: =+'EQUIPE A 3'!I9 | M8: =+'EQUIPE A 3'!I10 | Y8: =+'EQUIPE A 3'!I11
A9: contre | M9: contre | Y9: contre
A10: =+'EQUIPE A 3'!Q9 | M10: =+'EQUIPE A 3'!Q10 | Y10: =+'EQUIPE A 3'!Q11
A11: =+'EQUIPE A 3'!X9 | M11: =+'EQUIPE A 3'!X10 | Y11: =+'EQUIPE A 3'!X11
A12: Arbitre | M12: Arbitre | Y12: Arbitre
A15: =A1 -> UFOLEP 77 – Championnat départemental à 3 - 2025 - 2026 | M15: =A1 -> UFOLEP 77 – Championnat départemental à 3 - 2025 - 2026 | Y15: =A1 -> UFOLEP 77 – Championnat départemental à 3 - 2025 - 2026
B16: =+B2 -> 0 | G16: Poule | H16: =+H2 -> 0 | I16: Jour | J16: =+J2 -> 0 | N16: =+B2 -> 0 | S16: Poule | T16: =+' EQUIPE A 4'!$N$3 -> 0 | U16: Jour | V16: =+J2 -> 0 | Z16: =+B2 -> 0 | AC16: =+B2 -> 0 | AE16: Poule | AF16: =+' EQUIPE A 4'!$N$3 -> 0 | AG16: Jour | AH16: =+J2 -> 0
A17: =+A3 | G17: reçoit | H17: =+H3 | M17: =+A3 | S17: reçoit | T17: =+H3 | Y17: =+A3 | AE17: reçoit | AF17: =+H3
A18: Date | B18: =+B4 | H18: Table n° | M18: Date | N18: =+B4 | T18: Table n° | Y18: Date | Z18: =+B4 | AC18: 43382 | AF18: Table n°
G19: 1er Service : Gauche-Droite | S19: 1er Service : Gauche-Droite | AE19: 1er Service : Gauche-Droite
A20: Partie | B20: 04 : DOUBLE | G20: Set 1 | H20: Set 2 | I20: Set 3 | J20: Set 4 | K20: Set 5 | M20: Partie | N20: 05 : B - X | S20: Set 1 | T20: Set 2 | U20: Set 3 | V20: Set 4 | W20: Set 5 | Y20: Partie | Z20: 06 : A - Z | AE20: Set 1 | AF20: Set 2 | AG20: Set 3 | AH20: Set 4 | AI20: Set 5
A21: =+A3 | M21: =+'EQUIPE A 3'!C10 | Y21: =+'EQUIPE A 3'!C9
M22: =+'EQUIPE A 3'!I10 | Y22: =+'EQUIPE A 3'!I9
A23: contre | M23: contre | Y23: contre
A24: =+H3 | M24: =+'EQUIPE A 3'!Q9 | Y24: =+'EQUIPE A 3'!Q11
M25: =+'EQUIPE A 3'!X9 | Y25: =+'EQUIPE A 3'!X11
A26: Arbitre | M26: Arbitre | Y26: Arbitre
A29: =A1 -> UFOLEP 77 – Championnat départemental à 3 - 2025 - 2026 | M29: =A1 -> UFOLEP 77 – Championnat départemental à 3 - 2025 - 2026 | Y29: =A1 -> UFOLEP 77 – Championnat départemental à 3 - 2025 - 2026
B30: =+B2 -> 0 | G30: Poule | H30: =+H2 -> 0 | I30: Jour | J30: =+J2 -> 0 | N30: =+B2 -> 0 | S30: Poule | T30: =+' EQUIPE A 4'!$N$3 -> 0 | U30: Jour | V30: =+J2 -> 0 | Z30: =+B2 -> 0 | AE30: Poule | AF30: =+H2 -> 0 | AG30: Jour | AH30: =+J2 -> 0
A31: =+A3 | G31: reçoit | H31: =+' EQUIPE A 4'!$N$6&" "&' EQUIPE A 4'!$R$6 | M31: =+A3 | S31: reçoit | T31: =+H3 | Y31: =+A3 | AE31: reçoit | AF31: =+H3
A32: Date | B32: =+B4 | H32: Table n° | M32: Date | N32: =+B4 | T32: Table n° | Y32: Date | Z32: =+B4 | AC32: 43382 | AF32: Table n°
G33: 1er Service : Gauche-Droite | S33: 1er Service : Gauche-Droite | AE33: 1er Service : Gauche-Droite
A34: Partie | B34: 07 : C - Y | G34: Set 1 | H34: Set 2 | I34: Set 3 | J34: Set 4 | K34: Set 5 | M34: Partie | N34: 08 : B - Z | S34: Set 1 | T34: Set 2 | U34: Set 3 | V34: Set 4 | W34: Set 5 | Y34: Partie | Z34: 09 : C - X | AE34: Set 1 | AF34: Set 2 | AG34: Set 3 | AH34: Set 4 | AI34: Set 5
A35: =+'EQUIPE A 3'!C11 | M35: =+'EQUIPE A 3'!C10 | Y35: =+'EQUIPE A 3'!C11
A36: =+'EQUIPE A 3'!I11 | M36: =+'EQUIPE A 3'!I10 | Y36: =+'EQUIPE A 3'!I11
A37: contre | M37: contre | Y37: contre
A38: =+'EQUIPE A 3'!Q10 | M38: =+'EQUIPE A 3'!Q11 | Y38: =+'EQUIPE A 3'!Q9
A39: =+'EQUIPE A 3'!X10 | M39: =+'EQUIPE A 3'!X11 | Y39: =+'EQUIPE A 3'!X9
A40: Arbitre | M40: Arbitre | Y40: Arbitre
A43: =A1 -> UFOLEP 77 – Championnat départemental à 3 - 2025 - 2026
B44: =+B2 -> 0 | G44: Poule | H44: =+H2 -> 0 | I44: Jour | J44: =+J2 -> 0 | K44: =+' EQUIPE A 4'!$R$3 -> 0 | S44: Poule | U44: Jour | AE44: Poule | AG44: Jour
A45: =+A3 | G45: reçoit | H45: =+' EQUIPE A 4'!$N$6&" "&' EQUIPE A 4'!$R$6 | S45: reçoit | AE45: reçoit
A46: Date | B46: =+B4 | H46: Table n° | M46: Date | T46: Table n° | Y46: Date | AF46: Table n°
...

Sheet  EQUIPE A 4
A1: Championnat départemental par équipes de QUATRE (4) SEINE et MARNE - Saison 2025 - 2026 | CA1: Résultat | CB1: 4J | CC1: =R3 -> 0 | CD1: =+D2 | CE1: =IF(ISBLANK(D3),D2,D3) | CF1: =I3 -> 0 | CG1: =N3 -> 0 | CH1: =B6&" "&F6 | CI1: contre | CJ1: =N6&" "&R6 | CL1: =L23 + L33 -> 0 | CM1: =N23 +N33 -> 0 | CO1: =AK33 -> 0 | CP1: =AK34 -> 0 | CR1: =AL33 -> 0 | CS1: =AL34 -> 0
A2: Date prévue | D2: =IFERROR(VLOOKUP(R3,JourneeE4,2,FALSE),"") | AC2: NOTICE : Important toujours utiliser une feuille de match originale
A3: Date réelle : | G3: DIVISION | M3: Poule | P3: Journée | AC3: Selectionner la journée, la division et la poule et la date rélle si différente de la date prévue officiellemnt
AC4: Sélectionner les équipes et et numeros
B5: Equipe receveuse | N5: Equipe visiteuse | AC5: Saisir les codes de chaque joueur, utiliser la liste ci-dessous apres avoir selectionne le club
W6: ='EQUIPE A 3'!W6 -> Mise à jour du 24 Novembre 2025 | AC6: Si joueur inconnu ne pas mettre de code et saisir Nom prenom directement
AC7: Indiquer un score positif si c'est le joueur à domicile qui gagne le set et un score négatif si le joueur extérieur gagne le set.
AC8: Marquer 0,1 ou -0,1 lorsqu'un des joueurs gagne 11/0 en respectant le signe indiqué au dessus, 0 sera alors affiché
B9: Code | C9: NOM - Prénom | I9: Clt. | J9: Licence | P9: Code | Q9: NOM - Prénom | X9: Clt. | Y9: Licence | AC9: Si joueur forfait saisir 0 (zéro) pour code, pas de score à sasir, le tableau se remplira automatiqement
A10: A | C10: =IF(B10="","",IFERROR(VLOOKUP($B$6&$B10,'LISTE JOUEURS'!$P:$S,2,0),"")) &" "& IF(B10="","",IFERROR(VLOOKUP($B$6&$B10,'LISTE JOUEURS'!$P:$S,3,0),"")) | I10: =IF(B10="","",IFERROR(VLOOKUP($B$6&$B10,'LISTE JOUEURS'!$P:$U,4,0),500)) | J10: =IF(B10="","",IFERROR(VLOOKUP($B$6&$B10,'LISTE JOUEURS'!$P:$U,5,0),"")) | O10: X | Q10: =IF(P10="","",IFERROR(VLOOKUP($N$6&$P10,'LISTE JOUEURS'!$P:$S,2,0),""))& " "&IF(P10="","",IFERROR(VLOOKUP($N$6&$P10,'LISTE JOUEURS'!$P:$S,3,0),"")) | X10: =IF(P10="","",IFERROR(VLOOKUP($N$6&$P10,'LISTE JOUEURS'!$P:$U,4,0),500)) | Y10: =IF(P10="","",IFERROR(VLOOKUP($N$6&$P10,'LISTE JOUEURS'!$P:$U,5,0),"")) | AC10: Si abandon d'un joueur avant de commencer la partie saisir 99 (ou -99) dans la case du premier set uniquement et pour tous ses matches suivants | AY10: max | AZ10: =+MAX(I10:I13) -> 0 | BA10: =+MAX(X10:X13) -> 0 | BE10: V/D | BF10: Date | BG10: Code joueur
A11: B | C11: =IF(B11="","",IFERROR(VLOOKUP($B$6&$B11,'LISTE JOUEURS'!$P:$S,2,0),"")) &" "& IF(B11="","",IFERROR(VLOOKUP($B$6&$B11,'LISTE JOUEURS'!$P:$S,3,0),"")) | I11: =IF(B11="","",IFERROR(VLOOKUP($B$6&$B11,'LISTE JOUEURS'!$P:$U,4,0),500)) | J11: =IF(B11="","",IFERROR(VLOOKUP($B$6&$B11,'LISTE JOUEURS'!$P:$U,5,0),"")) | O11: Y | Q11: =IF(P11="","",IFERROR(VLOOKUP($N$6&$P11,'LISTE JOUEURS'!$P:$S,2,0),""))& " "&IF(P11="","",IFERROR(VLOOKUP($N$6&$P11,'LISTE JOUEURS'!$P:$S,3,0),"")) | X11: =IF(P11="","",IFERROR(VLOOKUP($N$6&$P11,'LISTE JOUEURS'!$P:$U,4,0),500)) | Y11: =IF(P11="","",IFERROR(VLOOKUP($N$6&$P11,'LISTE JOUEURS'!$P:$U,5,0),"")) | AC11: Si abandon d'un joueur en cours de partie mettre 88 (ou -88) dans la case du premer set uniquement et pour tous ses matches suivants. | AY11: min | AZ11: =+MIN(I10:I13) -> 0 | BA11: =+MIN(X10:X13) -> 0 | BE11: vainqueur | BF11: =' EQUIPE A 4'!$D$2 | BG11: =IF(I3="SuperDiv",IFERROR(IF(' EQUIPE A 4'!L17=1,VLOOKUP(' EQUIPE A 4'!B6&' EQUIPE A 4'!B10,'LISTE JOUEURS'!$P:$U,6,0),VLOOKUP(' EQUIPE A 4'!N6&' EQUIPE A 4'!P10,'LISTE JOUEURS'!$P:$U,6,0)),0),IFERROR(IF(' EQUIPE A 4'!L17=4,VLOOKUP(' EQUIPE A 4'!B6&' EQUIPE A 4'!B10,'LISTE JOUEURS'!$P:$U,6,0),VLOOKUP(' EQUIPE A 4'!N6&' EQUIPE A 4'!P10,'LISTE JOUEURS'!$P:$U,6,0)),0)) -> 0 | BH11: =+_xlfn.XLOOKUP(BG11,'LISTE JOUEURS'!$U:$U,'LISTE JOUEURS'!$Q:$Q)&" "&_xlfn.XLOOKUP(BG11,'LISTE JOUEURS'!$U:$U,'LISTE JOUEURS'!$R:$R) -> #N/A
A12: C | C12: =IF(B12="","",IFERROR(VLOOKUP($B$6&$B12,'LISTE JOUEURS'!$P:$S,2,0),"")) &" "& IF(B12="","",IFERROR(VLOOKUP($B$6&$B12,'LISTE JOUEURS'!$P:$S,3,0),"")) | I12: =IF(B12="","",IFERROR(VLOOKUP($B$6&$B12,'LISTE JOUEURS'!$P:$U,4,0),500)) | J12: =IF(B12="","",IFERROR(VLOOKUP($B$6&$B12,'LISTE JOUEURS'!$P:$U,5,0),"")) | O12: Z | Q12: =IF(P12="","",IFERROR(VLOOKUP($N$6&$P12,'LISTE JOUEURS'!$P:$S,2,0),""))& " "&IF(P12="","",IFERROR(VLOOKUP($N$6&$P12,'LISTE JOUEURS'!$P:$S,3,0),"")) | X12: =IF(P12="","",IFERROR(VLOOKUP($N$6&$P12,'LISTE JOUEURS'!$P:$U,4,0),500)) | Y12: =IF(P12="","",IFERROR(VLOOKUP($N$6&$P12,'LISTE JOUEURS'!$P:$U,5,0),"")) | AC12: Un joueur déclarant forfait l'est également pour les matches suivants de la rencontre | BE12: perdant | BF12: =' EQUIPE A 4'!$D$2 | BG12: =IFERROR(IF(' EQUIPE A 4'!L17=0,VLOOKUP(' EQUIPE A 4'!B6&' EQUIPE A 4'!B10,'LISTE JOUEURS'!$P:$U,6,0),VLOOKUP(' EQUIPE A 4'!N6&' EQUIPE A 4'!P10,'LISTE JOUEURS'!$P:$U,6,0)),0) -> 0 | BH12: =+_xlfn.XLOOKUP(BG12,'LISTE JOUEURS'!$U:$U,'LISTE JOUEURS'!$Q:$Q)&" "&_xlfn.XLOOKUP(BG12,'LISTE JOUEURS'!$U:$U,'LISTE JOUEURS'!$R:$R) -> #N/A
A13: D | C13: =IF(B13="","",IFERROR(VLOOKUP($B$6&$B13,'LISTE JOUEURS'!$P:$S,2,0),"")) &" "& IF(B13="","",IFERROR(VLOOKUP($B$6&$B13,'LISTE JOUEURS'!$P:$S,3,0),"")) | I13: =IF(B13="","",IFERROR(VLOOKUP($B$6&$B13,'LISTE JOUEURS'!$P:$U,4,0),500)) | J13: =IF(B13="","",IFERROR(VLOOKUP($B$6&$B13,'LISTE JOUEURS'!$P:$U,5,0),"")) | O13: W | Q13: =IF(P13="","",IFERROR(VLOOKUP($N$6&$P13,'LISTE JOUEURS'!$P:$S,2,0),""))& " "&IF(P13="","",IFERROR(VLOOKUP($N$6&$P13,'LISTE JOUEURS'!$P:$S,3,0),"")) | X13: =IF(P13="","",IFERROR(VLOOKUP($N$6&$P13,'LISTE JOUEURS'!$P:$U,4,0),500)) | Y13: =IF(P13="","",IFERROR(VLOOKUP($N$6&$P13,'LISTE JOUEURS'!$P:$U,5,0),"")) | AC13: Sur les feuilles d'arbitrage fournies à titre indicatif les noms des joueurs sont ajoutés automatiquement | AZ13: =IF(OR(I10=AZ10,I11=AZ10),"ok","pas ok") -> pas ok | BA13: =IF(OR(X10=BA10,X11=BA10),"ok","pas ok") -> pas ok | BE13: vainqueur | BF13: =' EQUIPE A 4'!$D$2 | BG13: =IF(I3="SuperDiv",IFERROR(IF(' EQUIPE A 4'!L18=1,VLOOKUP(' EQUIPE A 4'!B6&' EQUIPE A 4'!B11,'LISTE JOUEURS'!$P:$U,6,0),VLOOKUP(' EQUIPE A 4'!N6&' EQUIPE A 4'!P11,'LISTE JOUEURS'!$P:$U,6,0)),0),IFERROR(IF(' EQUIPE A 4'!L18=4,VLOOKUP(' EQUIPE A 4'!B6&' EQUIPE A 4'!B11,'LISTE JOUEURS'!$P:$U,6,0),VLOOKUP(' EQUIPE A 4'!N6&' EQUIPE A 4'!P11,'LISTE JOUEURS'!$P:$U,6,0)),0)) -> 0 | BH13: =+_xlfn.XLOOKUP(BG13,'LISTE JOUEURS'!$U:$U,'LISTE JOUEURS'!$Q:$Q)&" "&_xlfn.XLOOKUP(BG13,'LISTE JOUEURS'!$U:$U,'LISTE JOUEURS'!$R:$R) -> #N/A
AC14: Envoyer sous format EXCEL la feuille de résultat | AZ14: =IF(OR(I12=AZ11,I13=AZ11),"ok","pas ok") -> pas ok | BA14: =IF(OR(X12=BA11,X13=BA11),"ok","pas ok") -> pas ok | BE14: perdant | BF14: =' EQUIPE A 4'!$D$2 | BG14: =IFERROR(IF(' EQUIPE A 4'!L18=0,VLOOKUP(' EQUIPE A 4'!B6&' EQUIPE A 4'!B11,'LISTE JOUEURS'!$P:$U,6,0),VLOOKUP(' EQUIPE A 4'!N6&' EQUIPE A 4'!P11,'LISTE JOUEURS'!$P:$U,6,0)),0) -> 0 | BH14: =+_xlfn.XLOOKUP(BG14,'LISTE JOUEURS'!$U:$U,'LISTE JOUEURS'!$Q:$Q)&" "&_xlfn.XLOOKUP(BG14,'LISTE JOUEURS'!$U:$U,'LISTE JOUEURS'!$R:$R) -> #N/A
J15: PARTIE A (victoire en Simple 4 pts, en double 6 pts / en Super Div victoire en Simple 1pt, en double 2 pts) | AZ15: =COUNTIF(AZ13:BA14,"pas ok") -> 4 | BE15: vainqueur | BF15: =' EQUIPE A 4'!$D$2 | BG15: =IF(I3="SuperDiv",IFERROR(IF(' EQUIPE A 4'!L19=1,VLOOKUP(' EQUIPE A 4'!B6&' EQUIPE A 4'!B11,'LISTE JOUEURS'!$P:$U,6,0),VLOOKUP(' EQUIPE A 4'!N6&' EQUIPE A 4'!P10,'LISTE JOUEURS'!$P:$U,6,0)),0),IFERROR(IF(' EQUIPE A 4'!L19=4,VLOOKUP(' EQUIPE A 4'!B6&' EQUIPE A 4'!B11,'LISTE JOUEURS'!$P:$U,6,0),VLOOKUP(' EQUIPE A 4'!N6&' EQUIPE A 4'!P10,'LISTE JOUEURS'!$P:$U,6,0)),0)) -> 0 | BH15: =+_xlfn.XLOOKUP(BG15,'LISTE JOUEURS'!$U:$U,'LISTE JOUEURS'!$Q:$Q)&" "&_xlfn.XLOOKUP(BG15,'LISTE JOUEURS'!$U:$U,'LISTE JOUEURS'!$R:$R) -> #N/A
A16: Set 1 | B16: Set 2 | C16: Set 3 | D16: Set 4 | E16: Set 5 | F16: =B6&" "&F6 | L16: A B | N16: XY | O16: =N6&" "&R6 | U16: Remarque | AC16: CLUB | AD16: BUSSY | AI16: SET1 | AJ16: SET2 | AK16: SET3 | AL16: SET4 | AM16: SET5 | AN16: SET1 | AO16: SET2 | AP16: SET3 | AQ16: SET4 | AR16: SET5 | AS16: SET1 | AT16: SET2 | AU16: SET3 | AV16: SET4 | AW16: SET5 | BE16: perdant | BF16: =' EQUIPE A 4'!$D$2 | BG16: =IFERROR(IF(' EQUIPE A 4'!L19=0,VLOOKUP(' EQUIPE A 4'!B6&' EQUIPE A 4'!B11,'LISTE JOUEURS'!$P:$U,6,0),VLOOKUP(' EQUIPE A 4'!N6&' EQUIPE A 4'!P10,'LISTE JOUEURS'!$P:$U,6,0)),0) -> 0 | BH16: =+_xlfn.XLOOKUP(BG16,'LISTE JOUEURS'!$U:$U,'LISTE JOUEURS'!$Q:$Q)&" "&_xlfn.XLOOKUP(BG16,'LISTE JOUEURS'!$U:$U,'LISTE JOUEURS'!$R:$R) -> #N/A
F17: =C10 | L17: =IF(ISNUMBER(A17),IF(OR(COUNTIF(A17:E17,">=0")>3,COUNTIF(A17:E17,"<0")>3),"XXX",IF((COUNTIF(A17:E17,">=0")-COUNTIF(A17:E17,"<0"))<0,0,IF($I$3="SuperDiv",1,4))),IF(OR(RIGHT(F17,4)="W.O.",A17=-88,A17=-99),0,IF(OR(RIGHT(O17,4)="W.O.",A17=99,A17=88),IF($I$3="SuperDiv",1,4),""))) | M17: A - X | N17: =IF(AND(ISNUMBER(A17),ISNUMBER(L17)),IF($I$3="SuperDiv",1-L17,4-L17),IF(O17="Forfait W.O.",0,IF(F17="Forfait W.O.",IF($I$3="SuperDiv",1,4),""))) | O17: =+Q10 | U17: =IF(OR(COUNTIF(A17:E17,">=0")>3,COUNTIF(A17:E17,"<0")>3),"Sets mal notés. Refaire la saisie svp",IF(ABS(A17)=99,"Abandon avant le début de la partie",IF(ABS(A17)=88,"Abandon en cours de partie"," "))) | AI17: =IF(A17>0,1,IF(A17<0,-1,0)) -> 0 | AJ17: =IF(B17>0,1,IF(B17<0,-1,0)) -> 0 | AK17: =IF(C17>0,1,IF(C17<0,-1,0)) -> 0 | AL17: =IF(D17>0,1,IF(D17<0,-1,0)) -> 0 | AM17: =IF(E17>0,1,IF(E17<0,-1,0)) -> 0 | AN17: =IF(AND(A17>0,A17<10),11,IF(AND(A17>0,A17>9),A17+2,IF(AND(A17<0,A17>-10),-11,IF(AND(A17<0,A17<-9),A17-2,0)))) -> 0 | AO17: =IF(AND(B17>0,B17<10),11,IF(AND(B17>0,B17>9),B17+2,IF(AND(B17<0,B17>-10),-11,IF(AND(B17<0,B17<-9),B17-2,0)))) -> 0 | AP17: =IF(AND(C17>0,C17<10),11,IF(AND(C17>0,C17>9),C17+2,IF(AND(C17<0,C17>-10),-11,IF(AND(C17<0,C17<-9),C17-2,0)))) -> 0 | AQ17: =IF(AND(D17>0,D17<10),11,IF(AND(D17>0,D17>9),D17+2,IF(AND(D17<0,D17>-10),-11,IF(AND(D17<0,D17<-9),D17-2,0)))) -> 0 | AR17: =IF(AND(E17>0,E17<10),11,IF(AND(E17>0,E17>9),E17+2,IF(AND(E17<0,E17>-10),-11,IF(AND(E17<0,E17<-9),E17-2,0)))) -> 0 | AS17: =-A17 -> 0 | AT17: =-B17 -> 0 | AU17: =-C17 -> 0 | AV17: =-D17 -> 0 | AW17: =-E17 -> 0 | BE17: vainqueur | BF17: =' EQUIPE A 4'!$D$2 | BG17: =IF(I3="SuperDiv",IFERROR(IF(' EQUIPE A 4'!L20=1,VLOOKUP(' EQUIPE A 4'!B6&' EQUIPE A 4'!B10,'LISTE JOUEURS'!$P:$U,6,0),VLOOKUP(' EQUIPE A 4'!N6&' EQUIPE A 4'!P11,'LISTE JOUEURS'!$P:$U,6,0)),0),IFERROR(IF(' EQUIPE A 4'!L20=4,VLOOKUP(' EQUIPE A 4'!B6&' EQUIPE A 4'!B10,'LISTE JOUEURS'!$P:$U,6,0),VLOOKUP(' EQUIPE A 4'!N6&' EQUIPE A 4'!P11,'LISTE JOUEURS'!$P:$U,6,0)),0)) -> 0 | BH17: =+_xlfn.XLOOKUP(BG17,'LISTE JOUEURS'!$U:$U,'LISTE JOUEURS'!$Q:$Q)&" "&_xlfn.XLOOKUP(BG17,'LISTE JOUEURS'!$U:$U,'LISTE JOUEURS'!$R:$R) -> #N/A
F18: =C11 | L18: =IF(ISNUMBER(A18),IF(OR(COUNTIF(A18:E18,">=0")>3,COUNTIF(A18:E18,"<0")>3),"XXX",IF((COUNTIF(A18:E18,">=0")-COUNTIF(A18:E18,"<0"))<0,0,IF($I$3="SuperDiv",1,4))),IF(OR(RIGHT(F18,4)="W.O.",A18=-88,A18=-99),0,IF(OR(RIGHT(O18,4)="W.O.",A18=99,A18=88),IF($I$3="SuperDiv",1,4),""))) | M18: B - Y | N18: =IF(AND(ISNUMBER(A18),ISNUMBER(L18)),IF($I$3="SuperDiv",1-L18,4-L18),IF(O18="Forfait W.O.",0,IF(F18="Forfait W.O.",IF($I$3="SuperDiv",1,4),""))) | O18: =+Q11 | U18: =IF(OR(COUNTIF(A18:E18,">=0")>3,COUNTIF(A18:E18,"<0")>3),"Sets mal notés. Refaire la saisie svp",IF(ABS(A18)=99,"Abandon avant le début de la partie",IF(ABS(A18)=88,"Abandon en cours de partie"," "))) | AC18: NOM | AD18: PRENOM | AE18: Code | AF18: Licence ? | AI18: =IF(A18>0,1,IF(A18<0,-1,0)) -> 0 | AJ18: =IF(B18>0,1,IF(B18<0,-1,0)) -> 0 | AK18: =IF(C18>0,1,IF(C18<0,-1,0)) -> 0 | AL18: =IF(D18>0,1,IF(D18<0,-1,0)) -> 0 | AM18: =IF(E18>0,1,IF(E18<0,-1,0)) -> 0 | AN18: =IF(AND(A18>0,A18<10),11,IF(AND(A18>0,A18>9),A18+2,IF(AND(A18<0,A18>-10),-11,IF(AND(A18<0,A18<-9),A18-2,0)))) -> 0 | AO18: =IF(AND(B18>0,B18<10),11,IF(AND(B18>0,B18>9),B18+2,IF(AND(B18<0,B18>-10),-11,IF(AND(B18<0,B18<-9),B18-2,0)))) -> 0 | AP18: =IF(AND(C18>0,C18<10),11,IF(AND(C18>0,C18>9),C18+2,IF(AND(C18<0,C18>-10),-11,IF(AND(C18<0,C18<-9),C18-2,0)))) -> 0 | AQ18: =IF(AND(D18>0,D18<10),11,IF(AND(D18>0,D18>9),D18+2,IF(AND(D18<0,D18>-10),-11,IF(AND(D18<0,D18<-9),D18-2,0)))) -> 0 | AR18: =IF(AND(E18>0,E18<10),11,IF(AND(E18>0,E18>9),E18+2,IF(AND(E18<0,E18>-10),-11,IF(AND(E18<0,E18<-9),E18-2,0)))) -> 0 | AS18: =-A18 -> 0 | AT18: =-B18 -> 0 | AU18: =-C18 -> 0 | AV18: =-D18 -> 0 | AW18: =-E18 -> 0 | BE18: perdant | BF18: =' EQUIPE A 4'!$D$2 | BG18: =IFERROR(IF(' EQUIPE A 4'!L20=0,VLOOKUP(' EQUIPE A 4'!B6&' EQUIPE A 4'!B10,'LISTE JOUEURS'!$P:$U,6,0),VLOOKUP(' EQUIPE A 4'!N6&' EQUIPE A 4'!P11,'LISTE JOUEURS'!$P:$U,6,0)),0) -> 0 | BH18: =+_xlfn.XLOOKUP(BG18,'LISTE JOUEURS'!$U:$U,'LISTE JOUEURS'!$Q:$Q)&" "&_xlfn.XLOOKUP(BG18,'LISTE JOUEURS'!$U:$U,'LISTE JOUEURS'!$R:$R) -> #N/A
F19: =C11 | L19: =IF(ISNUMBER(A19),IF(OR(COUNTIF(A19:E19,">=0")>3,COUNTIF(A19:E19,"<0")>3),"XXX",IF((COUNTIF(A19:E19,">=0")-COUNTIF(A19:E19,"<0"))<0,0,IF($I$3="SuperDiv",1,4))),IF(OR(RIGHT(F19,4)="W.O.",A19=-88,A19=-99),0,IF(OR(RIGHT(O19,4)="W.O.",A19=99,A19=88),IF($I$3="SuperDiv",1,4),""))) | M19: B - X | N19: =IF(AND(ISNUMBER(A19),ISNUMBER(L19)),IF($I$3="SuperDiv",1-L19,4-L19),IF(O19="Forfait W.O.",0,IF(F19="Forfait W.O.",IF($I$3="SuperDiv",1,4),""))) | O19: =+Q10 | U19: =IF(OR(COUNTIF(A19:E19,">=0")>3,COUNTIF(A19:E19,"<0")>3),"Sets mal notés. Refaire la saisie svp",IF(ABS(A19)=99,"Abandon avant le début de la partie",IF(ABS(A19)=88,"Abandon en cours de partie"," "))) | AC19: ATRIDE | AD19: Edwin | AE19: 1 | AF19: Licence Nok | AI19: =IF(A19>0,1,IF(A19<0,-1,0)) -> 0 | AJ19: =IF(B19>0,1,IF(B19<0,-1,0)) -> 0 | AK19: =IF(C19>0,1,IF(C19<0,-1,0)) -> 0 | AL19: =IF(D19>0,1,IF(D19<0,-1,0)) -> 0 | AM19: =IF(E19>0,1,IF(E19<0,-1,0)) -> 0 | AN19: =IF(AND(A19>0,A19<10),11,IF(AND(A19>0,A19>9),A19+2,IF(AND(A19<0,A19>-10),-11,IF(AND(A19<0,A19<-9),A19-2,0)))) -> 0 | AO19: =IF(AND(B19>0,B19<10),11,IF(AND(B19>0,B19>9),B19+2,IF(AND(B19<0,B19>-10),-11,IF(AND(B19<0,B19<-9),B19-2,0)))) -> 0 | AP19: =IF(AND(C19>0,C19<10),11,IF(AND(C19>0,C19>9),C19+2,IF(AND(C19<0,C19>-10),-11,IF(AND(C19<0,C19<-9),C19-2,0)))) -> 0 | AQ19: =IF(AND(D19>0,D19<10),11,IF(AND(D19>0,D19>9),D19+2,IF(AND(D19<0,D19>-10),-11,IF(AND(D19<0,D19<-9),D19-2,0)))) -> 0 | AR19: =IF(AND(E19>0,E19<10),11,IF(AND(E19>0,E19>9),E19+2,IF(AND(E19<0,E19>-10),-11,IF(AND(E19<0,E19<-9),E19-2,0)))) -> 0 | AS19: =-A19 -> 0 | AT19: =-B19 -> 0 | AU19: =-C19 -> 0 | AV19: =-D19 -> 0 | AW19: =-E19 -> 0 | BE19: vainqueur | BF19: =' EQUIPE A 4'!$D$2 | BG19: =IF(I3="SuperDiv",IFERROR(IF(' EQUIPE A 4'!L27=1,VLOOKUP(' EQUIPE A 4'!B6&' EQUIPE A 4'!B12,'LISTE JOUEURS'!$P:$U,6,0),VLOOKUP(' EQUIPE A 4'!N6&' EQUIPE A 4'!P12,'LISTE JOUEURS'!$P:$U,6,0)),0),IFERROR(IF(' EQUIPE A 4'!L27=3,VLOOKUP(' EQUIPE A 4'!B6&' EQUIPE A 4'!B12,'LISTE JOUEURS'!$P:$U,6,0),VLOOKUP(' EQUIPE A 4'!N6&' EQUIPE A 4'!P12,'LISTE JOUEURS'!$P:$U,6,0)),0)) -> 0 | BH19: =+_xlfn.XLOOKUP(BG19,'LISTE JOUEURS'!$U:$U,'LISTE JOUEURS'!$Q:$Q)&" "&_xlfn.XLOOKUP(BG19,'LISTE JOUEURS'!$U:$U,'LISTE JOUEURS'!$R:$R) -> #N/A
F20: =C10 | L20: =IF(ISNUMBER(A20),IF(OR(COUNTIF(A20:E20,">=0")>3,COUNTIF(A20:E20,"<0")>3),"XXX",IF((COUNTIF(A20:E20,">=0")-COUNTIF(A20:E20,"<0"))<0,0,IF($I$3="SuperDiv",1,4))),IF(OR(RIGHT(F20,4)="W.O.",A20=-88,A20=-99),0,IF(OR(RIGHT(O20,4)="W.O.",A20=99,A20=88),IF($I$3="SuperDiv",1,4),""))) | M20: A - Y | N20: =IF(AND(ISNUMBER(A20),ISNUMBER(L20)),IF($I$3="SuperDiv",1-L20,4-L20),IF(O20="Forfait W.O.",0,IF(F20="Forfait W.O.",IF($I$3="SuperDiv",1,4),""))) | O20: =+Q11 | U20: =IF(OR(COUNTIF(A20:E20,">=0")>3,COUNTIF(A20:E20,"<0")>3),"Sets mal notés. Refaire la saisie svp",IF(ABS(A20)=99,"Abandon avant le début de la partie",IF(ABS(A20)=88,"Abandon en cours de partie"," "))) | AC20: BARNIER | AD20: Stephane | AE20: 2 | AF20: Licence ok | AI20: =IF(A20>0,1,IF(A20<0,-1,0)) -> 0 | AJ20: =IF(B20>0,1,IF(B20<0,-1,0)) -> 0 | AK20: =IF(C20>0,1,IF(C20<0,-1,0)) -> 0 | AL20: =IF(D20>0,1,IF(D20<0,-1,0)) -> 0 | AM20: =IF(E20>0,1,IF(E20<0,-1,0)) -> 0 | AN20: =IF(AND(A20>0,A20<10),11,IF(AND(A20>0,A20>9),A20+2,IF(AND(A20<0,A20>-10),-11,IF(AND(A20<0,A20<-9),A20-2,0)))) -> 0 | AO20: =IF(AND(B20>0,B20<10),11,IF(AND(B20>0,B20>9),B20+2,IF(AND(B20<0,B20>-10),-11,IF(AND(B20<0,B20<-9),B20-2,0)))) -> 0 | AP20: =IF(AND(C20>0,C20<10),11,IF(AND(C20>0,C20>9),C20+2,IF(AND(C20<0,C20>-10),-11,IF(AND(C20<0,C20<-9),C20-2,0)))) -> 0 | AQ20: =IF(AND(D20>0,D20<10),11,IF(AND(D20>0,D20>9),D20+2,IF(AND(D20<0,D20>-10),-11,IF(AND(D20<0,D20<-9),D20-2,0)))) -> 0 | AR20: =IF(AND(E20>0,E20<10),11,IF(AND(E20>0,E20>9),E20+2,IF(AND(E20<0,E20>-10),-11,IF(AND(E20<0,E20<-9),E20-2,0)))) -> 0 | AS20: =-A20 -> 0 | AT20: =-B20 -> 0 | AU20: =-C20 -> 0 | AV20: =-D20 -> 0 | AW20: =-E20 -> 0 | BE20: perdant | BF20: =' EQUIPE A 4'!$D$2 | BG20: =IFERROR(IF(' EQUIPE A 4'!L27=0,VLOOKUP(' EQUIPE A 4'!B6&' EQUIPE A 4'!B12,'LISTE JOUEURS'!$P:$U,6,0),VLOOKUP(' EQUIPE A 4'!N6&' EQUIPE A 4'!P12,'LISTE JOUEURS'!$P:$U,6,0)),0) -> 0 | BH20: =+_xlfn.XLOOKUP(BG20,'LISTE JOUEURS'!$U:$U,'LISTE JOUEURS'!$Q:$Q)&" "&_xlfn.XLOOKUP(BG20,'LISTE JOUEURS'!$U:$U,'LISTE JOUEURS'!$R:$R) -> #N/A
F21: =IF(OR(F17="Forfait W.O.",F18="Forfait W.O."),B6&" "&F6&" W.O.",B6&" "&F6) | L21: =IF(ISNUMBER(A21),IF(OR(COUNTIF(A21:E21,">=0")>3,COUNTIF(A21:E21,"<0")>3),"XXX",IF((COUNTIF(A21:E21,">=0")-COUNTIF(A21:E21,"<0"))<0,0,IF($I$3="SuperDiv",2,6))),IF(OR(RIGHT(F21,4)="W.O.",A21=-88,A21=-99),0,IF(OR(RIGHT(O21,4)="W.O.",A21=99,A21=88),IF($I$3="SuperDiv",2,6),""))) | M21: DOUBLE A | N21: =IF(AND(ISNUMBER(A21),ISNUMBER(L21)),IF($I$3="SuperDiv",2-L21,6-L21),IF(RIGHT(O21,4)="W.O.",0,IF(RIGHT(F21,4)="W.O.",IF($I$3="SuperDiv",2,6),""))) | O21: =IF(OR(O17="Forfait W.O.",O18="Forfait W.O."),N6&" "&R6&" W.O.",N6&" "&R6) | U21: =IF(OR(COUNTIF(A21:E21,">=0")>3,COUNTIF(A21:E21,"<0")>3),"Sets mal notés. Refaire la saisie svp",IF(ABS(A21)=99,"Abandon avant le début de la partie",IF(ABS(A21)=88,"Abandon en cours de partie"," "))) | AC21: BONNEVIALE | AD21: Dominique | AE21: 3 | AF21: Licence ok | AI21: =IF(A21>0,1,IF(A21<0,-1,0)) -> 0 | AJ21: =IF(B21>0,1,IF(B21<0,-1,0)) -> 0 | AK21: =IF(C21>0,1,IF(C21<0,-1,0)) -> 0 | AL21: =IF(D21>0,1,IF(D21<0,-1,0)) -> 0 | AM21: =IF(E21>0,1,IF(E21<0,-1,0)) -> 0 | AN21: =IF(AND(A21>0,A21<10),11,IF(AND(A21>0,A21>9),A21+2,IF(AND(A21<0,A21>-10),-11,IF(AND(A21<0,A21<-9),A21-2,0)))) -> 0 | AO21: =IF(AND(B21>0,B21<10),11,IF(AND(B21>0,B21>9),B21+2,IF(AND(B21<0,B21>-10),-11,IF(AND(B21<0,B21<-9),B21-2,0)))) -> 0 | AP21: =IF(AND(C21>0,C21<10),11,IF(AND(C21>0,C21>9),C21+2,IF(AND(C21<0,C21>-10),-11,IF(AND(C21<0,C21<-9),C21-2,0)))) -> 0 | AQ21: =IF(AND(D21>0,D21<10),11,IF(AND(D21>0,D21>9),D21+2,IF(AND(D21<0,D21>-10),-11,IF(AND(D21<0,D21<-9),D21-2,0)))) -> 0 | AR21: =IF(AND(E21>0,E21<10),11,IF(AND(E21>0,E21>9),E21+2,IF(AND(E21<0,E21>-10),-11,IF(AND(E21<0,E21<-9),E21-2,0)))) -> 0 | AS21: =-A21 -> 0 | AT21: =-B21 -> 0 | AU21: =-C21 -> 0 | AV21: =-D21 -> 0 | AW21: =-E21 -> 0 | BC21: Division | BD21: SuperDiv | BE21: vainqueur | BF21: =' EQUIPE A 4'!$D$2 | BG21: =IF(I3="SuperDiv",IFERROR(IF(' EQUIPE A 4'!L28=1,VLOOKUP(' EQUIPE A 4'!B6&' EQUIPE A 4'!B13,'LISTE JOUEURS'!$P:$U,6,0),VLOOKUP(' EQUIPE A 4'!N6&' EQUIPE A 4'!P13,'LISTE JOUEURS'!$P:$U,6,0)),0),IFERROR(IF(' EQUIPE A 4'!L28=3,VLOOKUP(' EQUIPE A 4'!B6&' EQUIPE A 4'!B13,'LISTE JOUEURS'!$P:$U,6,0),VLOOKUP(' EQUIPE A 4'!N6&' EQUIPE A 4'!P13,'LISTE JOUEURS'!$P:$U,6,0)),0)) -> 0 | BH21: =+_xlfn.XLOOKUP(BG21,'LISTE JOUEURS'!$U:$U,'LISTE JOUEURS'!$Q:$Q)&" "&_xlfn.XLOOKUP(BG21,'LISTE JOUEURS'!$U:$U,'LISTE JOUEURS'!$R:$R) -> #N/A
AC22: CAUSSANEL | AD22: Christophe | AE22: 4 | AF22: Licence ok | BD22: Div 1 | BE22: perdant | BF22: =' EQUIPE A 4'!$D$2 | BG22: =IFERROR(IF(' EQUIPE A 4'!L28=0,VLOOKUP(' EQUIPE A 4'!B6&' EQUIPE A 4'!B13,'LISTE JOUEURS'!$P:$U,6,0),VLOOKUP(' EQUIPE A 4'!N6&' EQUIPE A 4'!P13,'LISTE JOUEURS'!$P:$U,6,0)),0) -> 0 | BH22: =+_xlfn.XLOOKUP(BG22,'LISTE JOUEURS'!$U:$U,'LISTE JOUEURS'!$Q:$Q)&" "&_xlfn.XLOOKUP(BG22,'LISTE JOUEURS'!$U:$U,'LISTE JOUEURS'!$R:$R) -> #N/A
I23: Total partie A | L23: =SUM(L17:L21) -> 0 | N23: =SUM(N17:N21) -> 0 | P23: =IF(OR(SUM(I10:I13)=0,SUM(X10:X13)=0),"",IF(AZ15=0,"","ATTENTION IL Y A UNE ERREUR DE PLACEMENT DE JOUEUR")) | AC23: CHANG | AD23: Bour | AE23: 5 | AF23: Licence Nok | BD23: Div 2 | BE23: vainqueur | BF23: =' EQUIPE A 4'!$D$2 | BG23: =IF(I3="SuperDiv",IFERROR(IF(' EQUIPE A 4'!L30=1,VLOOKUP(' EQUIPE A 4'!B6&' EQUIPE A 4'!B13,'LISTE JOUEURS'!$P:$U,6,0),VLOOKUP(' EQUIPE A 4'!N6&' EQUIPE A 4'!P12,'LISTE JOUEURS'!$P:$U,6,0)),0),IFERROR(IF(' EQUIPE A 4'!L30=3,VLOOKUP(' EQUIPE A 4'!B6&' EQUIPE A 4'!B13,'LISTE JOUEURS'!$P:$U,6,0),VLOOKUP(' EQUIPE A 4'!N6&' EQUIPE A 4'!P12,'LISTE JOUEURS'!$P:$U,6,0)),0)) -> 0 | BH23: =+_xlfn.XLOOKUP(BG23,'LISTE JOUEURS'!$U:$U,'LISTE JOUEURS'!$Q:$Q)&" "&_xlfn.XLOOKUP(BG23,'LISTE JOUEURS'!$U:$U,'LISTE JOUEURS'!$R:$R) -> #N/A
AD24: Pratsanee | AE24: 6 | AF24: Licence Nok | BD24: Div 3 | BE24: perdant | BF24: =' EQUIPE A 4'!$D$2 | BG24: =IFERROR(IF(' EQUIPE A 4'!L30=0,VLOOKUP(' EQUIPE A 4'!B6&' EQUIPE A 4'!B13,'LISTE JOUEURS'!$P:$U,6,0),VLOOKUP(' EQUIPE A 4'!N6&' EQUIPE A 4'!P12,'LISTE JOUEURS'!$P:$U,6,0)),0) -> 0 | BH24: =+_xlfn.XLOOKUP(BG24,'LISTE JOUEURS'!$U:$U,'LISTE JOUEURS'!$Q:$Q)&" "&_xlfn.XLOOKUP(BG24,'LISTE JOUEURS'!$U:$U,'LISTE JOUEURS'!$R:$R) -> #N/A
J25: PARTIE B (victoire en Simple 3 pts, en double 5 pts / en Super Div victoire en Simple 1pt, en double 2 pts) | AC25: DAUBY | AD25: Jean | AE25: 7 | AF25: Licence Nok | BE25: vainqueur | BF25: =' EQUIPE A 4'!$D$2 | BG25: =IF(I3="SuperDiv",IFERROR(IF(' EQUIPE A 4'!L31=1,VLOOKUP(' EQUIPE A 4'!B6&' EQUIPE A 4'!B12,'LISTE JOUEURS'!$P:$U,6,0),VLOOKUP(' EQUIPE A 4'!N6&' EQUIPE A 4'!P13,'LISTE JOUEURS'!$P:$U,6,0)),0),IFERROR(IF(' EQUIPE A 4'!L31=3,VLOOKUP(' EQUIPE A 4'!B6&' EQUIPE A 4'!B12,'LISTE JOUEURS'!$P:$U,6,0),VLOOKUP(' EQUIPE A 4'!N6&' EQUIPE A 4'!P13,'LISTE JOUEURS'!$P:$U,6,0)),0)) -> 0 | BH25: =+_xlfn.XLOOKUP(BG25,'LISTE JOUEURS'!$U:$U,'LISTE JOUEURS'!$Q:$Q)&" "&_xlfn.XLOOKUP(BG25,'LISTE JOUEURS'!$U:$U,'LISTE JOUEURS'!$R:$R) -> #N/A
A26: Set 1 | B26: Set 2 | C26: Set 3 | D26: Set 4 | E26: Set 5 | F26: =+F16 | L26: C D | N26: Z W | O26: =+O16 | AC26: DENY | AD26: Franck | AE26: 8 | AF26: Licence ok | AI26: SET1 | AJ26: SET2 | AK26: SET3 | AL26: SET4 | AM26: SET5 | AN26: SET1 | AO26: SET2 | AP26: SET3 | AQ26: SET4 | AR26: SET5 | AS26: SET1 | AT26: SET2 | AU26: SET3 | AV26: SET4 | AW26: SET5 | BE26: perdant | BF26: =' EQUIPE A 4'!$D$2 | BG26: =IFERROR(IF(' EQUIPE A 4'!L31=0,VLOOKUP(' EQUIPE A 4'!B6&' EQUIPE A 4'!B12,'LISTE JOUEURS'!$P:$U,6,0),VLOOKUP(' EQUIPE A 4'!N6&' EQUIPE A 4'!P13,'LISTE JOUEURS'!$P:$U,6,0)),0) -> 0 | BH26: =+_xlfn.XLOOKUP(BG26,'LISTE JOUEURS'!$U:$U,'LISTE JOUEURS'!$Q:$Q)&" "&_xlfn.XLOOKUP(BG26,'LISTE JOUEURS'!$U:$U,'LISTE JOUEURS'!$R:$R) -> #N/A
